BEGIN:VCALENDAR
VERSION:2.0
PRODID:-//HepTown - ECPv6.15.20//NONSGML v1.0//EN
CALSCALE:GREGORIAN
METHOD:PUBLISH
X-WR-CALNAME:HepTown
X-ORIGINAL-URL:https://www.heptown.com
X-WR-CALDESC:Events for HepTown
REFRESH-INTERVAL;VALUE=DURATION:PT1H
X-Robots-Tag:noindex
X-PUBLISHED-TTL:PT1H
BEGIN:VTIMEZONE
TZID:Europe/Stockholm
BEGIN:DAYLIGHT
TZOFFSETFROM:+0100
TZOFFSETTO:+0200
TZNAME:CEST
DTSTART:20240331T010000
END:DAYLIGHT
BEGIN:STANDARD
TZOFFSETFROM:+0200
TZOFFSETTO:+0100
TZNAME:CET
DTSTART:20241027T010000
END:STANDARD
BEGIN:DAYLIGHT
TZOFFSETFROM:+0100
TZOFFSETTO:+0200
TZNAME:CEST
DTSTART:20250330T010000
END:DAYLIGHT
BEGIN:STANDARD
TZOFFSETFROM:+0200
TZOFFSETTO:+0100
TZNAME:CET
DTSTART:20251026T010000
END:STANDARD
BEGIN:DAYLIGHT
TZOFFSETFROM:+0100
TZOFFSETTO:+0200
TZNAME:CEST
DTSTART:20260329T010000
END:DAYLIGHT
BEGIN:STANDARD
TZOFFSETFROM:+0200
TZOFFSETTO:+0100
TZNAME:CET
DTSTART:20261025T010000
END:STANDARD
END:VTIMEZONE
BEGIN:VTIMEZONE
TZID:Europe/Paris
BEGIN:DAYLIGHT
TZOFFSETFROM:+0100
TZOFFSETTO:+0200
TZNAME:CEST
DTSTART:20210328T010000
END:DAYLIGHT
BEGIN:STANDARD
TZOFFSETFROM:+0200
TZOFFSETTO:+0100
TZNAME:CET
DTSTART:20211031T010000
END:STANDARD
BEGIN:DAYLIGHT
TZOFFSETFROM:+0100
TZOFFSETTO:+0200
TZNAME:CEST
DTSTART:20220327T010000
END:DAYLIGHT
BEGIN:STANDARD
TZOFFSETFROM:+0200
TZOFFSETTO:+0100
TZNAME:CET
DTSTART:20221030T010000
END:STANDARD
BEGIN:DAYLIGHT
TZOFFSETFROM:+0100
TZOFFSETTO:+0200
TZNAME:CEST
DTSTART:20230326T010000
END:DAYLIGHT
BEGIN:STANDARD
TZOFFSETFROM:+0200
TZOFFSETTO:+0100
TZNAME:CET
DTSTART:20231029T010000
END:STANDARD
BEGIN:DAYLIGHT
TZOFFSETFROM:+0100
TZOFFSETTO:+0200
TZNAME:CEST
DTSTART:20240331T010000
END:DAYLIGHT
BEGIN:STANDARD
TZOFFSETFROM:+0200
TZOFFSETTO:+0100
TZNAME:CET
DTSTART:20241027T010000
END:STANDARD
END:VTIMEZONE
BEGIN:VEVENT
DTSTART;TZID=Europe/Stockholm:20251026T100000
DTEND;TZID=Europe/Stockholm:20251026T120000
DTSTAMP:20260421T002527
CREATED:20251003T154755Z
LAST-MODIFIED:20251003T155145Z
UID:10006418-1761472800-1761480000@www.heptown.com
SUMMARY:Free "Family Swing" Training Session
DESCRIPTION:Join us for a free Family Swing training session! It happens not just this Sunday\, but almost every Sunday from 10:00 to 12:00 at Studiefrämjandet in Malmö. \nThe concept is simple: we all meet up and decide together what to practice. This could include Lindy Hop\, solo jazz\, choreographies\, or anything else you’d like to explore. Maybe even something to perform. \nA great feature of this session is that you are welcome to bring your children. They’ll have plenty of space to play while the rest of us dance. However\, bringing kids is absolutely not required; it’s just a possibility! You also don’t need a partner or need to speak Swedish to attend. \n\nWhen: Sundays 10:00–12:00\nWhere: Studiefrämjandet\, Ystadsgatan 53D\, Malmö\n\nJOIN THE FAMILY SWING FACEBOOK GROUP FOR DETAILS!\nhttps://www.facebook.com/groups/585462066208215 \nSometimes sessions need to be cancelled\, so it is essential to check the Family Swing Facebook group before showing up to confirm the training is on. \nNOTE!\nThis is a private initiative run by a group of dancers. HepTown simply supports it and wants to spread the word. Please direct all questions to the Facebook group.
URL:https://www.heptown.com/calendar/free-family-swing-training-session/
LOCATION:Ystadsgatan 53D\, SE-214 44 Malmö\, Sverige
CATEGORIES:Lindy Hop,Malmö,Öresund
ATTACH;FMTTYPE=image/jpeg:https://www.heptown.com/wp-content/uploads/2025/10/35976_image_557215013_1424341913034634_2945831261079956135_n.jpg
END:VEVENT
BEGIN:VEVENT
DTSTART;TZID=Europe/Paris:20230207T190000
DTEND;TZID=Europe/Paris:20230207T203000
DTSTAMP:20260421T002527
CREATED:20230127T120026Z
LAST-MODIFIED:20230201T095205Z
UID:10002020-1675796400-1675801800@www.heptown.com
SUMMARY:Balboa Circle Malmö practice
DESCRIPTION:Hej! \nTuesday we kickstart our balboa practice at Studiefrämjandet!☺️ \n🗝 This trimester we practice in a room number 308.\n🖍 If you have not attended our practice before\, please send me a pm if you are coming since I will need register your details (❗️you must attend at least 1 out of 3 first balboa practices to become a member). \nJoin the Balboa Circle group here to stay up to date about the weekly practices https://www.facebook.com/groups/1272164439919485 \nShuffle Shuffle! 🎶
URL:https://www.heptown.com/calendar/balboa-circle-malmo-practice-9/
LOCATION:Ystadsgatan 53D\, SE-214 44 Malmö\, Sverige
CATEGORIES:Balboa,Öresund
ATTACH;FMTTYPE=image/jpeg:https://www.heptown.com/wp-content/uploads/2023/01/30091_image_326023505_1659474657814820_9143091969804685044_n.jpg
END:VEVENT
BEGIN:VEVENT
DTSTART;TZID=Europe/Paris:20230131T190000
DTEND;TZID=Europe/Paris:20230131T203000
DTSTAMP:20260421T002527
CREATED:20230127T120035Z
LAST-MODIFIED:20230130T101740Z
UID:10002024-1675191600-1675197000@www.heptown.com
SUMMARY:Balboa Circle Malmö practice
DESCRIPTION:Hej! \nTuesday we kickstart our balboa practice at Studiefrämjandet!☺️ \n🗝 This trimester we practice in a room number 308.\n🖍 If you have not attended our practice before\, please send me a pm if you are coming since I will need register your details (❗️you must attend at least 1 out of 3 first balboa practices to become a member). \nJoin the Balboa Circle group here to stay up to date about the weekly practices https://www.facebook.com/groups/1272164439919485 \nShuffle Shuffle! 🎶
URL:https://www.heptown.com/calendar/balboa-circle-malmo-practice-10/
LOCATION:Ystadsgatan 53D\, SE-214 44 Malmö\, Sverige
CATEGORIES:Balboa,Öresund
ATTACH;FMTTYPE=image/jpeg:https://www.heptown.com/wp-content/uploads/2023/01/30103_image_325961434_453411193525915_7310922272842850146_n.jpg
END:VEVENT
BEGIN:VEVENT
DTSTART;TZID=Europe/Paris:20230131T190000
DTEND;TZID=Europe/Paris:20230131T203000
DTSTAMP:20260421T002527
CREATED:20230125T150558Z
LAST-MODIFIED:20230127T121541Z
UID:10005749-1675191600-1675197000@www.heptown.com
SUMMARY:Balboa Circle Malmö practice
DESCRIPTION:Hej! \nTuesday we kickstart our balboa practice at Studiefrämjandet!☺️ \n🗝 This trimester we practice in a room number 308.\n🖍 If you have not attended our practice before\, please send me a pm if you are coming since I will need register your details (❗️you must attend at least 1 out of 3 first balboa practices to become a member). \nJoin the Balboa Circle group here to stay up to date about the weekly practices https://www.facebook.com/groups/1272164439919485 \nShuffle Shuffle! 🎶
URL:https://www.heptown.com/calendar/balboa-circle-malmo-practice-8/
LOCATION:Ystadsgatan 53D\, SE-214 44 Malmö\, Sverige
CATEGORIES:Balboa,Öresund
ATTACH;FMTTYPE=image/jpeg:https://www.heptown.com/wp-content/uploads/2023/01/30032_image_325961434_453411193525915_7310922272842850146_n.jpg
END:VEVENT
BEGIN:VEVENT
DTSTART;TZID=Europe/Paris:20230117T190000
DTEND;TZID=Europe/Paris:20230117T203000
DTSTAMP:20260421T002527
CREATED:20230117T174317Z
LAST-MODIFIED:20230127T121543Z
UID:10005745-1673982000-1673987400@www.heptown.com
SUMMARY:Balboa Circle Malmö practice
DESCRIPTION:Hej! \nTuesday we kickstart our balboa practice at Studiefrämjandet!☺️ \n🗝 This trimester we practice in a room number 308.\n🖍 If you have not attended our practice before\, please send me a pm if you are coming since I will need register your details (❗️you must attend at least 1 out of 3 first balboa practices to become a member). \nJoin the Balboa Circle group here to stay up to date about the weekly practices https://www.facebook.com/groups/1272164439919485 \nShuffle Shuffle! 🎶
URL:https://www.heptown.com/calendar/balboa-circle-malmo-practice-6/
LOCATION:Ystadsgatan 53D\, SE-214 44 Malmö\, Sverige
CATEGORIES:Balboa,Malmö,Öresund
ATTACH;FMTTYPE=image/jpeg:https://www.heptown.com/wp-content/uploads/2023/01/29977_image_325419897_716108513492488_1625156054921074994_n.jpg
END:VEVENT
BEGIN:VEVENT
DTSTART;TZID=Europe/Paris:20221218T181500
DTEND;TZID=Europe/Paris:20221218T194500
DTSTAMP:20260421T002527
CREATED:20221125T133055Z
LAST-MODIFIED:20230127T121546Z
UID:10005724-1671387300-1671392700@www.heptown.com
SUMMARY:Balboa Circle Malmö practice
DESCRIPTION:Hej!\nThis is our last balboa circle practice before this year so lets make it more festive! 🎊 \nFor coming 3 weeks Studiefrämjandet will have a winter break. \n🗝 This trimester we practice for 1\,5hrs in a room number 307 (upstairs).\n🖍 If you have not attended our practice before\, please send me a pm if you are coming since I will need register your details (❗️you must attend at least 1 out of 3 first balboa practices to become a member). \nJoin the Balboa Circle group here to stay up to date about the weekly practices https://www.facebook.com/groups/1272164439919485 \nShuffle Shuffle! 🎶
URL:https://www.heptown.com/calendar/balboa-circle-malmo-practice-3/
LOCATION:Ystadsgatan 53D\, SE-214 44 Malmö\, Sverige
CATEGORIES:Balboa,Malmö,Öresund
ATTACH;FMTTYPE=image/jpeg:https://www.heptown.com/wp-content/uploads/2022/11/29463_image_317077550_10230142531855282_2824224067196939727_n.jpg
END:VEVENT
BEGIN:VEVENT
DTSTART;TZID=Europe/Paris:20221211T181500
DTEND;TZID=Europe/Paris:20221211T194500
DTSTAMP:20260421T002527
CREATED:20221125T133103Z
LAST-MODIFIED:20230127T121546Z
UID:10005727-1670782500-1670787900@www.heptown.com
SUMMARY:Balboa Circle Malmö practice
DESCRIPTION:Hej 💥\nJoin our weekly Balboa practice at Studiefrämjandet! 💃🕺. \n🗝 This trimester we practice for 1\,5hrs in a room number 307 (upstairs).\n🖍 If you have not attended our practice before\, please send me a pm if you are coming since I will need register your details (❗️you must attend at least 1 out of 3 first balboa practices to become a member). \nJoin the Balboa Circle group here to stay up to date about the weekly practices https://www.facebook.com/groups/1272164439919485 \nShuffle Shuffle! 🎶
URL:https://www.heptown.com/calendar/balboa-circle-malmo-practice-4/
LOCATION:Ystadsgatan 53D\, SE-214 44 Malmö\, Sverige
CATEGORIES:Balboa,Malmö,Öresund
ATTACH;FMTTYPE=image/jpeg:https://www.heptown.com/wp-content/uploads/2022/11/29469_image_316954714_10230142516294893_1791856310234026295_n.jpg
END:VEVENT
BEGIN:VEVENT
DTSTART;TZID=Europe/Paris:20221204T181500
DTEND;TZID=Europe/Paris:20221204T194500
DTSTAMP:20260421T002527
CREATED:20221125T133108Z
LAST-MODIFIED:20230127T121545Z
UID:10005726-1670177700-1670183100@www.heptown.com
SUMMARY:Balboa Circle Malmö practice
DESCRIPTION:Hej 💥\nJoin our weekly Balboa practice at Studiefrämjandet! 💃🕺. \n🗝 This trimester we practice for 1\,5hrs in a room number 307 (upstairs).\n🖍 If you have not attended our practice before\, please send me a pm if you are coming since I will need register your details (❗️you must attend at least 1 out of 3 first balboa practices to become a member). \nJoin the Balboa Circle group here to stay up to date about the weekly practices https://www.facebook.com/groups/1272164439919485 \nShuffle Shuffle! 🎶
URL:https://www.heptown.com/calendar/balboa-circle-malmo-practice-5/
LOCATION:Ystadsgatan 53D\, SE-214 44 Malmö\, Sverige
CATEGORIES:Balboa,Malmö,Öresund
ATTACH;FMTTYPE=image/jpeg:https://www.heptown.com/wp-content/uploads/2022/11/29474_image_317081163_10230142512974810_8279311322861396465_n.jpg
END:VEVENT
BEGIN:VEVENT
DTSTART;TZID=Europe/Paris:20221127T181500
DTEND;TZID=Europe/Paris:20221127T194500
DTSTAMP:20260421T002527
CREATED:20221121T102419Z
LAST-MODIFIED:20230127T121548Z
UID:10005110-1669572900-1669578300@www.heptown.com
SUMMARY:Balboa Circle Malmö practice
DESCRIPTION:Hej 💥\nJoin our weekly Balboa practice at Studiefrämjandet! 💃🕺. \n🗝 This trimester we practice for 1\,5hrs in a room number 307 (upstairs).\n🖍 If you have not attended our practice before\, please send me a pm if you are coming since I will need register your details (❗️you must attend at least 1 out of 3 first balboa practices to become a member). \nJoin the Balboa Circle group here to stay up to date about the weekly practices https://www.facebook.com/groups/1272164439919485 \nShuffle Shuffle! 🎶
URL:https://www.heptown.com/calendar/balboa-circle-malmo-practice-2/
LOCATION:Ystadsgatan 53D\, SE-214 44 Malmö\, Sverige
CATEGORIES:Balboa,Malmö,Öresund
ATTACH;FMTTYPE=image/jpeg:https://www.heptown.com/wp-content/uploads/2022/11/29326_image_315878550_10230108666888679_789751767707663547_n.jpg
END:VEVENT
END:VCALENDAR