BEGIN:VCALENDAR
VERSION:2.0
PRODID:-//HepTown - ECPv6.15.20//NONSGML v1.0//EN
CALSCALE:GREGORIAN
METHOD:PUBLISH
X-WR-CALNAME:HepTown
X-ORIGINAL-URL:https://www.heptown.com
X-WR-CALDESC:Events for HepTown
REFRESH-INTERVAL;VALUE=DURATION:PT1H
X-Robots-Tag:noindex
X-PUBLISHED-TTL:PT1H
BEGIN:VTIMEZONE
TZID:Europe/Stockholm
BEGIN:DAYLIGHT
TZOFFSETFROM:+0100
TZOFFSETTO:+0200
TZNAME:CEST
DTSTART:20210328T010000
END:DAYLIGHT
BEGIN:STANDARD
TZOFFSETFROM:+0200
TZOFFSETTO:+0100
TZNAME:CET
DTSTART:20211031T010000
END:STANDARD
BEGIN:DAYLIGHT
TZOFFSETFROM:+0100
TZOFFSETTO:+0200
TZNAME:CEST
DTSTART:20220327T010000
END:DAYLIGHT
BEGIN:STANDARD
TZOFFSETFROM:+0200
TZOFFSETTO:+0100
TZNAME:CET
DTSTART:20221030T010000
END:STANDARD
BEGIN:DAYLIGHT
TZOFFSETFROM:+0100
TZOFFSETTO:+0200
TZNAME:CEST
DTSTART:20230326T010000
END:DAYLIGHT
BEGIN:STANDARD
TZOFFSETFROM:+0200
TZOFFSETTO:+0100
TZNAME:CET
DTSTART:20231029T010000
END:STANDARD
END:VTIMEZONE
BEGIN:VEVENT
DTSTART;TZID=Europe/Stockholm:20220324T173000
DTEND;TZID=Europe/Stockholm:20220324T191000
DTSTAMP:20260423T143926
CREATED:20220324T151334Z
LAST-MODIFIED:20220324T151334Z
UID:10005628-1648143000-1648149000@www.heptown.com
SUMMARY:Balboa Circle Malmö practice
DESCRIPTION:Hej\, \nCome join Balboa Circle practice at Studiefrämjandet this Thursday! 💃🕺 \n🗝 This trimester we will have a smaller hall (but hey we don’t need much space for Balboa 🙂 and it’s room number 307 (upstairs).\n🖍 If you have not attended our practice before\, please send me a pm if you are coming since I will need register your details.\n🖍 We will finish no later than 19:10 so we can have time to change before the other group takes over (at 19:15). \nJoin the Balboa Circle group here to stay up to date about the weekly practices https://www.facebook.com/groups/1272164439919485 \nShuffle Shuffle! 🎶
URL:https://www.heptown.com/calendar/balboa-circle-malmo-practice/
LOCATION:Ystadsgatan 53C\, SE-214 44 Malmö\, Sverige
CATEGORIES:Öresund
ATTACH;FMTTYPE=image/jpeg:https://www.heptown.com/wp-content/uploads/2022/03/25116_image_276201419_10228477480230032_3054058933956188328_n.jpg
END:VEVENT
END:VCALENDAR