BEGIN:VCALENDAR
VERSION:2.0
PRODID:-//HepTown - ECPv6.15.20//NONSGML v1.0//EN
CALSCALE:GREGORIAN
METHOD:PUBLISH
X-WR-CALNAME:HepTown
X-ORIGINAL-URL:https://www.heptown.com
X-WR-CALDESC:Events for HepTown
REFRESH-INTERVAL;VALUE=DURATION:PT1H
X-Robots-Tag:noindex
X-PUBLISHED-TTL:PT1H
BEGIN:VTIMEZONE
TZID:Europe/Helsinki
BEGIN:DAYLIGHT
TZOFFSETFROM:+0200
TZOFFSETTO:+0300
TZNAME:EEST
DTSTART:20160327T010000
END:DAYLIGHT
BEGIN:STANDARD
TZOFFSETFROM:+0300
TZOFFSETTO:+0200
TZNAME:EET
DTSTART:20161030T010000
END:STANDARD
BEGIN:DAYLIGHT
TZOFFSETFROM:+0200
TZOFFSETTO:+0300
TZNAME:EEST
DTSTART:20170326T010000
END:DAYLIGHT
BEGIN:STANDARD
TZOFFSETFROM:+0300
TZOFFSETTO:+0200
TZNAME:EET
DTSTART:20171029T010000
END:STANDARD
BEGIN:DAYLIGHT
TZOFFSETFROM:+0200
TZOFFSETTO:+0300
TZNAME:EEST
DTSTART:20180325T010000
END:DAYLIGHT
BEGIN:STANDARD
TZOFFSETFROM:+0300
TZOFFSETTO:+0200
TZNAME:EET
DTSTART:20181028T010000
END:STANDARD
END:VTIMEZONE
BEGIN:VTIMEZONE
TZID:Europe/Stockholm
BEGIN:DAYLIGHT
TZOFFSETFROM:+0100
TZOFFSETTO:+0200
TZNAME:CEST
DTSTART:20160327T010000
END:DAYLIGHT
BEGIN:STANDARD
TZOFFSETFROM:+0200
TZOFFSETTO:+0100
TZNAME:CET
DTSTART:20161030T010000
END:STANDARD
BEGIN:DAYLIGHT
TZOFFSETFROM:+0100
TZOFFSETTO:+0200
TZNAME:CEST
DTSTART:20170326T010000
END:DAYLIGHT
BEGIN:STANDARD
TZOFFSETFROM:+0200
TZOFFSETTO:+0100
TZNAME:CET
DTSTART:20171029T010000
END:STANDARD
BEGIN:DAYLIGHT
TZOFFSETFROM:+0100
TZOFFSETTO:+0200
TZNAME:CEST
DTSTART:20180325T010000
END:DAYLIGHT
BEGIN:STANDARD
TZOFFSETFROM:+0200
TZOFFSETTO:+0100
TZNAME:CET
DTSTART:20181028T010000
END:STANDARD
END:VTIMEZONE
BEGIN:VEVENT
DTSTART;TZID=Europe/Helsinki:20170428T190000
DTEND;TZID=Europe/Helsinki:20170430T210000
DTSTAMP:20260420T195123
CREATED:20170105T123431Z
LAST-MODIFIED:20170105T130304Z
UID:10004008-1493406000-1493586000@www.heptown.com
SUMMARY:Minor Swing 2017
DESCRIPTION:West Coast Jitterbugs proudly presents Minor Swing 2017\, Gothenburg’s annual Balboa Workshop. \nThe 2017 edition will continue the concept of a themed workshop\, and this year’s theme will be “For the Love of Social Dancing”! \nBalboa teachers\nWe have carefully selected instructors from around the globe who in different ways are especially focused on social dancing\, or have a unique and interesting way of approaching it. We hope you will be as thrilled about this theme as we the organizers and the instructors themselves already are. \nLauren Smith & Peter Flahiff\nShani Brown & Nick Williams\nSanna Leinonen & Adam LaMontagne \nLive music\nWe are also extremely happy to invite Andreas Hofschneider Quintett back this year for the Saturday night party. They were a huge success when they played in Gothenburg for the first time last year! \nOn Sunday night the lovely Swing Tarturo will play for us. \nRegistration\nRegistration will open 1st of February at 6pm. Four levels of Full-workshop-passes as well as Party-passes will be available. \nMore information\nYou will find more detailed information at www.minorswing.se\, where more and more information will be added continuously. \nWelcome!
URL:https://www.heptown.com/calendar/minor-swing-2017/
LOCATION:West Coast Jitterbugs House\, Doktor Fries torg 7\, Gothenburg\, 413 23\, Sweden
ATTACH;FMTTYPE=image/jpeg:https://www.heptown.com/wp-content/uploads/2017/01/feef52a6104d6b442fed4a9d717286c8.jpg
GEO:57.6833625;11.9712339
X-APPLE-STRUCTURED-LOCATION;VALUE=URI;X-ADDRESS=West Coast Jitterbugs House Doktor Fries torg 7 Gothenburg 413 23 Sweden;X-APPLE-RADIUS=500;X-TITLE=Doktor Fries torg 7:geo:11.9712339,57.6833625
END:VEVENT
BEGIN:VEVENT
DTSTART;TZID=Europe/Stockholm:20170217T180000
DTEND;TZID=Europe/Stockholm:20170219T200000
DTSTAMP:20260420T195123
CREATED:20170105T123429Z
LAST-MODIFIED:20170105T125037Z
UID:10004216-1487354400-1487534400@www.heptown.com
SUMMARY:Authentic Jazz Weekend 2017
DESCRIPTION:Välkomna till andra upplagan av WCJ:s Authentic Jazz Weekend (AJW)! \nHelgen kommer att erbjuda tasters med Felix Berghäll på fredagskvällen\, fest på lördagskvällen med livebandet Gentlemen & Gangsters\, och som avslut en mysig tedans på söndagen. \nKurserna kommer att vara indelade i fyra olika nivåer – alla är välkomna oavsett erfarenhet! Samtliga nivåer kommer att ha totalt sex timmars kurs under lördagen och söndagen (varav minst en timme med Felix Berghäll). \nOBS! Du som inte är från Göteborg/WCJ är givetvis välkommen\, men då detta främst är en föreningsaktivitet som riktar sig till medlemmar kommer det automatiskt krävas ett medlemskap på 250 kr för att ta del av helgen. \nAnmälan öppnar söndagen den 18/12 kl 12.00 och då är det först till kvarn som gäller! \nMer information om helgens upplägg\, kurserna och priser finns på vår hemsida: http://www.wcj.se/ajw \nVarmt välkomna!
URL:https://www.heptown.com/calendar/authentic-jazz-weekend-2017/
LOCATION:West Coast Jitterbugs House\, Doktor Fries torg 7\, Gothenburg\, 413 23\, Sweden
ATTACH;FMTTYPE=image/jpeg:https://www.heptown.com/wp-content/uploads/2017/01/7ec53cdc4651b704bf4fefb7c0e128b2.jpg
GEO:57.6833625;11.9712339
X-APPLE-STRUCTURED-LOCATION;VALUE=URI;X-ADDRESS=West Coast Jitterbugs House Doktor Fries torg 7 Gothenburg 413 23 Sweden;X-APPLE-RADIUS=500;X-TITLE=Doktor Fries torg 7:geo:11.9712339,57.6833625
END:VEVENT
END:VCALENDAR