BEGIN:VCALENDAR
VERSION:2.0
PRODID:-//HepTown - ECPv6.15.20//NONSGML v1.0//EN
CALSCALE:GREGORIAN
METHOD:PUBLISH
X-WR-CALNAME:HepTown
X-ORIGINAL-URL:https://www.heptown.com
X-WR-CALDESC:Events for HepTown
REFRESH-INTERVAL;VALUE=DURATION:PT1H
X-Robots-Tag:noindex
X-PUBLISHED-TTL:PT1H
BEGIN:VTIMEZONE
TZID:Europe/Stockholm
BEGIN:DAYLIGHT
TZOFFSETFROM:+0100
TZOFFSETTO:+0200
TZNAME:CEST
DTSTART:20180325T010000
END:DAYLIGHT
BEGIN:STANDARD
TZOFFSETFROM:+0200
TZOFFSETTO:+0100
TZNAME:CET
DTSTART:20181028T010000
END:STANDARD
BEGIN:DAYLIGHT
TZOFFSETFROM:+0100
TZOFFSETTO:+0200
TZNAME:CEST
DTSTART:20190331T010000
END:DAYLIGHT
BEGIN:STANDARD
TZOFFSETFROM:+0200
TZOFFSETTO:+0100
TZNAME:CET
DTSTART:20191027T010000
END:STANDARD
BEGIN:DAYLIGHT
TZOFFSETFROM:+0100
TZOFFSETTO:+0200
TZNAME:CEST
DTSTART:20200329T010000
END:DAYLIGHT
BEGIN:STANDARD
TZOFFSETFROM:+0200
TZOFFSETTO:+0100
TZNAME:CET
DTSTART:20201025T010000
END:STANDARD
END:VTIMEZONE
BEGIN:VEVENT
DTSTART;TZID=Europe/Stockholm:20191012T140000
DTEND;TZID=Europe/Stockholm:20191013T160000
DTSTAMP:20260420T215233
CREATED:20190903T085324Z
LAST-MODIFIED:20191008T085332Z
UID:10005287-1570888800-1570982400@www.heptown.com
SUMMARY:Workshop: Autumn Blues with Ruth & Mike
DESCRIPTION:Registration for the autumn blues workshop in Copenhagen with Ruth & Mike is open!\nThis is going to be a cosy and inspiring experience with some of our favourite teachers from the US.\nGet your ticket here https://billetto.dk/e/workshop-autumn-blues-with-ruth-mike-billetter-380527 \nTime: Saturday 12th October 14.00 to 18.00 and Sunday 13th October 14.00 to 16.00\nPrice: 550 DKK \nThere will be lovely live blues music to social dance to Saturday evening. Big Creek Slim is playing in Valby\, see separate event. If you have a ticket for the workshop we’ve set you up with a discount. \nWhat’s that? You’re an advanced dancer\, looking to improve your skills? Well\, let’s add another 2 hours on the Sunday from 12 to 2pm with some more advanced stuff. Information about this smaller class will be communicated seperately – if you haven’t got the information and feel like you should have\, have a chat with Helene about it. She can help with advice about the level of the class.
URL:https://www.heptown.com/calendar/workshop-autumn-blues-with-ruth-mike/
LOCATION:Vesterbro Kulturhus\, Lyrskovgade 4\, Copenhagen\, 1758\, DK
ATTACH;FMTTYPE=image/jpeg:https://www.heptown.com/wp-content/uploads/2019/09/14283_image_69183350_2091851074456587_7000639075770171392_o.jpg
GEO:55.6683669;12.5415408
X-APPLE-STRUCTURED-LOCATION;VALUE=URI;X-ADDRESS=Vesterbro Kulturhus Lyrskovgade 4 Copenhagen 1758 DK;X-APPLE-RADIUS=500;X-TITLE=Lyrskovgade 4:geo:12.5415408,55.6683669
END:VEVENT
BEGIN:VEVENT
DTSTART;TZID=Europe/Stockholm:20190706T120000
DTEND;TZID=Europe/Stockholm:20190706T140000
DTSTAMP:20260420T215233
CREATED:20190612T112348Z
LAST-MODIFIED:20190705T151510Z
UID:10005127-1562414400-1562421600@www.heptown.com
SUMMARY:SwingShoes Extra Practice
DESCRIPTION:(English Below)\n-Driller variationerne fra undervisningen?\n-Har du brug for lidt flere trin i benene?\n-Kan du ikke helt nørde nok til socialdans? \nHvor og hvornår?\nHvor: Haraldsalen på 3. sal i Vesterbro Kulturhus\, Lyrskovgade 4\, 1758 København V (se kort)\nHvornår: Hver lørdag 12:00 – 14:00 \nHvad er Ekstratræning?\nHvis du har brug for at træne trinene mere end til den almindelige undervisning\, kan det også lade sig gøre. Det kalder vi Ekstratræning og det foregår normalt uden underviser. SwingShoes stiller lokaler til rådighed\, så er der rig mulighed for at danse mere. \nEr der hjælp?\nJa. Der er normalt ikke underviser til stede\, men så hjælper vi hinanden på tværs af hold og niveauer. Bare spørg. \nEkstratræning med ..\nTo gange om måneden gør vi lidt ekstra. Her kan du enten møde en underviser eller en elev fra vores højere niveauer\, som vil stå til rådighed for spørgsmål\, tips\, tricks med mere. Hold øje med kalenderen https://www.swingshoes.dk/kalender-swingarrangementer for datoer.\n……………………………………………………………………………………………….\n-Having problems with the variations from your class?\n-Are you in need of more dance?\n-Can’t you quite nerd enough at social dancing? \nWhere and when?\nWhere: Haraldsalen on the 3rd floor Vesterbro Kulturhus\, Lyrskovgade 4\, 1758 København V\nWhen: Every Saturday 12:00 – 14:00 \nWhat is Extra Practice?\nIf you need to practice the steps more than the regular lessons\, it can also be done. This is what we call Extra training and it usually happens without a teacher. SwingShoes makes rooms available\, so there is plenty of opportunity to dance more. \nIs there help?\nYes. There is usually no teacher present\, but then we help each other across teams and levels. Just ask. \nExtra training with ..\nTwice a month we do a little extra. Here you can either meet a teacher or a student from our higher levels who will be available for questions\, tips\, tricks and more. Keep an eye on the calendar https://www.swingshoes.dk/kalender-swingarrangementer for dates.
URL:https://www.heptown.com/calendar/swingshoes-extra-practice/
LOCATION:Vesterbro Kulturhus\, Lyrskovgade 4\, Copenhagen\, 1758\, DK
CATEGORIES:Copenhagen,Lindy Hop,Öresund,Social Dance
ATTACH;FMTTYPE=image/jpeg:https://www.heptown.com/wp-content/uploads/2019/06/12458_image_60483099_2177784572291260_2414140815740764160_n-6.jpg
GEO:55.6683669;12.5415408
X-APPLE-STRUCTURED-LOCATION;VALUE=URI;X-ADDRESS=Vesterbro Kulturhus Lyrskovgade 4 Copenhagen 1758 DK;X-APPLE-RADIUS=500;X-TITLE=Lyrskovgade 4:geo:12.5415408,55.6683669
END:VEVENT
BEGIN:VEVENT
DTSTART;TZID=Europe/Stockholm:20190629T120000
DTEND;TZID=Europe/Stockholm:20190629T140000
DTSTAMP:20260420T215233
CREATED:20190612T112350Z
LAST-MODIFIED:20190628T151627Z
UID:10005130-1561809600-1561816800@www.heptown.com
SUMMARY:SwingShoes Extra Practice
DESCRIPTION:(English Below)\n-Driller variationerne fra undervisningen?\n-Har du brug for lidt flere trin i benene?\n-Kan du ikke helt nørde nok til socialdans? \nHvor og hvornår?\nHvor: Haraldsalen på 3. sal i Vesterbro Kulturhus\, Lyrskovgade 4\, 1758 København V (se kort)\nHvornår: Hver lørdag 12:00 – 14:00 \nHvad er Ekstratræning?\nHvis du har brug for at træne trinene mere end til den almindelige undervisning\, kan det også lade sig gøre. Det kalder vi Ekstratræning og det foregår normalt uden underviser. SwingShoes stiller lokaler til rådighed\, så er der rig mulighed for at danse mere. \nEr der hjælp?\nJa. Der er normalt ikke underviser til stede\, men så hjælper vi hinanden på tværs af hold og niveauer. Bare spørg. \nEkstratræning med ..\nTo gange om måneden gør vi lidt ekstra. Her kan du enten møde en underviser eller en elev fra vores højere niveauer\, som vil stå til rådighed for spørgsmål\, tips\, tricks med mere. Hold øje med kalenderen https://www.swingshoes.dk/kalender-swingarrangementer for datoer.\n……………………………………………………………………………………………….\n-Having problems with the variations from your class?\n-Are you in need of more dance?\n-Can’t you quite nerd enough at social dancing? \nWhere and when?\nWhere: Haraldsalen on the 3rd floor Vesterbro Kulturhus\, Lyrskovgade 4\, 1758 København V\nWhen: Every Saturday 12:00 – 14:00 \nWhat is Extra Practice?\nIf you need to practice the steps more than the regular lessons\, it can also be done. This is what we call Extra training and it usually happens without a teacher. SwingShoes makes rooms available\, so there is plenty of opportunity to dance more. \nIs there help?\nYes. There is usually no teacher present\, but then we help each other across teams and levels. Just ask. \nExtra training with ..\nTwice a month we do a little extra. Here you can either meet a teacher or a student from our higher levels who will be available for questions\, tips\, tricks and more. Keep an eye on the calendar https://www.swingshoes.dk/kalender-swingarrangementer for dates.
URL:https://www.heptown.com/calendar/swingshoes-extra-practice-2/
LOCATION:Vesterbro Kulturhus\, Lyrskovgade 4\, Copenhagen\, 1758\, DK
CATEGORIES:Copenhagen,Lindy Hop,Öresund,Social Dance
ATTACH;FMTTYPE=image/jpeg:https://www.heptown.com/wp-content/uploads/2019/06/12458_image_60483099_2177784572291260_2414140815740764160_n-4.jpg
GEO:55.6683669;12.5415408
X-APPLE-STRUCTURED-LOCATION;VALUE=URI;X-ADDRESS=Vesterbro Kulturhus Lyrskovgade 4 Copenhagen 1758 DK;X-APPLE-RADIUS=500;X-TITLE=Lyrskovgade 4:geo:12.5415408,55.6683669
END:VEVENT
BEGIN:VEVENT
DTSTART;TZID=Europe/Stockholm:20190622T120000
DTEND;TZID=Europe/Stockholm:20190622T140000
DTSTAMP:20260420T215233
CREATED:20190612T112350Z
LAST-MODIFIED:20190621T151440Z
UID:10005133-1561204800-1561212000@www.heptown.com
SUMMARY:SwingShoes Extra Practice
DESCRIPTION:(English Below)\n-Driller variationerne fra undervisningen?\n-Har du brug for lidt flere trin i benene?\n-Kan du ikke helt nørde nok til socialdans? \nHvor og hvornår?\nHvor: Haraldsalen på 3. sal i Vesterbro Kulturhus\, Lyrskovgade 4\, 1758 København V (se kort)\nHvornår: Hver lørdag 12:00 – 14:00 \nHvad er Ekstratræning?\nHvis du har brug for at træne trinene mere end til den almindelige undervisning\, kan det også lade sig gøre. Det kalder vi Ekstratræning og det foregår normalt uden underviser. SwingShoes stiller lokaler til rådighed\, så er der rig mulighed for at danse mere. \nEr der hjælp?\nJa. Der er normalt ikke underviser til stede\, men så hjælper vi hinanden på tværs af hold og niveauer. Bare spørg. \nEkstratræning med ..\nTo gange om måneden gør vi lidt ekstra. Her kan du enten møde en underviser eller en elev fra vores højere niveauer\, som vil stå til rådighed for spørgsmål\, tips\, tricks med mere. Hold øje med kalenderen https://www.swingshoes.dk/kalender-swingarrangementer for datoer.\n……………………………………………………………………………………………….\n-Having problems with the variations from your class?\n-Are you in need of more dance?\n-Can’t you quite nerd enough at social dancing? \nWhere and when?\nWhere: Haraldsalen on the 3rd floor Vesterbro Kulturhus\, Lyrskovgade 4\, 1758 København V\nWhen: Every Saturday 12:00 – 14:00 \nWhat is Extra Practice?\nIf you need to practice the steps more than the regular lessons\, it can also be done. This is what we call Extra training and it usually happens without a teacher. SwingShoes makes rooms available\, so there is plenty of opportunity to dance more. \nIs there help?\nYes. There is usually no teacher present\, but then we help each other across teams and levels. Just ask. \nExtra training with ..\nTwice a month we do a little extra. Here you can either meet a teacher or a student from our higher levels who will be available for questions\, tips\, tricks and more. Keep an eye on the calendar https://www.swingshoes.dk/kalender-swingarrangementer for dates.
URL:https://www.heptown.com/calendar/swingshoes-extra-practice-3/
LOCATION:Vesterbro Kulturhus\, Lyrskovgade 4\, Copenhagen\, 1758\, DK
CATEGORIES:Copenhagen,Lindy Hop,Öresund,Social Dance
ATTACH;FMTTYPE=image/jpeg:https://www.heptown.com/wp-content/uploads/2019/06/12458_image_60483099_2177784572291260_2414140815740764160_n-1.jpg
GEO:55.6683669;12.5415408
X-APPLE-STRUCTURED-LOCATION;VALUE=URI;X-ADDRESS=Vesterbro Kulturhus Lyrskovgade 4 Copenhagen 1758 DK;X-APPLE-RADIUS=500;X-TITLE=Lyrskovgade 4:geo:12.5415408,55.6683669
END:VEVENT
BEGIN:VEVENT
DTSTART;TZID=Europe/Stockholm:20190615T120000
DTEND;TZID=Europe/Stockholm:20190615T140000
DTSTAMP:20260420T215233
CREATED:20190612T112350Z
LAST-MODIFIED:20190614T151558Z
UID:10005136-1560600000-1560607200@www.heptown.com
SUMMARY:SwingShoes Extra Practice
DESCRIPTION:(English Below)\n-Driller variationerne fra undervisningen?\n-Har du brug for lidt flere trin i benene?\n-Kan du ikke helt nørde nok til socialdans? \nHvor og hvornår?\nHvor: Haraldsalen på 3. sal i Vesterbro Kulturhus\, Lyrskovgade 4\, 1758 København V (se kort)\nHvornår: Hver lørdag 12:00 – 14:00 \nHvad er Ekstratræning?\nHvis du har brug for at træne trinene mere end til den almindelige undervisning\, kan det også lade sig gøre. Det kalder vi Ekstratræning og det foregår normalt uden underviser. SwingShoes stiller lokaler til rådighed\, så er der rig mulighed for at danse mere. \nEr der hjælp?\nJa. Der er normalt ikke underviser til stede\, men så hjælper vi hinanden på tværs af hold og niveauer. Bare spørg. \nEkstratræning med ..\nTo gange om måneden gør vi lidt ekstra. Her kan du enten møde en underviser eller en elev fra vores højere niveauer\, som vil stå til rådighed for spørgsmål\, tips\, tricks med mere. Hold øje med kalenderen https://www.swingshoes.dk/kalender-swingarrangementer for datoer.\n……………………………………………………………………………………………….\n-Having problems with the variations from your class?\n-Are you in need of more dance?\n-Can’t you quite nerd enough at social dancing? \nWhere and when?\nWhere: Haraldsalen on the 3rd floor Vesterbro Kulturhus\, Lyrskovgade 4\, 1758 København V\nWhen: Every Saturday 12:00 – 14:00 \nWhat is Extra Practice?\nIf you need to practice the steps more than the regular lessons\, it can also be done. This is what we call Extra training and it usually happens without a teacher. SwingShoes makes rooms available\, so there is plenty of opportunity to dance more. \nIs there help?\nYes. There is usually no teacher present\, but then we help each other across teams and levels. Just ask. \nExtra training with ..\nTwice a month we do a little extra. Here you can either meet a teacher or a student from our higher levels who will be available for questions\, tips\, tricks and more. Keep an eye on the calendar https://www.swingshoes.dk/kalender-swingarrangementer for dates.
URL:https://www.heptown.com/calendar/swingshoes-extra-practice-4/
LOCATION:Vesterbro Kulturhus\, Lyrskovgade 4\, Copenhagen\, 1758\, DK
CATEGORIES:Copenhagen,Lindy Hop,Öresund,Social Dance
ATTACH;FMTTYPE=image/jpeg:https://www.heptown.com/wp-content/uploads/2019/06/12458_image_60483099_2177784572291260_2414140815740764160_n.jpg
GEO:55.6683669;12.5415408
X-APPLE-STRUCTURED-LOCATION;VALUE=URI;X-ADDRESS=Vesterbro Kulturhus Lyrskovgade 4 Copenhagen 1758 DK;X-APPLE-RADIUS=500;X-TITLE=Lyrskovgade 4:geo:12.5415408,55.6683669
END:VEVENT
END:VCALENDAR