BEGIN:VCALENDAR
VERSION:2.0
PRODID:-//HepTown - ECPv6.15.20//NONSGML v1.0//EN
CALSCALE:GREGORIAN
METHOD:PUBLISH
X-ORIGINAL-URL:https://www.heptown.com
X-WR-CALDESC:Events for HepTown
REFRESH-INTERVAL;VALUE=DURATION:PT1H
X-Robots-Tag:noindex
X-PUBLISHED-TTL:PT1H
BEGIN:VTIMEZONE
TZID:Europe/Stockholm
BEGIN:DAYLIGHT
TZOFFSETFROM:+0100
TZOFFSETTO:+0200
TZNAME:CEST
DTSTART:20210328T010000
END:DAYLIGHT
BEGIN:STANDARD
TZOFFSETFROM:+0200
TZOFFSETTO:+0100
TZNAME:CET
DTSTART:20211031T010000
END:STANDARD
BEGIN:DAYLIGHT
TZOFFSETFROM:+0100
TZOFFSETTO:+0200
TZNAME:CEST
DTSTART:20220327T010000
END:DAYLIGHT
BEGIN:STANDARD
TZOFFSETFROM:+0200
TZOFFSETTO:+0100
TZNAME:CET
DTSTART:20221030T010000
END:STANDARD
BEGIN:DAYLIGHT
TZOFFSETFROM:+0100
TZOFFSETTO:+0200
TZNAME:CEST
DTSTART:20230326T010000
END:DAYLIGHT
BEGIN:STANDARD
TZOFFSETFROM:+0200
TZOFFSETTO:+0100
TZNAME:CET
DTSTART:20231029T010000
END:STANDARD
END:VTIMEZONE
BEGIN:VEVENT
DTSTART;TZID=Europe/Stockholm:20220701T150000
DTEND;TZID=Europe/Stockholm:20220701T164500
DTSTAMP:20260419T235213
CREATED:20220627T100713Z
LAST-MODIFIED:20220630T151331Z
UID:10005045-1656687600-1656693900@www.heptown.com
SUMMARY:Swing it på Hx!
DESCRIPTION:Swing it med swingdans!\nVi bjuder upp till en härligt svängig socialdans under bar himmel på bryggan. Kom och dansa lindy hop med oss! \nVad är Lindy hop?\nLindy hop är en pardans som föddes i Harlem\, New York under 1920- och 1930-talet på hemmafester och gator. I Sverige fick swingdansen sin stora återupplivning under 80-talet och sedan dess har vi hämtat inspiration från legender som Norma Miller\, Frankie Manning och Al Minns. Idag dansas lindy hop världen över till svängig swing- och jazzmusik. Det är en energifylld och rolig dans med rörelser som kan vara både tokiga och sensuella. Ett fantastiskt sätt att träffa nya människor på\, och en dans som passar såväl gammal som ung. \nÄr du sugen på att lära dig dansa lindyhop i Helsingborg?\nGå med i gruppen för uppdateringar & senaste info: @Swing Dance in Helsingborg
URL:https://www.heptown.com/calendar/swing-it-pa-hx/
LOCATION:Trädäcket på Kajpromenaden\, Norra hamnen Helsingborg
CATEGORIES:Öresund
ATTACH;FMTTYPE=image/jpeg:https://www.heptown.com/wp-content/uploads/2022/06/25984_image_289701899_10158875285144109_7301020038439098004_n.jpg
END:VEVENT
END:VCALENDAR