BEGIN:VCALENDAR
VERSION:2.0
PRODID:-//HepTown - ECPv6.15.20//NONSGML v1.0//EN
CALSCALE:GREGORIAN
METHOD:PUBLISH
X-ORIGINAL-URL:https://www.heptown.com
X-WR-CALDESC:Events for HepTown
REFRESH-INTERVAL;VALUE=DURATION:PT1H
X-Robots-Tag:noindex
X-PUBLISHED-TTL:PT1H
BEGIN:VTIMEZONE
TZID:Europe/Stockholm
BEGIN:DAYLIGHT
TZOFFSETFROM:+0100
TZOFFSETTO:+0200
TZNAME:CEST
DTSTART:20180325T010000
END:DAYLIGHT
BEGIN:STANDARD
TZOFFSETFROM:+0200
TZOFFSETTO:+0100
TZNAME:CET
DTSTART:20181028T010000
END:STANDARD
BEGIN:DAYLIGHT
TZOFFSETFROM:+0100
TZOFFSETTO:+0200
TZNAME:CEST
DTSTART:20190331T010000
END:DAYLIGHT
BEGIN:STANDARD
TZOFFSETFROM:+0200
TZOFFSETTO:+0100
TZNAME:CET
DTSTART:20191027T010000
END:STANDARD
BEGIN:DAYLIGHT
TZOFFSETFROM:+0100
TZOFFSETTO:+0200
TZNAME:CEST
DTSTART:20200329T010000
END:DAYLIGHT
BEGIN:STANDARD
TZOFFSETFROM:+0200
TZOFFSETTO:+0100
TZNAME:CET
DTSTART:20201025T010000
END:STANDARD
END:VTIMEZONE
BEGIN:VEVENT
DTSTART;TZID=Europe/Stockholm:20190621T170000
DTEND;TZID=Europe/Stockholm:20190623T235500
DTSTAMP:20260421T012902
CREATED:20190521T085252Z
LAST-MODIFIED:20190618T085352Z
UID:10005016-1561136400-1561334100@www.heptown.com
SUMMARY:Fast Swing Fling
DESCRIPTION:Fast Swing Fling is the first event in a series of three\, focusing on Ladies who Lead\, better known as #LeadingLadies. This event will offer a wide array of fast swing dances\, to cater to new dancers and experienced dancers alike. All classes will be open-role\, which means that you don’t have to sign up as a lead or follow\, but just show up to the class you fancy. Some of the teachers run their classes in ELEF (Everybody Leads\, Everybody Follows) style\, some prefer to have you pick a role at the beginning of the class and stick with it throughout the class. \nEveryone is welcome to join\, regardless of dance ability and gender\, and the event will have a Code of Conduct to ensure that everyone feels safe over the weekend. \nTeachers:\nAnna & Johanna (GER)\nAlena & Davido (GER)\nChott & Niomi (DK/UK) \nDance styles on offer:\nBalboa\nCollegiate Shag\nSt. Louis Shag\n20’s Charleston\nOne-step \nParties:\nFriday Night: HFS Party – LIVE MUSIC! Norbert Susemihl’s Joyful Gumbo Quartet\nhttps://www.facebook.com/events/202357337334609/\n130 DKK on the door\, or get a Party Pass or Full Pass for the weekend \nSaturday Night: Fast Swing Fling Party – Toolbox Orchestra (GER) at HFS\nhttps://www.facebook.com/events/324474548243144/\n150 DKK on the door or get a Party Pass or Full Pass for the weekend \nSunday Afternoon/evening: Outdoor dancing at Dansepladsen in Fælledparken\nhttps://www.facebook.com/events/2675865669153585/\nFree\, bring your own food \nCompetition:\nMix & Switch Saturday night with a lovely price for the winners! <3 \nProgramme for the weekend:\nTBA \nPrices:\nPrices:\nFull weekend (Including two nights of live music) – 900 DKK\nSingle day of class\, no parties                               – 550 DKK\nParty Pass (two nights of live music)                     – 250 DKK \nRegistation Opens 1st May 8pm CEST
URL:https://www.heptown.com/calendar/fast-swing-fling/
LOCATION:Top Spot Cph\, Borups Allé 209\, Copenhagen\, 2400\, DK
ATTACH;FMTTYPE=image/jpeg:https://www.heptown.com/wp-content/uploads/2019/05/11794_image_60096325_371847523431983_1522015776955957248_o.jpg
GEO:55.698799;12.5226616
X-APPLE-STRUCTURED-LOCATION;VALUE=URI;X-ADDRESS=Top Spot Cph Borups Allé 209 Copenhagen 2400 DK;X-APPLE-RADIUS=500;X-TITLE=Borups Allé 209:geo:12.5226616,55.698799
END:VEVENT
END:VCALENDAR