BEGIN:VCALENDAR
VERSION:2.0
PRODID:-//HepTown - ECPv6.15.20//NONSGML v1.0//EN
CALSCALE:GREGORIAN
METHOD:PUBLISH
X-ORIGINAL-URL:https://www.heptown.com
X-WR-CALDESC:Events for HepTown
REFRESH-INTERVAL;VALUE=DURATION:PT1H
X-Robots-Tag:noindex
X-PUBLISHED-TTL:PT1H
BEGIN:VTIMEZONE
TZID:Europe/Stockholm
BEGIN:DAYLIGHT
TZOFFSETFROM:+0100
TZOFFSETTO:+0200
TZNAME:CEST
DTSTART:20210328T010000
END:DAYLIGHT
BEGIN:STANDARD
TZOFFSETFROM:+0200
TZOFFSETTO:+0100
TZNAME:CET
DTSTART:20211031T010000
END:STANDARD
BEGIN:DAYLIGHT
TZOFFSETFROM:+0100
TZOFFSETTO:+0200
TZNAME:CEST
DTSTART:20220327T010000
END:DAYLIGHT
BEGIN:STANDARD
TZOFFSETFROM:+0200
TZOFFSETTO:+0100
TZNAME:CET
DTSTART:20221030T010000
END:STANDARD
BEGIN:DAYLIGHT
TZOFFSETFROM:+0100
TZOFFSETTO:+0200
TZNAME:CEST
DTSTART:20230326T010000
END:DAYLIGHT
BEGIN:STANDARD
TZOFFSETFROM:+0200
TZOFFSETTO:+0100
TZNAME:CET
DTSTART:20231029T010000
END:STANDARD
END:VTIMEZONE
BEGIN:VEVENT
DTSTART;TZID=Europe/Stockholm:20220806T180000
DTEND;TZID=Europe/Stockholm:20220806T235500
DTSTAMP:20260421T050442
CREATED:20220628T084941Z
LAST-MODIFIED:20220714T151330Z
UID:10005650-1659808800-1659830100@www.heptown.com
SUMMARY:Sommer dans på Frederiksberg
DESCRIPTION:Tag lidt mad med så spiser vi og danser hele aften 🍳💃\nThorbjørn og jeg søger for service te kaffe og musik 😊\nHilsen Thorbjørn og Lars
URL:https://www.heptown.com/calendar/sommer-dans-pa-frederiksberg/
LOCATION:Thorvaldsensvej 26\, 1871 Frederiksberg C\, Danmark
CATEGORIES:Öresund
ATTACH;FMTTYPE=image/jpeg:https://www.heptown.com/wp-content/uploads/2022/06/26010_image_284259592_5198982083556836_4038269888964995306_n.jpg
END:VEVENT
END:VCALENDAR