BEGIN:VCALENDAR
VERSION:2.0
PRODID:-//HepTown - ECPv6.15.20//NONSGML v1.0//EN
CALSCALE:GREGORIAN
METHOD:PUBLISH
X-WR-CALNAME:HepTown
X-ORIGINAL-URL:https://www.heptown.com
X-WR-CALDESC:Events for HepTown
REFRESH-INTERVAL;VALUE=DURATION:PT1H
X-Robots-Tag:noindex
X-PUBLISHED-TTL:PT1H
BEGIN:VTIMEZONE
TZID:Europe/Paris
BEGIN:DAYLIGHT
TZOFFSETFROM:+0100
TZOFFSETTO:+0200
TZNAME:CEST
DTSTART:20160327T010000
END:DAYLIGHT
BEGIN:STANDARD
TZOFFSETFROM:+0200
TZOFFSETTO:+0100
TZNAME:CET
DTSTART:20161030T010000
END:STANDARD
BEGIN:DAYLIGHT
TZOFFSETFROM:+0100
TZOFFSETTO:+0200
TZNAME:CEST
DTSTART:20170326T010000
END:DAYLIGHT
BEGIN:STANDARD
TZOFFSETFROM:+0200
TZOFFSETTO:+0100
TZNAME:CET
DTSTART:20171029T010000
END:STANDARD
BEGIN:DAYLIGHT
TZOFFSETFROM:+0100
TZOFFSETTO:+0200
TZNAME:CEST
DTSTART:20180325T010000
END:DAYLIGHT
BEGIN:STANDARD
TZOFFSETFROM:+0200
TZOFFSETTO:+0100
TZNAME:CET
DTSTART:20181028T010000
END:STANDARD
END:VTIMEZONE
BEGIN:VEVENT
DTSTART;TZID=Europe/Paris:20171228T190000
DTEND;TZID=Europe/Paris:20171228T220000
DTSTAMP:20260420T235632
CREATED:20171228T163205Z
LAST-MODIFIED:20171228T163205Z
UID:10004586-1514487600-1514498400@www.heptown.com
SUMMARY:Blues Dancing - Social Dance
DESCRIPTION:Christmas and family has been taking our time and we are soon entering a new year.\nTonight is all about having a good time together\, in our last social dance of 2017.\nNo drop-in class\, just dancing\, hanging out\, sharing wishes for the new (blues)year to come. \nPrice: The social dance is free\, but we do encourage you to buy a membership to support The Lighthouse:\nhttps://app.moonclerk.com/pay/31opaix18pkd \nCome dance and bring your friends!
URL:https://www.heptown.com/calendar/blues-dancing-social-dance/
LOCATION:The Lighthouse\, Pasteursvej 8\, Copenhagen\, 1778\, Denmark
CATEGORIES:Öresund
GEO:55.6660358;12.5327798
X-APPLE-STRUCTURED-LOCATION;VALUE=URI;X-ADDRESS=The Lighthouse Pasteursvej 8 Copenhagen 1778 Denmark;X-APPLE-RADIUS=500;X-TITLE=Pasteursvej 8:geo:12.5327798,55.6660358
END:VEVENT
END:VCALENDAR