BEGIN:VCALENDAR
VERSION:2.0
PRODID:-//HepTown - ECPv6.15.20//NONSGML v1.0//EN
CALSCALE:GREGORIAN
METHOD:PUBLISH
X-WR-CALNAME:HepTown
X-ORIGINAL-URL:https://www.heptown.com
X-WR-CALDESC:Events for HepTown
REFRESH-INTERVAL;VALUE=DURATION:PT1H
X-Robots-Tag:noindex
X-PUBLISHED-TTL:PT1H
BEGIN:VTIMEZONE
TZID:Europe/Stockholm
BEGIN:DAYLIGHT
TZOFFSETFROM:+0100
TZOFFSETTO:+0200
TZNAME:CEST
DTSTART:20210328T010000
END:DAYLIGHT
BEGIN:STANDARD
TZOFFSETFROM:+0200
TZOFFSETTO:+0100
TZNAME:CET
DTSTART:20211031T010000
END:STANDARD
BEGIN:DAYLIGHT
TZOFFSETFROM:+0100
TZOFFSETTO:+0200
TZNAME:CEST
DTSTART:20220327T010000
END:DAYLIGHT
BEGIN:STANDARD
TZOFFSETFROM:+0200
TZOFFSETTO:+0100
TZNAME:CET
DTSTART:20221030T010000
END:STANDARD
BEGIN:DAYLIGHT
TZOFFSETFROM:+0100
TZOFFSETTO:+0200
TZNAME:CEST
DTSTART:20230326T010000
END:DAYLIGHT
BEGIN:STANDARD
TZOFFSETFROM:+0200
TZOFFSETTO:+0100
TZNAME:CET
DTSTART:20231029T010000
END:STANDARD
END:VTIMEZONE
BEGIN:VEVENT
DTSTART;TZID=Europe/Stockholm:20221001T100000
DTEND;TZID=Europe/Stockholm:20221002T180000
DTSTAMP:20260420T143210
CREATED:20220926T092351Z
LAST-MODIFIED:20220930T122734Z
UID:10005700-1664618400-1664733600@www.heptown.com
SUMMARY:Skye and Frida in Copenhagen
DESCRIPTION:Straight to website: https://sfcw22.dancecamps.org/booking.php \nWe are really looking forward to being back in Copenhagen and offering a Skye and Frida Weekend! \nWe miss old friends and dancing in Denmark and we were last planning to come in March 2020. Obviously Covid closed everything just before we came\, so planning a return trip feels like a wonderful pandemic milestone. \nTracks:\nSolo Jazz or Lindy Hop (if you are craving a challenge you are welcome to try both) \nLevel:\nIntermediate advanced and higher \nCost:\nEach track costs 700 DKK (includes 6% VAT.) Please write us if you would prefer to pay in Swedish Kronor. \nSchedule:\nSaturday October 1st \n10.15-13.30 Jazz \n13.30-14.30 lunch \n14.30-17.45 Lindy Hop \nSunday October 2nd \n10.15-13.30 Jazz \n13.30-14.30 lunch \n14.30-17.45 Lindy Hop \nRegistration includes entrance to a dance on Saturday night with live music organized by Hepcats. \nThanks for stopping by\, \nHope to see you in October! \nSkye & Frida \nREGISTRATION IS CURRENTLY CLOSED FOR FOLLOWERS- PLEASE WRITE US AT SWINGFRIDA@GMAIL.COM TO BE ADDED TO A WAITING LIST
URL:https://www.heptown.com/calendar/skye-and-frida-in-copenhagen/
LOCATION:Tangobar\, Njalsgade 23 D\, Copenhagen\, 2300\, DK
CATEGORIES:Öresund
ATTACH;FMTTYPE=image/jpeg:https://www.heptown.com/wp-content/uploads/2022/09/27485_image_305079867_10166765787725710_4805933466145223849_n-2.jpg
END:VEVENT
END:VCALENDAR