BEGIN:VCALENDAR
VERSION:2.0
PRODID:-//HepTown - ECPv6.15.20//NONSGML v1.0//EN
CALSCALE:GREGORIAN
METHOD:PUBLISH
X-WR-CALNAME:HepTown
X-ORIGINAL-URL:https://www.heptown.com
X-WR-CALDESC:Events for HepTown
REFRESH-INTERVAL;VALUE=DURATION:PT1H
X-Robots-Tag:noindex
X-PUBLISHED-TTL:PT1H
BEGIN:VTIMEZONE
TZID:Europe/Stockholm
BEGIN:DAYLIGHT
TZOFFSETFROM:+0100
TZOFFSETTO:+0200
TZNAME:CEST
DTSTART:20190331T010000
END:DAYLIGHT
BEGIN:STANDARD
TZOFFSETFROM:+0200
TZOFFSETTO:+0100
TZNAME:CET
DTSTART:20191027T010000
END:STANDARD
BEGIN:DAYLIGHT
TZOFFSETFROM:+0100
TZOFFSETTO:+0200
TZNAME:CEST
DTSTART:20200329T010000
END:DAYLIGHT
BEGIN:STANDARD
TZOFFSETFROM:+0200
TZOFFSETTO:+0100
TZNAME:CET
DTSTART:20201025T010000
END:STANDARD
BEGIN:DAYLIGHT
TZOFFSETFROM:+0100
TZOFFSETTO:+0200
TZNAME:CEST
DTSTART:20210328T010000
END:DAYLIGHT
BEGIN:STANDARD
TZOFFSETFROM:+0200
TZOFFSETTO:+0100
TZNAME:CET
DTSTART:20211031T010000
END:STANDARD
END:VTIMEZONE
BEGIN:VEVENT
DTSTART;TZID=Europe/Stockholm:20200118T200000
DTEND;TZID=Europe/Stockholm:20200120T220000
DTSTAMP:20260421T064448
CREATED:20190611T155914Z
LAST-MODIFIED:20200114T085308Z
UID:10005120-1579377600-1579557600@www.heptown.com
SUMMARY:Let Loose 2020
DESCRIPTION:We’re back for the second edition of Let Loose in Copenhagen. \nWe are happy to present a weekend where all students will have classes in both Lindy Hop and Authentic Jazz with some of the best teachers around. \nTeachers:\nHanna & Mattias Lundmark\nMimmi Gunnarsson Bringlöv & Fredrik Dahlberg\nFatima Teffahi \nWe are aiming for: \n\nA workshop where we will stay connected to the roots of Lindy Hop\, its improvisational character and its relationship with swing jazz. \nAn atmosphere where you can be challenged\, let loose and discover new things about yourself as a dancer\, also in relation to music and rhythm. A cozy event\, small enough to get to dance with everyone.\nA weekend filled with good live music from some of the best swing musicians in Copenhagen as well as some great swing DJ’s.
URL:https://www.heptown.com/calendar/let-loose-2020/
LOCATION:Tangobar.dk/\, 23D Njals Gade\, Amagerbro\, 2300\, DK
CATEGORIES:Copenhagen,International Swing Dance Event,Lindy Hop,Öresund,Social Dance
ATTACH;FMTTYPE=image/jpeg:https://www.heptown.com/wp-content/uploads/2019/06/12396_image_62246677_460287427849280_870289979102724096_o.jpg
GEO:55.6661531;12.5817742
X-APPLE-STRUCTURED-LOCATION;VALUE=URI;X-ADDRESS=Tangobar.dk/ 23D Njals Gade Amagerbro 2300 DK;X-APPLE-RADIUS=500;X-TITLE=23D Njals Gade:geo:12.5817742,55.6661531
END:VEVENT
END:VCALENDAR