BEGIN:VCALENDAR
VERSION:2.0
PRODID:-//HepTown - ECPv6.15.20//NONSGML v1.0//EN
CALSCALE:GREGORIAN
METHOD:PUBLISH
X-WR-CALNAME:HepTown
X-ORIGINAL-URL:https://www.heptown.com
X-WR-CALDESC:Events for HepTown
REFRESH-INTERVAL;VALUE=DURATION:PT1H
X-Robots-Tag:noindex
X-PUBLISHED-TTL:PT1H
BEGIN:VTIMEZONE
TZID:Europe/Stockholm
BEGIN:DAYLIGHT
TZOFFSETFROM:+0100
TZOFFSETTO:+0200
TZNAME:CEST
DTSTART:20180325T010000
END:DAYLIGHT
BEGIN:STANDARD
TZOFFSETFROM:+0200
TZOFFSETTO:+0100
TZNAME:CET
DTSTART:20181028T010000
END:STANDARD
BEGIN:DAYLIGHT
TZOFFSETFROM:+0100
TZOFFSETTO:+0200
TZNAME:CEST
DTSTART:20190331T010000
END:DAYLIGHT
BEGIN:STANDARD
TZOFFSETFROM:+0200
TZOFFSETTO:+0100
TZNAME:CET
DTSTART:20191027T010000
END:STANDARD
BEGIN:DAYLIGHT
TZOFFSETFROM:+0100
TZOFFSETTO:+0200
TZNAME:CEST
DTSTART:20200329T010000
END:DAYLIGHT
BEGIN:STANDARD
TZOFFSETFROM:+0200
TZOFFSETTO:+0100
TZNAME:CET
DTSTART:20201025T010000
END:STANDARD
END:VTIMEZONE
BEGIN:VEVENT
DTSTART;TZID=Europe/Stockholm:20190825T183000
DTEND;TZID=Europe/Stockholm:20190825T183000
DTSTAMP:20260422T125215
CREATED:20190824T121319Z
LAST-MODIFIED:20210705T094702Z
UID:10005276-1566757800-1566757800@www.heptown.com
SUMMARY:Still summer! Let’s dance on the beach once more :)
DESCRIPTION:Summer decide to show up once more and what better way to honour it than dancing in to the sunset? The Location is at Ribban\, the wooden floor next to T-Bryggan. \nJust to be clear\, we will be dancing to swing jazz music. With that said\, any dance interpretation is of course allowed 🙂 \nWater is still warm(isch) so if you feel like\, bring your swim clothes!
URL:https://www.heptown.com/calendar/still-summer-lets-dance-on-the-beach/
LOCATION:T-Bryggan\, Ribersborgsstigen\, Malmö\, SE
CATEGORIES:Cats' Corner,Lindy Hop,Malmö,Öresund,Social Dance
ATTACH;FMTTYPE=image/jpeg:https://www.heptown.com/wp-content/uploads/2019/08/14017_image_68862846_10157407316614361_3724186788269391872_o.jpg
GEO:55.5996108;12.9579696
X-APPLE-STRUCTURED-LOCATION;VALUE=URI;X-ADDRESS=T-Bryggan Ribersborgsstigen Malmö SE;X-APPLE-RADIUS=500;X-TITLE=Ribersborgsstigen:geo:12.9579696,55.5996108
END:VEVENT
END:VCALENDAR