BEGIN:VCALENDAR
VERSION:2.0
PRODID:-//HepTown - ECPv6.15.20//NONSGML v1.0//EN
CALSCALE:GREGORIAN
METHOD:PUBLISH
X-ORIGINAL-URL:https://www.heptown.com
X-WR-CALDESC:Events for HepTown
REFRESH-INTERVAL;VALUE=DURATION:PT1H
X-Robots-Tag:noindex
X-PUBLISHED-TTL:PT1H
BEGIN:VTIMEZONE
TZID:Europe/Stockholm
BEGIN:DAYLIGHT
TZOFFSETFROM:+0100
TZOFFSETTO:+0200
TZNAME:CEST
DTSTART:20190331T010000
END:DAYLIGHT
BEGIN:STANDARD
TZOFFSETFROM:+0200
TZOFFSETTO:+0100
TZNAME:CET
DTSTART:20191027T010000
END:STANDARD
BEGIN:DAYLIGHT
TZOFFSETFROM:+0100
TZOFFSETTO:+0200
TZNAME:CEST
DTSTART:20200329T010000
END:DAYLIGHT
BEGIN:STANDARD
TZOFFSETFROM:+0200
TZOFFSETTO:+0100
TZNAME:CET
DTSTART:20201025T010000
END:STANDARD
BEGIN:DAYLIGHT
TZOFFSETFROM:+0100
TZOFFSETTO:+0200
TZNAME:CEST
DTSTART:20210328T010000
END:DAYLIGHT
BEGIN:STANDARD
TZOFFSETFROM:+0200
TZOFFSETTO:+0100
TZNAME:CET
DTSTART:20211031T010000
END:STANDARD
END:VTIMEZONE
BEGIN:VEVENT
DTSTART;TZID=Europe/Stockholm:20200404T200000
DTEND;TZID=Europe/Stockholm:20200404T203000
DTSTAMP:20260421T101604
CREATED:20200331T211658Z
LAST-MODIFIED:20200406T155335Z
UID:10005468-1586030400-1586032200@www.heptown.com
SUMMARY:Online livemusic with The Swing Street Orchestra
DESCRIPTION:Our last concert this spring have just been cancelled and since we’re still healthy and eager to play we decided to try out this fancy new 20´s thing called streaming. If everything goes according to plan we’re broadcasting live from Swing Street\, somewhere in the middle of Skåne. Join us online and dance for a while or just listen\, wherever you are.  \nLink to watch and listen to us will be posted within the next couple of days. \nIf you want to put a little something in the Hat you are more then welcome to do so by swish- 0733305890 \nLinaMaria Bengtsson -vocals\nJerry Segerberg – vocals\, percussion\nJens Lindström – bass\nNick Christie – guitar\nErik Ask-Upmark – piano\nAnna Rynefors – violin
URL:https://www.heptown.com/calendar/online-livemusic-with-the-swing-street-orchestra/
LOCATION:Swing Street\, Norra parkgatan 2\, Malmö\, 21422\, SE
CATEGORIES:Big event,HepTown,Öresund,Streamed swing dance events
ATTACH;FMTTYPE=image/jpeg:https://www.heptown.com/wp-content/uploads/2020/03/18986_image_91204816_3368044023210420_2286660392484601856_n.jpg
GEO:55.5931602;13.0141662
X-APPLE-STRUCTURED-LOCATION;VALUE=URI;X-ADDRESS=Swing Street Norra parkgatan 2 Malmö 21422 SE;X-APPLE-RADIUS=500;X-TITLE=Norra parkgatan 2:geo:13.0141662,55.5931602
END:VEVENT
END:VCALENDAR