BEGIN:VCALENDAR
VERSION:2.0
PRODID:-//HepTown - ECPv6.15.20//NONSGML v1.0//EN
CALSCALE:GREGORIAN
METHOD:PUBLISH
X-WR-CALNAME:HepTown
X-ORIGINAL-URL:https://www.heptown.com
X-WR-CALDESC:Events for HepTown
REFRESH-INTERVAL;VALUE=DURATION:PT1H
X-Robots-Tag:noindex
X-PUBLISHED-TTL:PT1H
BEGIN:VTIMEZONE
TZID:UTC
BEGIN:STANDARD
TZOFFSETFROM:+0000
TZOFFSETTO:+0000
TZNAME:UTC
DTSTART:20170101T000000
END:STANDARD
END:VTIMEZONE
BEGIN:VTIMEZONE
TZID:Europe/Paris
BEGIN:DAYLIGHT
TZOFFSETFROM:+0100
TZOFFSETTO:+0200
TZNAME:CEST
DTSTART:20170326T010000
END:DAYLIGHT
BEGIN:STANDARD
TZOFFSETFROM:+0200
TZOFFSETTO:+0100
TZNAME:CET
DTSTART:20171029T010000
END:STANDARD
BEGIN:DAYLIGHT
TZOFFSETFROM:+0100
TZOFFSETTO:+0200
TZNAME:CEST
DTSTART:20180325T010000
END:DAYLIGHT
BEGIN:STANDARD
TZOFFSETFROM:+0200
TZOFFSETTO:+0100
TZNAME:CET
DTSTART:20181028T010000
END:STANDARD
BEGIN:DAYLIGHT
TZOFFSETFROM:+0100
TZOFFSETTO:+0200
TZNAME:CEST
DTSTART:20190331T010000
END:DAYLIGHT
BEGIN:STANDARD
TZOFFSETFROM:+0200
TZOFFSETTO:+0100
TZNAME:CET
DTSTART:20191027T010000
END:STANDARD
END:VTIMEZONE
BEGIN:VEVENT
DTSTART;TZID=UTC:20181216T171500
DTEND;TZID=UTC:20181216T193000
DTSTAMP:20260423T183735
CREATED:20180904T110420Z
LAST-MODIFIED:20180904T110420Z
UID:10004336-1544980500-1544988600@www.heptown.com
SUMMARY:Train Hop 16/12-18 Terminens sista!
DESCRIPTION:Train Hop is a weekly training event for swing dancers in Malmö. Bring a partner if you need one\, or come prepared with things to work on by yourself. We all try to help one another\, but you are responsible for your own practice. \nIt is not a social dance or a class – but you also don’t need to be doing super serious hardcore practicing. Goofy dancing\, lazy stretching\, and sitting down and talking is completely allowed. Beginners are especially welcome ♥ \nAsk for lindy hop in the reception if you don’t know where to go. The event is for free\, but remember send your name and personnummer to Emma Johansson  – Studiefrämjandet needs it to get government funding for all the amazing stuff they do. \n———————————————————————————— \nLike planning? Our fall schedule is Sundays 18.15-20.30 in room 307 at Studiefrämjandet in Malmö. \nThe times and room may change\, so make sure to keep an eye on facebook events and don’t be afraid to ask Emma Johansson or Anna Ludl (admins) if you have any questions. \nhttps://www.facebook.com/events/289113808548685/
URL:https://www.heptown.com/calendar/train-hop-16-12-18-terminens-sista/
LOCATION:Studiefrämjandet Musik/Kultur Malmö\, Ystadsgatan 53\, Malmö\, Sweden
GEO:55.5883397;13.0214833
X-APPLE-STRUCTURED-LOCATION;VALUE=URI;X-ADDRESS=Studiefrämjandet Musik/Kultur Malmö Ystadsgatan 53 Malmö Sweden;X-APPLE-RADIUS=500;X-TITLE=Ystadsgatan 53:geo:13.0214833,55.5883397
END:VEVENT
BEGIN:VEVENT
DTSTART;TZID=Europe/Paris:20180114T181500
DTEND;TZID=Europe/Paris:20180114T213000
DTSTAMP:20260423T183736
CREATED:20180105T165303Z
LAST-MODIFIED:20180114T193450Z
UID:10004226-1515953700-1515965400@www.heptown.com
SUMMARY:Train Hop 14/1 - 18
DESCRIPTION:Information\nTrain Hop is a weekly training event for swing dancers in Malmö. Bring a partner if you need one\, or come prepared with things to work on by yourself. We all try to help one another\, but you are responsible for your own practice. \nIt is not a social dance or a class – but you also don’t need to be doing super serious hardcore practicing. Goofy dancing\, lazy stretching\, and sitting down and talking is completely allowed. Beginners are especially welcome ♥ \nAsk for lindy hop in the reception if you don’t know where to go. The event is for free\, but remember to write your name\, personnummer and address\, etc\, on the attendance list – Studiefrämjandet needs it to get government funding for all the amazing stuff they do. \n\nLike planning? Our spring schedule is Sundays 18.15-20.30 in room 307 at Studiefrämjandet in Malmö. \nThe times and room may change\, so make sure to keep an eye on facebook events and don’t be afraid to ask Daniel Adler or Anna Ludl (admins) if you have any questions.
URL:https://www.heptown.com/calendar/train-hop-14-1-17/
LOCATION:Studiefrämjandet Musik/Kultur Malmö\, Ystadsgatan 53\, Malmö\, Sweden
CATEGORIES:Malmö,Öresund
ATTACH;FMTTYPE=image/jpeg:https://www.heptown.com/wp-content/uploads/2018/01/a15174ae63d948d55e97b954ac5c9718.jpg
GEO:55.5883397;13.0214833
X-APPLE-STRUCTURED-LOCATION;VALUE=URI;X-ADDRESS=Studiefrämjandet Musik/Kultur Malmö Ystadsgatan 53 Malmö Sweden;X-APPLE-RADIUS=500;X-TITLE=Ystadsgatan 53:geo:13.0214833,55.5883397
END:VEVENT
END:VCALENDAR