BEGIN:VCALENDAR
VERSION:2.0
PRODID:-//HepTown - ECPv6.15.20//NONSGML v1.0//EN
CALSCALE:GREGORIAN
METHOD:PUBLISH
X-WR-CALNAME:HepTown
X-ORIGINAL-URL:https://www.heptown.com
X-WR-CALDESC:Events for HepTown
REFRESH-INTERVAL;VALUE=DURATION:PT1H
X-Robots-Tag:noindex
X-PUBLISHED-TTL:PT1H
BEGIN:VTIMEZONE
TZID:Europe/Helsinki
BEGIN:DAYLIGHT
TZOFFSETFROM:+0200
TZOFFSETTO:+0300
TZNAME:EEST
DTSTART:20170326T010000
END:DAYLIGHT
BEGIN:STANDARD
TZOFFSETFROM:+0300
TZOFFSETTO:+0200
TZNAME:EET
DTSTART:20171029T010000
END:STANDARD
BEGIN:DAYLIGHT
TZOFFSETFROM:+0200
TZOFFSETTO:+0300
TZNAME:EEST
DTSTART:20180325T010000
END:DAYLIGHT
BEGIN:STANDARD
TZOFFSETFROM:+0300
TZOFFSETTO:+0200
TZNAME:EET
DTSTART:20181028T010000
END:STANDARD
BEGIN:DAYLIGHT
TZOFFSETFROM:+0200
TZOFFSETTO:+0300
TZNAME:EEST
DTSTART:20190331T010000
END:DAYLIGHT
BEGIN:STANDARD
TZOFFSETFROM:+0300
TZOFFSETTO:+0200
TZNAME:EET
DTSTART:20191027T010000
END:STANDARD
END:VTIMEZONE
BEGIN:VEVENT
DTSTART;TZID=Europe/Helsinki:20180525T190000
DTEND;TZID=Europe/Helsinki:20180527T060000
DTSTAMP:20260423T184757
CREATED:20180322T134612Z
LAST-MODIFIED:20180519T141725Z
UID:10004674-1527274800-1527400800@www.heptown.com
SUMMARY:Dansa på Stockamöllan Swing Fest 25-26 maj 2018
DESCRIPTION:Stockamöllan är en otroligt vacker by mitt i Skåne. Sedan Gunhild Carling flyttade dit är där årligen en swing och jazz festival. Då tränger artister\, dansare och publik (från hela världen) ihop sig i ett gigantiskt cirkustält och åtnjuter tre dagars festivalstämning.. \n25-26 maj 2018 bjuds du en sista gång in till en mindre\, mer intim och mysigare swing fest i Kulturfabriken i Stockamöllan. Det blir tre separata spelningar. Två för sittande publik samt en där stolar röjs bort för att göra plats för dans. \n# Anmälan / biljetter\nDet blir två föreställningar för sittande publik och en för dansandes. Alla föreställningarna är i Kulturfabriken. (Inget cirkustält) \nFredag: sittande\, 19.00 – 23.00(ca)\nLördag: sittande\, 15.00 – 19.00(ca)\nLördag\, endast för dansare: 20.00 – 23.45\nhttps://www.nortic.se/tickets/event/16869 \nVarför så mycket billigare för dansarna?\nPriset för dansbiljetter är helt klart mycket billigare än det borde vara men baseras på årtionden av samarbeten och att det alltid varit viktig för Gunhild att det dansas till musiken \nDansbiljetter!!!!\nEfter många turer blir det en extraföreställning på lördagen den 26/5 kl 20-23 specifikt för oss som dansar! Efter den ordinarie showen som slutar kl 19 röjs stolarna undan och kl 20 öppnas dörrarna för oss dansare och alla banden spelar igen fram till åtminstone 23 men förmodligen senare… \nPriset är endast 150kr. Vilkoret är att du har ett medlemskort i någon dansorganisation\, spelar dock ingen roll vilken \nhttps://www.nortic.se/tickets/event/16869 \nFår man stanna på den sena om man redan köpt biljett till den tidiga?\nNej den sena showen ingår inte i den tidiga. MEN är du swingdansare får du dispens mot uppvisande av swingout 😉 \nVolontär = fribiljett\nFör att snabbt ställa om mellan sittandes och dansandes föreställning behöver vi fler volontärer kl 19-20. Anmäl intresse till Håkan på classes@heptown.com eller 070-567 52 92 \nTIDER\nÄndringar kan förekomma för senaste uppdateringar se http://stockamollan.blogspot.se/p/program.html \nFredag\n19.00 -20.45 CARLING FAMILY\n21.00. MÅNS PERSSON PETITE SWINGBAND\n22..00 GUNHILD CARLING BAND GUEST MARIA SCHILLING \nLÖRDAG\n15.00 CARLING FAMILY\n16.00 MÅNS PERSSON PETITE BAND\n17.00 MARIA SCHILLING\n18.00 MISS MYRA AND THE MOONSHINERS \n——- \n20.00 CARLING FAMILY\n21.00 MARIA SCHILLING RHYTH DYNAMITE\n22.00 MISS MYRA\n23.00 GUNHILD CARLING BAND \nHITTA HIT\nAddress:\nKulturfabriken\, Stenbocksliden\, 241 96 Stockamöllan\n(Samma byggnad som Kanotcentralen) \nKarta:\nhttps://goo.gl/maps/YL2pJcS1rJ22 \n### Nybörjarkurs i Lindy Hop?\nDet blir tyvärr inga kurser i stockamöllan\, men om du vill lära dig Lindy Hopp hittar du kurser här:\nhttps://www.heptown.com/classes/ \n### Swingarrangemang med plats att dansa\nRed Hot Club Björn Ingelstam All Stars
URL:https://www.heptown.com/calendar/stockamollan-swing-fest-25-26-maj-2018/
LOCATION:Stockamöllan\, Stockamöllan\, Sweden
CATEGORIES:Big event,HepTown,Lindy Hop,Öresund,Social Dance
ATTACH;FMTTYPE=image/jpeg:https://www.heptown.com/wp-content/uploads/2018/04/9fc77fb09b75a6601a3fcca34ae1a77b-1.jpg
GEO:55.9452395;13.3671221
END:VEVENT
END:VCALENDAR