BEGIN:VCALENDAR
VERSION:2.0
PRODID:-//HepTown - ECPv6.15.20//NONSGML v1.0//EN
CALSCALE:GREGORIAN
METHOD:PUBLISH
X-ORIGINAL-URL:https://www.heptown.com
X-WR-CALDESC:Events for HepTown
REFRESH-INTERVAL;VALUE=DURATION:PT1H
X-Robots-Tag:noindex
X-PUBLISHED-TTL:PT1H
BEGIN:VTIMEZONE
TZID:Europe/Stockholm
BEGIN:DAYLIGHT
TZOFFSETFROM:+0100
TZOFFSETTO:+0200
TZNAME:CEST
DTSTART:20180325T010000
END:DAYLIGHT
BEGIN:STANDARD
TZOFFSETFROM:+0200
TZOFFSETTO:+0100
TZNAME:CET
DTSTART:20181028T010000
END:STANDARD
BEGIN:DAYLIGHT
TZOFFSETFROM:+0100
TZOFFSETTO:+0200
TZNAME:CEST
DTSTART:20190331T010000
END:DAYLIGHT
BEGIN:STANDARD
TZOFFSETFROM:+0200
TZOFFSETTO:+0100
TZNAME:CET
DTSTART:20191027T010000
END:STANDARD
BEGIN:DAYLIGHT
TZOFFSETFROM:+0100
TZOFFSETTO:+0200
TZNAME:CEST
DTSTART:20200329T010000
END:DAYLIGHT
BEGIN:STANDARD
TZOFFSETFROM:+0200
TZOFFSETTO:+0100
TZNAME:CET
DTSTART:20201025T010000
END:STANDARD
END:VTIMEZONE
BEGIN:VEVENT
DTSTART;TZID=Europe/Stockholm:20190927T140000
DTEND;TZID=Europe/Stockholm:20190927T141500
DTSTAMP:20260421T031024
CREATED:20190924T160846Z
LAST-MODIFIED:20190927T160909Z
UID:10005308-1569592800-1569593700@www.heptown.com
SUMMARY:Swingdance For Future
DESCRIPTION:Do you sometimes feel that we´re dancing on the edge of time? Let´s help rise awareness of the ongoing Climate Crisis while doing what we love the most – dancing. Come join us in a 15 min  social dancing “flashmob” to show our support for Fridays For Future on the Global Climate Strike Friday 24/5 outside Stadshuset in Malmö. Everybody is needed\, everybody is welcome. If you don´t know what it is you can read more in the facebookgroup Fridays For Future. Check out the webpage www.fridaysforfuture.org and the facebookgroup Fridays For Future Malmö and join the event there too. There will be a program from morning to afternoon and we have a spot in the program for a few well chosen songs at 14.00 – 14.15. If you want to join\, please be there\, couple up and be ready a few minutes before. Wear practical shoes & clothes due to weather. \n#swingdanceforfuture #fridaysforfuture #fridaysforfuturemalmö
URL:https://www.heptown.com/calendar/swingdance-for-future-2/
LOCATION:Stadshuset\, Malmö\, August Palms plats 1\, Malmö\, 205 80\, SE
CATEGORIES:Balboa,Collegiate Shag,Lindy Hop,Malmö,Öresund,Social Dance
ATTACH;FMTTYPE=image/jpeg:https://www.heptown.com/wp-content/uploads/2019/09/14822_image_70876371_2988235474579813_6104415710472044544_n.jpg
GEO:55.5980282;13.007326
X-APPLE-STRUCTURED-LOCATION;VALUE=URI;X-ADDRESS=Stadshuset Malmö August Palms plats 1 Malmö 205 80 SE;X-APPLE-RADIUS=500;X-TITLE=August Palms plats 1:geo:13.007326,55.5980282
END:VEVENT
BEGIN:VEVENT
DTSTART;TZID=Europe/Stockholm:20190524T140000
DTEND;TZID=Europe/Stockholm:20190524T141500
DTSTAMP:20260421T031025
CREATED:20190519T161059Z
LAST-MODIFIED:20190524T161921Z
UID:10004999-1558706400-1558707300@www.heptown.com
SUMMARY:Swingdance For Future
DESCRIPTION:Do you sometimes feel that we´re dancing on the edge of time? Let´s help rise awareness of the ongoing Climate Crisis while doing what we love the most – dancing. Come join us in a 15 min  social dancing “flashmob” to show our support for Fridays For Future on the Global Climate Strike Friday 24/5 outside Stadshuset in Malmö. If you don´t know what it is you can read more in the facebookgroup Fridays For Future. Check out the webpage www.fridaysforfuture.org and the facebookgroup Fridays For Future Malmö and join the event there too. There will be a program from morning to afternoon and we have a spot in the program for a few well chosen songs at 14.00 – 14.15. If you want to join\, please be there\, couple up and be ready a few minutes before. Wear practical shoes & clothes due to weather. \n#swingdanceforfuture #fridaysforfuture #fridaysforfuturemalmö
URL:https://www.heptown.com/calendar/swingdance-for-future/
LOCATION:Stadshuset\, Malmö\, August Palms plats 1\, Malmö\, 205 80\, SE
CATEGORIES:Balboa,Collegiate Shag,Lindy Hop,Malmö,Öresund,Social Dance
ATTACH;FMTTYPE=image/jpeg:https://www.heptown.com/wp-content/uploads/2019/05/11762_image_60608842_2657542924315738_798572417625620480_n.jpg
GEO:55.5980282;13.007326
X-APPLE-STRUCTURED-LOCATION;VALUE=URI;X-ADDRESS=Stadshuset Malmö August Palms plats 1 Malmö 205 80 SE;X-APPLE-RADIUS=500;X-TITLE=August Palms plats 1:geo:13.007326,55.5980282
END:VEVENT
END:VCALENDAR