BEGIN:VCALENDAR
VERSION:2.0
PRODID:-//HepTown - ECPv6.15.20//NONSGML v1.0//EN
CALSCALE:GREGORIAN
METHOD:PUBLISH
X-WR-CALNAME:HepTown
X-ORIGINAL-URL:https://www.heptown.com
X-WR-CALDESC:Events for HepTown
REFRESH-INTERVAL;VALUE=DURATION:PT1H
X-Robots-Tag:noindex
X-PUBLISHED-TTL:PT1H
BEGIN:VTIMEZONE
TZID:Europe/Copenhagen
BEGIN:DAYLIGHT
TZOFFSETFROM:+0100
TZOFFSETTO:+0200
TZNAME:CEST
DTSTART:20230326T010000
END:DAYLIGHT
BEGIN:STANDARD
TZOFFSETFROM:+0200
TZOFFSETTO:+0100
TZNAME:CET
DTSTART:20231029T010000
END:STANDARD
BEGIN:DAYLIGHT
TZOFFSETFROM:+0100
TZOFFSETTO:+0200
TZNAME:CEST
DTSTART:20240331T010000
END:DAYLIGHT
BEGIN:STANDARD
TZOFFSETFROM:+0200
TZOFFSETTO:+0100
TZNAME:CET
DTSTART:20241027T010000
END:STANDARD
BEGIN:DAYLIGHT
TZOFFSETFROM:+0100
TZOFFSETTO:+0200
TZNAME:CEST
DTSTART:20250330T010000
END:DAYLIGHT
BEGIN:STANDARD
TZOFFSETFROM:+0200
TZOFFSETTO:+0100
TZNAME:CET
DTSTART:20251026T010000
END:STANDARD
END:VTIMEZONE
BEGIN:VEVENT
DTSTART;TZID=Europe/Copenhagen:20240524T200000
DTEND;TZID=Europe/Copenhagen:20240526T210000
DTSTAMP:20260421T050241
CREATED:20231208T115504Z
LAST-MODIFIED:20231208T115504Z
UID:10006064-1716580800-1716757200@www.heptown.com
SUMMARY:Copenhagen Balboa Weekend Spring 2024
DESCRIPTION:Join us for an amazing weekend of Balboa – and enjoy springtime in wonderful Copenhagen! \nWe offer six hours of classes on four levels with renowned international teachers Gloria Garcia & Jon Kay and … second teachers’ couple to be announced soon – and parties with live bands Friday\, Saturday and Sunday! \nDon’t miss out\, sign-up is open: https://www.balboaswing.dk/copenhagen-balboa-weekend-spring-2024/ \nEarly bird for all who sign up before end of 2023!
URL:https://www.heptown.com/calendar/copenhagen-balboa-weekend-spring-2024/
LOCATION:Serapions Ordenen
CATEGORIES:Balboa,Copenhagen,International Swing Dance Event,Öresund
ATTACH;FMTTYPE=image/jpeg:https://www.heptown.com/wp-content/uploads/2023/12/32639_image_408146117_731102702405016_3970900387345572791_n.jpg
END:VEVENT
END:VCALENDAR