BEGIN:VCALENDAR
VERSION:2.0
PRODID:-//HepTown - ECPv6.15.20//NONSGML v1.0//EN
CALSCALE:GREGORIAN
METHOD:PUBLISH
X-ORIGINAL-URL:https://www.heptown.com
X-WR-CALDESC:Events for HepTown
REFRESH-INTERVAL;VALUE=DURATION:PT1H
X-Robots-Tag:noindex
X-PUBLISHED-TTL:PT1H
BEGIN:VTIMEZONE
TZID:Europe/Helsinki
BEGIN:DAYLIGHT
TZOFFSETFROM:+0200
TZOFFSETTO:+0300
TZNAME:EEST
DTSTART:20160327T010000
END:DAYLIGHT
BEGIN:STANDARD
TZOFFSETFROM:+0300
TZOFFSETTO:+0200
TZNAME:EET
DTSTART:20161030T010000
END:STANDARD
BEGIN:DAYLIGHT
TZOFFSETFROM:+0200
TZOFFSETTO:+0300
TZNAME:EEST
DTSTART:20170326T010000
END:DAYLIGHT
BEGIN:STANDARD
TZOFFSETFROM:+0300
TZOFFSETTO:+0200
TZNAME:EET
DTSTART:20171029T010000
END:STANDARD
BEGIN:DAYLIGHT
TZOFFSETFROM:+0200
TZOFFSETTO:+0300
TZNAME:EEST
DTSTART:20180325T010000
END:DAYLIGHT
BEGIN:STANDARD
TZOFFSETFROM:+0300
TZOFFSETTO:+0200
TZNAME:EET
DTSTART:20181028T010000
END:STANDARD
END:VTIMEZONE
BEGIN:VEVENT
DTSTART;TZID=Europe/Helsinki:20170916T220000
DTEND;TZID=Europe/Helsinki:20170916T234500
DTSTAMP:20260420T145615
CREATED:20170627T163221Z
LAST-MODIFIED:20170706T133611Z
UID:10004092-1505599200-1505605500@www.heptown.com
SUMMARY:Vol. 6 - Swing dancing and Tivoli Big Band
DESCRIPTION:Swingdancers ( and funkydancers\, hophopdancers\, standarddancers\, dance-like-nobody-is-watching-dancers\, etc.) \nCome join the fun when Tivoli Big Band (TBB) plays swingin’ tunes for all of us who can’t stand still when that swinging rythm is jumping. \nSee you on the dancefloor. \n—————————————————————————————- \n– Once you’ve payed the entrance to Tivoli 120 DKK\, the concert is free.\n– Use this fb-event to connect with dancers who have annual cards to Tivoli\, where they can bring friends. \n—————————————————————————————- \nSame thing – another day: \nVol. 1 – April 22nd.\nhttps://www.facebook.com/events/1877801605769465/ \nVol. 2 – May 6th\nhttps://www.facebook.com/events/378507419200977/ \nVol. 3 – May 27th\nhttps://www.facebook.com/events/1392235567465036/ \nVol. 4. – June 24th.\nhttps://www.facebook.com/events/1042986575842674/ \nVol. 5 – August 26th\nhttps://www.facebook.com/events/262455414205929/ \nVol. 6 – September 16th. https://www.facebook.com/events/1478583478820468/
URL:https://www.heptown.com/calendar/vol-6-swing-dancing-and-tivoli-big-band/
LOCATION:Plænen\, Tivoli\, Vesterbrogade 3\, København\, 1620\, Denmark
CATEGORIES:Copenhagen,Lindy Hop,Öresund,Social Dance
ATTACH;FMTTYPE=image/jpeg:https://www.heptown.com/wp-content/uploads/2017/06/cb0f734f811ffa0c647c843bec0e0136.jpg
GEO:55.6738665;12.5685071
X-APPLE-STRUCTURED-LOCATION;VALUE=URI;X-ADDRESS=Plænen Tivoli Vesterbrogade 3 København 1620 Denmark;X-APPLE-RADIUS=500;X-TITLE=Vesterbrogade 3:geo:12.5685071,55.6738665
END:VEVENT
BEGIN:VEVENT
DTSTART;TZID=Europe/Helsinki:20170826T220000
DTEND;TZID=Europe/Helsinki:20170826T234500
DTSTAMP:20260420T145615
CREATED:20170627T163217Z
LAST-MODIFIED:20170707T145710Z
UID:10004087-1503784800-1503791100@www.heptown.com
SUMMARY:Vol. 5 - Swing dancing and Tivoli Big Band
DESCRIPTION:Swingdancers ( and funkydancers\, hophopdancers\, standarddancers\, dance-like-nobody-is-watching-dancers\, etc.) \nCome join the fun when Tivoli Big Band (TBB) plays swingin’ tunes for all of us who can’t stand still when that swinging rythm is jumping. \nSee you on the dancefloor. \n——————————————————————————— \n– Once you’ve payed the entrance to Tivoli 120 DKK\, the concert is free.\n– Use this fb-event to connect with dancers who have annual cards to Tivoli\, where they can bring friends. \n——————————————————————————— \nSame thing – another day: \nVol. 1 – April 22nd.\nhttps://www.facebook.com/events/1877801605769465/ \nVol. 2 – May 6th\nhttps://www.facebook.com/events/378507419200977/ \nVol. 3 – May 27th\nhttps://www.facebook.com/events/1392235567465036/ \nVol. 4. – June 24th.\nhttps://www.facebook.com/events/1042986575842674/ \nVol. 5 – August 26th\nhttps://www.facebook.com/events/262455414205929/ \nVol. 6 – September 16th. https://www.facebook.com/events/1478583478820468/
URL:https://www.heptown.com/calendar/vol-5-swing-dancing-and-tivoli-big-band/
LOCATION:Plænen\, Tivoli\, Vesterbrogade 3\, København\, 1620\, Denmark
CATEGORIES:Copenhagen,Social Dance
ATTACH;FMTTYPE=image/jpeg:https://www.heptown.com/wp-content/uploads/2017/06/8a26f946e0fc3c9c9f6deadd2611196f.jpg
GEO:55.6738665;12.5685071
X-APPLE-STRUCTURED-LOCATION;VALUE=URI;X-ADDRESS=Plænen Tivoli Vesterbrogade 3 København 1620 Denmark;X-APPLE-RADIUS=500;X-TITLE=Vesterbrogade 3:geo:12.5685071,55.6738665
END:VEVENT
END:VCALENDAR