BEGIN:VCALENDAR
VERSION:2.0
PRODID:-//HepTown - ECPv6.15.20//NONSGML v1.0//EN
CALSCALE:GREGORIAN
METHOD:PUBLISH
X-ORIGINAL-URL:https://www.heptown.com
X-WR-CALDESC:Events for HepTown
REFRESH-INTERVAL;VALUE=DURATION:PT1H
X-Robots-Tag:noindex
X-PUBLISHED-TTL:PT1H
BEGIN:VTIMEZONE
TZID:Europe/Paris
BEGIN:DAYLIGHT
TZOFFSETFROM:+0100
TZOFFSETTO:+0200
TZNAME:CEST
DTSTART:20220327T010000
END:DAYLIGHT
BEGIN:STANDARD
TZOFFSETFROM:+0200
TZOFFSETTO:+0100
TZNAME:CET
DTSTART:20221030T010000
END:STANDARD
BEGIN:DAYLIGHT
TZOFFSETFROM:+0100
TZOFFSETTO:+0200
TZNAME:CEST
DTSTART:20230326T010000
END:DAYLIGHT
BEGIN:STANDARD
TZOFFSETFROM:+0200
TZOFFSETTO:+0100
TZNAME:CET
DTSTART:20231029T010000
END:STANDARD
BEGIN:DAYLIGHT
TZOFFSETFROM:+0100
TZOFFSETTO:+0200
TZNAME:CEST
DTSTART:20240331T010000
END:DAYLIGHT
BEGIN:STANDARD
TZOFFSETFROM:+0200
TZOFFSETTO:+0100
TZNAME:CET
DTSTART:20241027T010000
END:STANDARD
END:VTIMEZONE
BEGIN:VEVENT
DTSTART;TZID=Europe/Paris:20230202T170000
DTEND;TZID=Europe/Paris:20230202T180000
DTSTAMP:20260421T120259
CREATED:20230127T120046Z
LAST-MODIFIED:20230201T095210Z
UID:10002029-1675357200-1675360800@www.heptown.com
SUMMARY:OPEN PRACTICE SESSIONS-JANUARY
DESCRIPTION:Friends\, Romans\, Lindy hoppers\, lend me your ears! \nWe continue to gather for Open Practice Sessions every Thursday between 17:00 and 18:00. See above for the exact days. \nSessions are open and free for everyone and all levels. You can practice your steps\, and moves\, do some social dance or just chat with other dancers a little bit! \nThe venue is Open Space Mindpark\, just next to the Lund University Campus Helsingborg\, in the old shoe factory. Hope to see you there! \nDo you have any questions? Shoot us a message or post it in the discussions.
URL:https://www.heptown.com/calendar/open-practice-sessions-january-5/
LOCATION:Open Space Mindpark\, Bredgatan 11\, Helsingborg\, 25225\, SE
CATEGORIES:Öresund
ATTACH;FMTTYPE=image/jpeg:https://www.heptown.com/wp-content/uploads/2023/01/30118_image_321797276_850065346246751_4483870315780612274_n.jpg
END:VEVENT
BEGIN:VEVENT
DTSTART;TZID=Europe/Paris:20230202T170000
DTEND;TZID=Europe/Paris:20230202T180000
DTSTAMP:20260421T120259
CREATED:20230104T135349Z
LAST-MODIFIED:20230125T150605Z
UID:10005134-1675357200-1675360800@www.heptown.com
SUMMARY:OPEN PRACTICE SESSIONS-JANUARY
DESCRIPTION:Friends\, Romans\, Lindy hoppers\, lend me your ears! \nWe continue to gather for Open Practice Sessions every Thursday between 17:00 and 18:00. See above for the exact days. \nSessions are open and free for everyone and all levels. You can practice your steps\, and moves\, do some social dance or just chat with other dancers a little bit! \nThe venue is Open Space Mindpark\, just next to the Lund University Campus Helsingborg\, in the old shoe factory. Hope to see you there! \nDo you have any questions? Shoot us a message or post it in the discussions.
URL:https://www.heptown.com/calendar/open-practice-sessions-january/
LOCATION:Open Space Mindpark\, Bredgatan 11\, Helsingborg\, 25225\, SE
CATEGORIES:Öresund
ATTACH;FMTTYPE=image/jpeg:https://www.heptown.com/wp-content/uploads/2023/01/29860_image_321797276_850065346246751_4483870315780612274_n.jpg
END:VEVENT
BEGIN:VEVENT
DTSTART;TZID=Europe/Paris:20230126T170000
DTEND;TZID=Europe/Paris:20230126T180000
DTSTAMP:20260421T120259
CREATED:20230104T135351Z
LAST-MODIFIED:20230125T150605Z
UID:10005135-1674752400-1674756000@www.heptown.com
SUMMARY:OPEN PRACTICE SESSIONS-JANUARY
DESCRIPTION:Friends\, Romans\, Lindy hoppers\, lend me your ears! \nWe continue to gather for Open Practice Sessions every Thursday between 17:00 and 18:00. See above for the exact days. \nSessions are open and free for everyone and all levels. You can practice your steps\, and moves\, do some social dance or just chat with other dancers a little bit! \nThe venue is Open Space Mindpark\, just next to the Lund University Campus Helsingborg\, in the old shoe factory. Hope to see you there! \nDo you have any questions? Shoot us a message or post it in the discussions.
URL:https://www.heptown.com/calendar/open-practice-sessions-january-2/
LOCATION:Open Space Mindpark\, Bredgatan 11\, Helsingborg\, 25225\, SE
CATEGORIES:Öresund
ATTACH;FMTTYPE=image/jpeg:https://www.heptown.com/wp-content/uploads/2023/01/29863_image_321797276_850065346246751_4483870315780612274_n.jpg
END:VEVENT
BEGIN:VEVENT
DTSTART;TZID=Europe/Paris:20230119T170000
DTEND;TZID=Europe/Paris:20230119T180000
DTSTAMP:20260421T120259
CREATED:20230104T135352Z
LAST-MODIFIED:20230117T174321Z
UID:10005737-1674147600-1674151200@www.heptown.com
SUMMARY:OPEN PRACTICE SESSIONS-JANUARY
DESCRIPTION:Friends\, Romans\, Lindy hoppers\, lend me your ears! \nWe continue to gather for Open Practice Sessions every Thursday between 17:00 and 18:00. See above for the exact days. \nSessions are open and free for everyone and all levels. You can practice your steps\, and moves\, do some social dance or just chat with other dancers a little bit! \nThe venue is Open Space Mindpark\, just next to the Lund University Campus Helsingborg\, in the old shoe factory. Hope to see you there! \nDo you have any questions? Shoot us a message or post it in the discussions.
URL:https://www.heptown.com/calendar/open-practice-sessions-january-3/
LOCATION:Open Space Mindpark\, Bredgatan 11\, Helsingborg\, 25225\, SE
CATEGORIES:Öresund
ATTACH;FMTTYPE=image/jpeg:https://www.heptown.com/wp-content/uploads/2023/01/29864_image_321797276_850065346246751_4483870315780612274_n.jpg
END:VEVENT
BEGIN:VEVENT
DTSTART;TZID=Europe/Paris:20230112T170000
DTEND;TZID=Europe/Paris:20230112T180000
DTSTAMP:20260421T120259
CREATED:20230104T135353Z
LAST-MODIFIED:20230112T144009Z
UID:10005738-1673542800-1673546400@www.heptown.com
SUMMARY:OPEN PRACTICE SESSIONS-JANUARY
DESCRIPTION:Friends\, Romans\, Lindy hoppers\, lend me your ears! \nWe continue to gather for Open Practice Sessions every Thursday between 17:00 and 18:00. See above for the exact days. \nSessions are open and free for everyone and all levels. You can practice your steps\, and moves\, do some social dance or just chat with other dancers a little bit! \nThe venue is Open Space Mindpark\, just next to the Lund University Campus Helsingborg\, in the old shoe factory. Hope to see you there! \nDo you have any questions? Shoot us a message or post it in the discussions.
URL:https://www.heptown.com/calendar/open-practice-sessions-january-4/
LOCATION:Open Space Mindpark\, Bredgatan 11\, Helsingborg\, 25225\, SE
CATEGORIES:Öresund
ATTACH;FMTTYPE=image/jpeg:https://www.heptown.com/wp-content/uploads/2023/01/29863_image_321797276_850065346246751_4483870315780612274_n.jpg
END:VEVENT
END:VCALENDAR