BEGIN:VCALENDAR
VERSION:2.0
PRODID:-//HepTown - ECPv6.15.20//NONSGML v1.0//EN
CALSCALE:GREGORIAN
METHOD:PUBLISH
X-ORIGINAL-URL:https://www.heptown.com
X-WR-CALDESC:Events for HepTown
REFRESH-INTERVAL;VALUE=DURATION:PT1H
X-Robots-Tag:noindex
X-PUBLISHED-TTL:PT1H
BEGIN:VTIMEZONE
TZID:Europe/Stockholm
BEGIN:DAYLIGHT
TZOFFSETFROM:+0100
TZOFFSETTO:+0200
TZNAME:CEST
DTSTART:20210328T010000
END:DAYLIGHT
BEGIN:STANDARD
TZOFFSETFROM:+0200
TZOFFSETTO:+0100
TZNAME:CET
DTSTART:20211031T010000
END:STANDARD
BEGIN:DAYLIGHT
TZOFFSETFROM:+0100
TZOFFSETTO:+0200
TZNAME:CEST
DTSTART:20220327T010000
END:DAYLIGHT
BEGIN:STANDARD
TZOFFSETFROM:+0200
TZOFFSETTO:+0100
TZNAME:CET
DTSTART:20221030T010000
END:STANDARD
BEGIN:DAYLIGHT
TZOFFSETFROM:+0100
TZOFFSETTO:+0200
TZNAME:CEST
DTSTART:20230326T010000
END:DAYLIGHT
BEGIN:STANDARD
TZOFFSETFROM:+0200
TZOFFSETTO:+0100
TZNAME:CET
DTSTART:20231029T010000
END:STANDARD
END:VTIMEZONE
BEGIN:VEVENT
DTSTART;TZID=Europe/Stockholm:20220423T190000
DTEND;TZID=Europe/Stockholm:20220424T013000
DTSTAMP:20260422T141316
CREATED:20220414T151356Z
LAST-MODIFIED:20220421T151333Z
UID:10005024-1650740400-1650763800@www.heptown.com
SUMMARY:SWINGSHOES SPRING SWING BALL
DESCRIPTION:SwingShoes Spring Swing Ball! \nWe have planned a fantastic night for you guys\, just packed with all sorts of wonderful stuff! There will be awesome performances a Out-of-this-World amazing Dj and live swing music by the One-and-Only PETER LONG SEXTET! \nMC Johan Selander will take us through what is going to be an incredible evening at the beautiful Odd Fellow Concert Hall. \nThe program of the evening: \n19:00 Doors Open\n19:30-20:30 Taster\, w. Mathilde Dam & Johan Selander.\n20:30-21:15 DJ Per Rock\n21:15-22:05 Peter Long Pocket Basie 1st set\, 50 min\n22:05-22:40 DJ Rock\n22:40-22:50\, Performances\, TBA\n22:50-23:35 Peter Long Pocket Basie 2nd set\, 50 min\n23:35-01:30 DJ Per Rock\n01:30 Doors close \nPrice :\n295 kr – all night\n180kr – late night (after 22.30) \nThe ticket sales will be released Thursday 10th of March at 20:00! \nIf you plan to participate\, do not wait too long to purchase your ticket\, as from previous experience our Swing Ball events sell out in a very short time! \nTicket Link: https://swingshoes.dk/swingshoes-swing-ball \nMore surprises and announcements to follow.
URL:https://www.heptown.com/calendar/swingshoes-spring-swing-ball/
LOCATION:Odd Fellow Palæet\, Bredgade 28\, Copenhagen\, 1260\, DK
CATEGORIES:Öresund
ATTACH;FMTTYPE=image/jpeg:https://www.heptown.com/wp-content/uploads/2022/04/25258_image_272792897_4727184674017891_466522911321374390_n.jpg
END:VEVENT
END:VCALENDAR