BEGIN:VCALENDAR
VERSION:2.0
PRODID:-//HepTown - ECPv6.15.20//NONSGML v1.0//EN
CALSCALE:GREGORIAN
METHOD:PUBLISH
X-WR-CALNAME:HepTown
X-ORIGINAL-URL:https://www.heptown.com
X-WR-CALDESC:Events for HepTown
REFRESH-INTERVAL;VALUE=DURATION:PT1H
X-Robots-Tag:noindex
X-PUBLISHED-TTL:PT1H
BEGIN:VTIMEZONE
TZID:Europe/Stockholm
BEGIN:DAYLIGHT
TZOFFSETFROM:+0100
TZOFFSETTO:+0200
TZNAME:CEST
DTSTART:20210328T010000
END:DAYLIGHT
BEGIN:STANDARD
TZOFFSETFROM:+0200
TZOFFSETTO:+0100
TZNAME:CET
DTSTART:20211031T010000
END:STANDARD
BEGIN:DAYLIGHT
TZOFFSETFROM:+0100
TZOFFSETTO:+0200
TZNAME:CEST
DTSTART:20220327T010000
END:DAYLIGHT
BEGIN:STANDARD
TZOFFSETFROM:+0200
TZOFFSETTO:+0100
TZNAME:CET
DTSTART:20221030T010000
END:STANDARD
BEGIN:DAYLIGHT
TZOFFSETFROM:+0100
TZOFFSETTO:+0200
TZNAME:CEST
DTSTART:20230326T010000
END:DAYLIGHT
BEGIN:STANDARD
TZOFFSETFROM:+0200
TZOFFSETTO:+0100
TZNAME:CET
DTSTART:20231029T010000
END:STANDARD
END:VTIMEZONE
BEGIN:VEVENT
DTSTART;TZID=Europe/Stockholm:20220817T190000
DTEND;TZID=Europe/Stockholm:20220817T220000
DTSTAMP:20260421T030327
CREATED:20220810T085309Z
LAST-MODIFIED:20220816T092339Z
UID:10005667-1660762800-1660773600@www.heptown.com
SUMMARY:Swing Station på Malmöfestivalen
DESCRIPTION:Dags att leta upp finaste retro-stassen och tåligaste dansskorna; Swing Station is back och denna gång gör vi ett stopp i Fontänen på Malmöfestivalen (Raul Wallenbergs Park)\, med crashcourse i Lindyhop\, socialdans till DJ´s  och en och annan happening. Våra DJ´s Sassy Sally\, Lord Investor och Jazzy Jerry spelar swingmusik från 1930-talet och framåt. \nkl 19.00  Prova på Lindy Hop – 30 min craschcourse\nkl 19.30 Socialdansen drar igång\nkl 20.00 Uppvisning Lindyhop\nkl 20.05 Socialdansen fortsätter\nkl 20.30 Let´s do the Shim Sham\nkl 20.35 Mer socialdans\nkl 21.30 Let´s do the Trankey Doo\nkl 21.35 Fortsätt dansa\nkl 22.00 Over & Out och vidare i Malmönatten \nHitta dit:\nhttps://www.malmofestivalen.se/scener/78790 \nMera Lindy Hop:\nhttps://www.facebook.com/SwingSTN/\nhttps://www.heptown.com/\nhttps://catscorner.se/
URL:https://www.heptown.com/calendar/swing-station-pa-malmofestivalen/
LOCATION:Malmöfestivalen\, Stortorget\, Malmö\, 211 41\, SE
CATEGORIES:Beginner,Beginners' Lindy Hop Class,Big event,Lindy Hop,Malmö,Öresund,Solo Jazz - Authentic Jazz - Solo Rutinens
ATTACH;FMTTYPE=image/jpeg:https://www.heptown.com/wp-content/uploads/2022/08/26983_image_298573563_7735974196472560_3481718870496068302_n.jpg
GEO:55.6066411;13.0000757
X-APPLE-STRUCTURED-LOCATION;VALUE=URI;X-ADDRESS=Malmöfestivalen Stortorget Malmö 211 41 SE;X-APPLE-RADIUS=500;X-TITLE=Stortorget:geo:13.0000757,55.6066411
END:VEVENT
END:VCALENDAR