BEGIN:VCALENDAR
VERSION:2.0
PRODID:-//HepTown - ECPv6.15.20//NONSGML v1.0//EN
CALSCALE:GREGORIAN
METHOD:PUBLISH
X-WR-CALNAME:HepTown
X-ORIGINAL-URL:https://www.heptown.com
X-WR-CALDESC:Events for HepTown
REFRESH-INTERVAL;VALUE=DURATION:PT1H
X-Robots-Tag:noindex
X-PUBLISHED-TTL:PT1H
BEGIN:VTIMEZONE
TZID:Europe/Helsinki
BEGIN:DAYLIGHT
TZOFFSETFROM:+0200
TZOFFSETTO:+0300
TZNAME:EEST
DTSTART:20160327T010000
END:DAYLIGHT
BEGIN:STANDARD
TZOFFSETFROM:+0300
TZOFFSETTO:+0200
TZNAME:EET
DTSTART:20161030T010000
END:STANDARD
BEGIN:DAYLIGHT
TZOFFSETFROM:+0200
TZOFFSETTO:+0300
TZNAME:EEST
DTSTART:20170326T010000
END:DAYLIGHT
BEGIN:STANDARD
TZOFFSETFROM:+0300
TZOFFSETTO:+0200
TZNAME:EET
DTSTART:20171029T010000
END:STANDARD
BEGIN:DAYLIGHT
TZOFFSETFROM:+0200
TZOFFSETTO:+0300
TZNAME:EEST
DTSTART:20180325T010000
END:DAYLIGHT
BEGIN:STANDARD
TZOFFSETFROM:+0300
TZOFFSETTO:+0200
TZNAME:EET
DTSTART:20181028T010000
END:STANDARD
END:VTIMEZONE
BEGIN:VEVENT
DTSTART;TZID=Europe/Helsinki:20170803T180000
DTEND;TZID=Europe/Helsinki:20170803T220000
DTSTAMP:20260423T111214
CREATED:20170706T121555Z
LAST-MODIFIED:20170707T153147Z
UID:10004492-1501783200-1501797600@www.heptown.com
SUMMARY:Dans i Parken: Swing
DESCRIPTION:Lär dig salsa\, tango\, bugg\, swing och mycket mer i sommar i Folkets Park! Under sex torsdagar i sommar dansar vi loss i Folkets Park. Kom och ta några dansteg till en stil du kanske aldrig tidigare prövat på. Varje tillfälle börjar med workshop med erfarna lärare inom sin genre och sedan avslutas kvällen med liveband så du kan testa dina nya ”moves”. Denna kväll är det swing för hela slanten! \nPlats: Parktorget\nWorkshop kl 18.00-19.30: Danslärare från Heptown\nDJ kl 19.30-20.00: DJ Jerry\nLivekonsert kl 20.00-22.00: Swing About \nOm workshopen:\nDanslärare från Heptown bjuder på en prova-på i lindyhop. \nOm Swing About:\nSwing About är ett Malmöbaserat swingband och har bland annat varit återkommande husband på HepTowns måndagsdanser på Mejeriet i Lund. Swing About svänger dig tillbaka ända till 30-talet och inbjuder till fest och klackarna i taket. \nKvällarna är anpassade för alla åldersgrupper och dansen är till för dig som en nyfiken på en ny stil eller för dig som vill utveckla dig. Du som inte vill dansa utan bara vill njuta av härlig musik är självklart också välkommen! \nArrangemanget är ett samarbete med Swing Station och Swing Street. \nVi ses i parken! \nNästa Dans i Parken är den 10 augusti\, då är det bugg med Sandins!
URL:https://www.heptown.com/calendar/dans-i-parken-swing/
LOCATION:Malmö Folkets Park\, Falsterbogatan 9\, Malmö\, 227 31\, Sweden
CATEGORIES:Beginners' Lindy Hop Class,Big event,Lindy Hop,Malmö,Öresund,Social Dance
ATTACH;FMTTYPE=image/jpeg:https://www.heptown.com/wp-content/uploads/2017/07/a7bfe5ec4cc2ad7b744323d00a6afa34.jpg
GEO:55.5939055;13.0154106
X-APPLE-STRUCTURED-LOCATION;VALUE=URI;X-ADDRESS=Malmö Folkets Park Falsterbogatan 9 Malmö 227 31 Sweden;X-APPLE-RADIUS=500;X-TITLE=Falsterbogatan 9:geo:13.0154106,55.5939055
END:VEVENT
END:VCALENDAR