BEGIN:VCALENDAR
VERSION:2.0
PRODID:-//HepTown - ECPv6.15.20//NONSGML v1.0//EN
CALSCALE:GREGORIAN
METHOD:PUBLISH
X-WR-CALNAME:HepTown
X-ORIGINAL-URL:https://www.heptown.com
X-WR-CALDESC:Events for HepTown
REFRESH-INTERVAL;VALUE=DURATION:PT1H
X-Robots-Tag:noindex
X-PUBLISHED-TTL:PT1H
BEGIN:VTIMEZONE
TZID:Europe/Helsinki
BEGIN:DAYLIGHT
TZOFFSETFROM:+0200
TZOFFSETTO:+0300
TZNAME:EEST
DTSTART:20160327T010000
END:DAYLIGHT
BEGIN:STANDARD
TZOFFSETFROM:+0300
TZOFFSETTO:+0200
TZNAME:EET
DTSTART:20161030T010000
END:STANDARD
BEGIN:DAYLIGHT
TZOFFSETFROM:+0200
TZOFFSETTO:+0300
TZNAME:EEST
DTSTART:20170326T010000
END:DAYLIGHT
BEGIN:STANDARD
TZOFFSETFROM:+0300
TZOFFSETTO:+0200
TZNAME:EET
DTSTART:20171029T010000
END:STANDARD
BEGIN:DAYLIGHT
TZOFFSETFROM:+0200
TZOFFSETTO:+0300
TZNAME:EEST
DTSTART:20180325T010000
END:DAYLIGHT
BEGIN:STANDARD
TZOFFSETFROM:+0300
TZOFFSETTO:+0200
TZNAME:EET
DTSTART:20181028T010000
END:STANDARD
END:VTIMEZONE
BEGIN:VEVENT
DTSTART;TZID=Europe/Helsinki:20170816T130000
DTEND;TZID=Europe/Helsinki:20170816T140000
DTSTAMP:20260420T232019
CREATED:20170627T163211Z
LAST-MODIFIED:20170707T144739Z
UID:10004085-1502888400-1502892000@www.heptown.com
SUMMARY:Swing - Flashmob på Malmö Festivalen
DESCRIPTION:Vill du vara med på en Flashmob under Malmö Festivalen? Vi har fått en timme där vi får dansa Lindy Hop\, Shag\, Balboa och t ex en shim sham ute på gatan! Ingen föranmälan behövs\, men kom gärna lite färgglad och i din personlig “Lindy Hop”- style så att vi syns! Mer information följer 🙂\nVi ses på Malmö Festivalen!
URL:https://www.heptown.com/calendar/swing-flashmob-pa-malmo-festivalen/
LOCATION:Malmö Festivalen\, Malmö\, Sweden
CATEGORIES:Cats' Corner,Lindy Hop,Malmö,Öresund
ATTACH;FMTTYPE=image/jpeg:https://www.heptown.com/wp-content/uploads/2017/06/8bd4a671e44ebb8c5b9538a879940507.jpg
GEO:55.604981;13.003822
END:VEVENT
END:VCALENDAR