BEGIN:VCALENDAR
VERSION:2.0
PRODID:-//HepTown - ECPv6.15.20//NONSGML v1.0//EN
CALSCALE:GREGORIAN
METHOD:PUBLISH
X-ORIGINAL-URL:https://www.heptown.com
X-WR-CALDESC:Events for HepTown
REFRESH-INTERVAL;VALUE=DURATION:PT1H
X-Robots-Tag:noindex
X-PUBLISHED-TTL:PT1H
BEGIN:VTIMEZONE
TZID:Europe/Helsinki
BEGIN:DAYLIGHT
TZOFFSETFROM:+0200
TZOFFSETTO:+0300
TZNAME:EEST
DTSTART:20210328T010000
END:DAYLIGHT
BEGIN:STANDARD
TZOFFSETFROM:+0300
TZOFFSETTO:+0200
TZNAME:EET
DTSTART:20211031T010000
END:STANDARD
BEGIN:DAYLIGHT
TZOFFSETFROM:+0200
TZOFFSETTO:+0300
TZNAME:EEST
DTSTART:20220327T010000
END:DAYLIGHT
BEGIN:STANDARD
TZOFFSETFROM:+0300
TZOFFSETTO:+0200
TZNAME:EET
DTSTART:20221030T010000
END:STANDARD
BEGIN:DAYLIGHT
TZOFFSETFROM:+0200
TZOFFSETTO:+0300
TZNAME:EEST
DTSTART:20230326T010000
END:DAYLIGHT
BEGIN:STANDARD
TZOFFSETFROM:+0300
TZOFFSETTO:+0200
TZNAME:EET
DTSTART:20231029T010000
END:STANDARD
BEGIN:DAYLIGHT
TZOFFSETFROM:+0200
TZOFFSETTO:+0300
TZNAME:EEST
DTSTART:20240331T010000
END:DAYLIGHT
BEGIN:STANDARD
TZOFFSETFROM:+0300
TZOFFSETTO:+0200
TZNAME:EET
DTSTART:20241027T010000
END:STANDARD
END:VTIMEZONE
BEGIN:VTIMEZONE
TZID:Europe/Paris
BEGIN:DAYLIGHT
TZOFFSETFROM:+0100
TZOFFSETTO:+0200
TZNAME:CEST
DTSTART:20210328T010000
END:DAYLIGHT
BEGIN:STANDARD
TZOFFSETFROM:+0200
TZOFFSETTO:+0100
TZNAME:CET
DTSTART:20211031T010000
END:STANDARD
BEGIN:DAYLIGHT
TZOFFSETFROM:+0100
TZOFFSETTO:+0200
TZNAME:CEST
DTSTART:20220327T010000
END:DAYLIGHT
BEGIN:STANDARD
TZOFFSETFROM:+0200
TZOFFSETTO:+0100
TZNAME:CET
DTSTART:20221030T010000
END:STANDARD
BEGIN:DAYLIGHT
TZOFFSETFROM:+0100
TZOFFSETTO:+0200
TZNAME:CEST
DTSTART:20230326T010000
END:DAYLIGHT
BEGIN:STANDARD
TZOFFSETFROM:+0200
TZOFFSETTO:+0100
TZNAME:CET
DTSTART:20231029T010000
END:STANDARD
END:VTIMEZONE
BEGIN:VTIMEZONE
TZID:Europe/Stockholm
BEGIN:DAYLIGHT
TZOFFSETFROM:+0100
TZOFFSETTO:+0200
TZNAME:CEST
DTSTART:20210328T010000
END:DAYLIGHT
BEGIN:STANDARD
TZOFFSETFROM:+0200
TZOFFSETTO:+0100
TZNAME:CET
DTSTART:20211031T010000
END:STANDARD
BEGIN:DAYLIGHT
TZOFFSETFROM:+0100
TZOFFSETTO:+0200
TZNAME:CEST
DTSTART:20220327T010000
END:DAYLIGHT
BEGIN:STANDARD
TZOFFSETFROM:+0200
TZOFFSETTO:+0100
TZNAME:CET
DTSTART:20221030T010000
END:STANDARD
BEGIN:DAYLIGHT
TZOFFSETFROM:+0100
TZOFFSETTO:+0200
TZNAME:CEST
DTSTART:20230326T010000
END:DAYLIGHT
BEGIN:STANDARD
TZOFFSETFROM:+0200
TZOFFSETTO:+0100
TZNAME:CET
DTSTART:20231029T010000
END:STANDARD
END:VTIMEZONE
BEGIN:VEVENT
DTSTART;TZID=Europe/Helsinki:20230603T173000
DTEND;TZID=Europe/Helsinki:20230604T000000
DTSTAMP:20260420T173141
CREATED:20230418T123026Z
LAST-MODIFIED:20230704T130408Z
UID:10005867-1685813400-1685836800@www.heptown.com
SUMMARY:Swing Dance Party with the Cat and the Goose
DESCRIPTION:The Lindy Hop crew from HepTown/Club HepCat\, together with the Boogie crew from Gåsasteget\, invite you to a swing dance party at Gåsalyckan in Lund. \nTICKETS: https://dans.se/heptown/shop/new?event=186386 \nYou are very welcome regardless of age\, membership\, dance ability\, with or without a partner and if you are a student or not. \nYou’ll get to try out a variety of dances on a large and beautiful wooden dance floor from 6:00 PM to 8:00 PM. Then\, we’ll have social dancing to fantastic swing music from 8:00 PM to 12:00 AM!\nTake a break in the lounge where you can relax\, meet new people\, and enjoy your own food and drinks. \nExperienced DJs like Anton “ACe” Cervin will play a lot of very danceable swing in various styles.\nRemember to bring clean indoor shoes to keep the floor nice! \nTIMES\n\n17.30 Doors open\n18.00-18.25 Beginners’ Balboa\n18.30-19.10 Beginners’ Boogie Woogie \n19.15-19.40 Beginners’  Bugg (with alternative music) \n19.45-20.25 Beginners’ Lindy Hop \n20.30-00.00 Social dancing to swing music\n\nPRICE & BOOKING\n\nPre-booked entry: 120 SEK\nPre-booked member of HepCat/HepTown or Gåsasteget: 30 SEK discount\nPre-booked youth 26 and under: 30 SEK discount\nOn-site payment via Swish: 150 SEK regardless of age or membership\nBook here: https://dans.se/heptown/shop/new?event=186386&lang=en\n\nLOCATION\n\nLunds Dansklubb Gåsasteget\nKalkstensvägen 6\, 224 78 Lund\nMap: https://goo.gl/maps/mFt4EodXbXGeRMeG7\nCity bus No. 5 towards Råbylund stops right outside\, at the Brunngård stop.\n\nBRING YOUR OWN (BYO)\nThere is no bar and no food served but you are very welcome to bring your own. Let’s all meet up and eat together from 17.30! We kindly urge you to bring your own water bottle\, free refills included. \nSnacks and sodas available with swish… \nhttps://www.heptown.com/\nhttps://gasasteget.se/
URL:https://www.heptown.com/calendar/swing-dance-party-with-the-cat-and-the-goose/
LOCATION:Lunds Dansklubb Gåsasteget\, Kalkstensvägen 6\, Lund\, 22359\, Sweden
CATEGORIES:Balboa,Beginner,Beginners' Lindy Hop Class,Big event,Boogie Woogie,HepTown,Lindy Hop,Lund,Öresund,Social Dance
ATTACH;FMTTYPE=image/jpeg:https://www.heptown.com/wp-content/uploads/2023/04/Goose-1.jpeg
END:VEVENT
BEGIN:VEVENT
DTSTART;TZID=Europe/Helsinki:20230527T110000
DTEND;TZID=Europe/Helsinki:20230528T160000
DTSTAMP:20260420T173141
CREATED:20230212T143758Z
LAST-MODIFIED:20230216T161349Z
UID:10002045-1685185200-1685289600@www.heptown.com
SUMMARY:Lindy Hop Beginners' Weekend in Lund 27-28/5
DESCRIPTION:Nybörjarhelg i swingdansen Lindy Hop\, a.k.a Jitterbugg\, en Afroamerikansk pardans från 30-talets Harlem\, vilken stilmässigt har mer gemensamt med dagens street-dance än annan pardans. \nKursen riktar sig till vuxna men tonåringar som vågar är välkomna att delta. \nMER INFORMATION & OBLIGATORISK FÖRANMÄLAN\nhttps://www.heptown.com/sv/kurser/\nhttps://dans.se/heptown/shop/?event=168411&info=1 \n### MER LINDY HOP-KURSER\nhttps://www.heptown.com/sv/kurser/schema/ \nLOKALEN\nDet är HepTown som arrangerar men kursen hålls i Gåsastegets nya fina lokal med fantastiskt dansgolv. \nKalkstensvägen 6\, 224 78 Lund\nhttps://goo.gl/maps/LEcD27UhbmBsiQCb8 \n** ENGLISH *** ENGLISH *** ENGLISH *** ENGLISH *** ENGLISH ** \nBeginners weekend in Lindy Hop aka jitterbug \, an African American couple swing dance from the ’30s Harlem\, NY. This class is targeted at adults BUT teens that are OK taking classes with adults are also welcome to join. \nDETAILS & MANDATORY REGISTRATION\nhttps://www.heptown.com/classes/\nhttps://dans.se/heptown/shop/?event=168411&info=1 \n### MORE LINDY HOP CLASSES\nhttps://www.heptown.com/classes/schedule/ \nLOCATION\nIt is HepTown that arranges\, but the course is held in Gåsasteget’s new venue with a fantastic dance floor. \nKalkstensvägen 6\, 224 78 Lund\nhttps://goo.gl/maps/LEcD27UhbmBsiQCb8 \nWelcome to this thing called swing! \n#heptown #dans #danskurs  #lindyhop #swingdans
URL:https://www.heptown.com/calendar/lindy-hop-beginners-weekend-in-lund-27-28-5/
LOCATION:Lunds Dansklubb Gåsasteget\, Kalkstensvägen 6\, Lund\, 22359\, Sweden
CATEGORIES:Big event,HepTown,Lindy Hop,Lund
ATTACH;FMTTYPE=image/jpeg:https://www.heptown.com/wp-content/uploads/2023/02/30370_image_330945338_731062568656312_2670774784920315006_n.jpg
END:VEVENT
BEGIN:VEVENT
DTSTART;TZID=Europe/Helsinki:20221216T190000
DTEND;TZID=Europe/Helsinki:20221216T220000
DTSTAMP:20260420T173141
CREATED:20221203T151429Z
LAST-MODIFIED:20221203T151656Z
UID:10005736-1671217200-1671228000@www.heptown.com
SUMMARY:Lindy/Boogie Christmas Swing for Ukranie
DESCRIPTION:Välkommen till Socialdanskväll Lindy/Boogie Christmas SWING ! \nKvällen bjuder på en kort “prova på” i Boogie Woogie \n—> Kvällens Dj: NUTTY! <— \nsamt våra egna hustomtar\n–> DJ Dee Yay\n–> BoogieRainer \nspelar Lindy / Boogie / Swing varvat mellan 19:00 – 22.00 och vi dansar\n“all night long”! \nVi fortsätter att sälja batch “Dance Buddy” gjord och skänkt av medlem till förmån för Ukrania!\nVarenda öre du väljer att betala går oavkortat till Ukraina \nSwingfredagar: 9/9\, 28/10\, 25/11\, 16/12\nkl 19:00 – 22:00 \nPlats: Kalkstensvägen 6\, Lund \nEntré:\n60 kr/medlemmar i Gåsasteget. 80 kr/ej medlem i Gåsasteget\, betalas på plats med SWISH eller kort. \nIngen föranmälan\, men markera gärna i  eventet att du kommer! \nFika till försäljning! \nTa med vänner\, familj\, dansskorna och kom…\nTHERE WILL BE DANCE!!!!!! \nVänligen respektera: inga ytterskor\, skor med klack eller med svart sula som kan göra märken i vårt nylagda golv är tillåtna i lokalen \nVälkomna!
URL:https://www.heptown.com/calendar/lindy-boogie-christmas-swing-for-ukranie/
LOCATION:Lunds Dansklubb Gåsasteget\, Kalkstensvägen 6\, Lund\, 22359\, Sweden
CATEGORIES:Öresund
ATTACH;FMTTYPE=image/jpeg:https://www.heptown.com/wp-content/uploads/2022/12/29661_image_317500751_5441518989280544_1826266022886277668_n.jpg
END:VEVENT
BEGIN:VEVENT
DTSTART;TZID=Europe/Helsinki:20221125T190000
DTEND;TZID=Europe/Helsinki:20221125T220000
DTSTAMP:20260420T173141
CREATED:20221121T102427Z
LAST-MODIFIED:20221125T133118Z
UID:10005112-1669402800-1669413600@www.heptown.com
SUMMARY:Lindy/Boogie Swing Night for Ukranie
DESCRIPTION:Välkommen till Socialdanskväll Lindy/Boogie Night SWING for Ukranie! \nKvällen bjuder på en kort “prova på” i Boogie Woogie med Mikael Ewald & Åsa Fridh! \nDessutom inte mindre än 2 st DJ`s!!!:\n–> DJ Dee Yay\n–> BoogieRainer\nsom spelar Lindy & Boogiemusik varvat mellan 19:00 – 22.00 och vi dansar\n“all night long”! \nVi fortsätter att sälja batch “Dance Buddy” gjord och skänkt av medlem till förmån för Ukrania!\nVarenda öre du betalar går oavkortat till Ukraina\n(Se bild i kommentarer) \nSwingfredagar: 9/9\, 28/10\, 25/11\, 16/12\nkl 19:00 – 22:00 \nPlats: Kalkstensvägen 6\, Lund \nEntré:\n60 kr/medlemmar i Gåsasteget. 80 kr/ej medlem i Gåsasteget\, betalas på plats med SWISH eller kort. \nIngen föranmälan\, men markera gärna i  eventet att du kommer! \nFika till försäljning! \nTa med vänner\, familj\, dansskorna och kom…\nTHERE WILL BE DANCE!!!!!! \nVänligen respektera: inga ytterskor\, skor med klack eller med svart sula som kan göra märken i vårt nylagda golv är tillåtna i lokalen \nVälkomna!
URL:https://www.heptown.com/calendar/lindy-boogie-swing-night-for-ukranie-6/
LOCATION:Lunds Dansklubb Gåsasteget\, Kalkstensvägen 6\, Lund\, 22359\, Sweden
CATEGORIES:Öresund
ATTACH;FMTTYPE=image/jpeg:https://www.heptown.com/wp-content/uploads/2022/11/29334_image_315684319_5394755670623543_5722303863830002846_n.jpg
END:VEVENT
BEGIN:VEVENT
DTSTART;TZID=Europe/Paris:20221112T090000
DTEND;TZID=Europe/Paris:20221113T140000
DTSTAMP:20260420T173141
CREATED:20220915T173729Z
LAST-MODIFIED:20221104T182650Z
UID:10005068-1668243600-1668348000@www.heptown.com
SUMMARY:Lindy Hop Beginners' Weekend in Lund 12-13/11
DESCRIPTION:Nybörjarhelg i swingdansen Lindy Hop\, a.k.a Jitterbugg\, en Afroamerikansk pardans från 30-talets Harlem\, vilken stilmässigt har mer gemensamt med dagens street-dance än annan pardans. \nKursen riktar sig till vuxna men tonåringar som vågar är välkomna att delta. \nMER INFORMATION & OBLIGATORISK FÖRANMÄLAN\nhttps://www.heptown.com/sv/kurser/\nhttps://dans.se/heptown/shop/?event=168411&info=1 \n### MER LINDY HOP-KURSER\nhttps://www.heptown.com/sv/kurser/schema/ \nLOKALEN\nDet är HepTown som arrangerar men kursen hålls i Gåsastegets nya fina lokal med fantastiskt dansgolv. \nKalkstensvägen 6\, 224 78 Lund\nhttps://goo.gl/maps/LEcD27UhbmBsiQCb8 \n** ENGLISH *** ENGLISH *** ENGLISH *** ENGLISH *** ENGLISH ** \nBeginners weekend in Lindy Hop aka jitterbug \, an African American couple swing dance from the ’30s Harlem\, NY. This class is targeted at adults BUT teens that are OK taking classes with adults are also welcome to join. \nDETAILS & MANDATORY REGISTRATION\nhttps://www.heptown.com/classes/\nhttps://dans.se/heptown/shop/?event=168411&info=1 \n### MORE LINDY HOP CLASSES\nhttps://www.heptown.com/classes/schedule/ \nLOCATION\nIt is HepTown that arranges\, but the course is held in Gåsasteget’s new venue with a fantastic dance floor. \nKalkstensvägen 6\, 224 78 Lund\nhttps://goo.gl/maps/LEcD27UhbmBsiQCb8 \nWelcome to this thing called swing! \n#heptown #dans #danskurs  #lindyhop #swingdans
URL:https://www.heptown.com/calendar/lindy-hop-beginners-weekend-in-lund-12-13-11/
LOCATION:Lunds Dansklubb Gåsasteget\, Kalkstensvägen 6\, Lund\, 22359\, Sweden
CATEGORIES:Beginners' Weekend,Big event,HepTown,International Swing Dance Event,Lindy Hop,Lund,Öresund
ATTACH;FMTTYPE=image/jpeg:https://www.heptown.com/wp-content/uploads/2022/09/27301_image_314383940_548048917330609_5975004014331219149_n.jpg
END:VEVENT
BEGIN:VEVENT
DTSTART;TZID=Europe/Stockholm:20221028T190000
DTEND;TZID=Europe/Stockholm:20221028T190000
DTSTAMP:20260420T173141
CREATED:20221011T163635Z
LAST-MODIFIED:20221011T163635Z
UID:10005101-1666983600-1666983600@www.heptown.com
SUMMARY:Lindy/Boogie Swing Night for Ukranie
DESCRIPTION:Välkommen till Socialdanskväll Lindy/Boogie Night SWING for Ukranie! \nKvällen bjuder på en kort “prova på” i Boogie Woogie med Kristian & Karin! \nDessutom inte mindre än 3 st DJ`s!!!:\n–> Erika Miegel\n–> DJ Dee Yay\n–> BoogieRainer \nDet spelas Lindy & Boogiemusik varvat mellan 19:00 – 22.00 och vi dansar “all night long”! \nVi fortsätter att sälja batch “Dance Buddy” gjord och skänkt av medlem till förmån för Ukrania!\nVarenda öre du betalar går oavkortat till Ukraina \nSwingfredagar: 9/9\, 28/10\, 25/11\, 16/12\nkl 19:00 – 22:00\nPlats: Kalkstensvägen 6\, Lund\nEntré:\n60 kr/medlemmar i Gåsasteget. 80 kr/ej medlem i Gåsasteget\, betalas på plats med SWISH eller kort. \nIngen föranmälan\, men markera gärna i eventet att du kommer! \nKorv med bröd till försäljning minsann!\nTa med vänner\, familj\, dansskorna och kom…\nTHERE WILL BE DANCE!!!!!! \nVänligen respektera: inga ytterskor\, skor med klack eller med svart sula som kan göra märken i vårt nylagda golv är tillåtna i lokalen\nVälkomna!
URL:https://www.heptown.com/calendar/lindy-boogie-swing-night-for-ukranie-4/
LOCATION:Lunds Dansklubb Gåsasteget\, Kalkstensvägen 6\, Lund\, 22359\, Sweden
CATEGORIES:Öresund
ATTACH;FMTTYPE=image/jpeg:https://www.heptown.com/wp-content/uploads/2022/10/28440_image_311574576_5297353080363803_1710241904083674136_n.jpg
END:VEVENT
END:VCALENDAR