BEGIN:VCALENDAR
VERSION:2.0
PRODID:-//HepTown - ECPv6.15.20//NONSGML v1.0//EN
CALSCALE:GREGORIAN
METHOD:PUBLISH
X-ORIGINAL-URL:https://www.heptown.com
X-WR-CALDESC:Events for HepTown
REFRESH-INTERVAL;VALUE=DURATION:PT1H
X-Robots-Tag:noindex
X-PUBLISHED-TTL:PT1H
BEGIN:VTIMEZONE
TZID:Europe/Paris
BEGIN:DAYLIGHT
TZOFFSETFROM:+0100
TZOFFSETTO:+0200
TZNAME:CEST
DTSTART:20220327T010000
END:DAYLIGHT
BEGIN:STANDARD
TZOFFSETFROM:+0200
TZOFFSETTO:+0100
TZNAME:CET
DTSTART:20221030T010000
END:STANDARD
BEGIN:DAYLIGHT
TZOFFSETFROM:+0100
TZOFFSETTO:+0200
TZNAME:CEST
DTSTART:20230326T010000
END:DAYLIGHT
BEGIN:STANDARD
TZOFFSETFROM:+0200
TZOFFSETTO:+0100
TZNAME:CET
DTSTART:20231029T010000
END:STANDARD
BEGIN:DAYLIGHT
TZOFFSETFROM:+0100
TZOFFSETTO:+0200
TZNAME:CEST
DTSTART:20240331T010000
END:DAYLIGHT
BEGIN:STANDARD
TZOFFSETFROM:+0200
TZOFFSETTO:+0100
TZNAME:CET
DTSTART:20241027T010000
END:STANDARD
END:VTIMEZONE
BEGIN:VEVENT
DTSTART;TZID=Europe/Paris:20230206T173000
DTEND;TZID=Europe/Paris:20230206T220000
DTSTAMP:20260421T104507
CREATED:20230127T120030Z
LAST-MODIFIED:20230206T193407Z
UID:10002022-1675704600-1675720800@www.heptown.com
SUMMARY:More Monday Lindy Hop courses in Lund start
DESCRIPTION:Monday is the BIG Lindy Hop evening in Lund with classes at Järnåkraskolan and both classes and social dance at Kårhuset. \n\nSeason Pass Monday Night Swing \nThe Jazz n’ Lindy Study Circle    \nB. Lindy Hop Beg-continued    20/2\, 18:15\nC. Lindy Hop Beg-intermediate 6/2\, 17:30\nFAST IS FUN! Lindy Hop    6/2\, 18:50\nCONNECTION. Lindy Hop 13/3\, 18:50\n\nMonday courses\nhttps://www.heptown.com/classes/schedule/#mondays \nMonday Night Swing social dance\nhttps://www.heptown.com/monday-night-swing/ \n### MORE LINDY HOP CLASSES\nWe got many more courses on Sundays in Lund and Tuesdays and Wednesdays in Malmö. \nhttps://www.heptown.com/classes/schedule/ \nAnd beginners weekends at:https://www.heptown.com/classes/ \nMore about the essential building blocks\nhttps://www.heptown.com/classes/core-lindy-hop-themes/ \nMONDAY NIGHT SWING SOCIAL DANCE\nhttps://www.heptown.com/monday-night-swing/ \n#heptown #dans #danskurs  #lindyhop #swingdans\n\n\n\n\n\n\n\n                    No events or products found
URL:https://www.heptown.com/calendar/more-monday-lindy-hop-courses-in-lund-start-2/
LOCATION:Lund\, Staffanstorp\, SE
CATEGORIES:Öresund
ATTACH;FMTTYPE=image/jpeg:https://www.heptown.com/wp-content/uploads/2023/01/30097_image_324190953_761838085367312_1889337537541983990_n.jpg
END:VEVENT
BEGIN:VEVENT
DTSTART;TZID=Europe/Paris:20230206T173000
DTEND;TZID=Europe/Paris:20230206T220000
DTSTAMP:20260421T104507
CREATED:20230125T150554Z
LAST-MODIFIED:20230125T150554Z
UID:10005748-1675704600-1675720800@www.heptown.com
SUMMARY:More Monday Lindy Hop courses in Lund start
DESCRIPTION:Monday is the BIG Lindy Hop evening in Lund with classes at Järnåkraskolan and both classes and social dance at Kårhuset. \n\nSeason Pass Monday Night Swing \nThe Jazz n’ Lindy Study Circle    \nB. Lindy Hop Beg-continued    20/2\, 18:15\nC. Lindy Hop Beg-intermediate 6/2\, 17:30\nFAST IS FUN! Lindy Hop    6/2\, 18:50\nCONNECTION. Lindy Hop 13/3\, 18:50\n\nMonday courses\nhttps://www.heptown.com/classes/schedule/#mondays \nMonday Night Swing social dance\nhttps://www.heptown.com/monday-night-swing/ \n### MORE LINDY HOP CLASSES\nWe got many more courses on Sundays in Lund and Tuesdays and Wednesdays in Malmö. \nhttps://www.heptown.com/classes/schedule/ \nAnd beginners weekends at:https://www.heptown.com/classes/ \nMore about the essential building blocks\nhttps://www.heptown.com/classes/core-lindy-hop-themes/ \nMONDAY NIGHT SWING SOCIAL DANCE\nhttps://www.heptown.com/monday-night-swing/ \n#heptown #dans #danskurs  #lindyhop #swingdans\n\n\n\n\n\n\n\n                    No events or products found
URL:https://www.heptown.com/calendar/more-monday-lindy-hop-courses-in-lund-start/
LOCATION:Lund\, Staffanstorp\, SE
CATEGORIES:Öresund
ATTACH;FMTTYPE=image/jpeg:https://www.heptown.com/wp-content/uploads/2023/01/30029_image_324190953_761838085367312_1889337537541983990_n.jpg
END:VEVENT
BEGIN:VEVENT
DTSTART;TZID=Europe/Paris:20230122T163000
DTEND;TZID=Europe/Paris:20230122T194500
DTSTAMP:20260421T104507
CREATED:20230117T172151Z
LAST-MODIFIED:20230120T104143Z
UID:10005744-1674405000-1674416700@www.heptown.com
SUMMARY:Sunday Lindy Hop courses & open practice in Lund start
DESCRIPTION:Already this Sunday the 22rd we start the Sunday Lindy Hop courses in Lund. \nAt Lerbäckskolan we got an almost sold out A Lindy Hop Beginners’ course with 5 sessions that continues with B Beg-continued and a C Beg-intermediate that continues with C+ \nParallell to these we also got a Study Circle & social dance where you cant practice more \nhttps://www.heptown.com/classes/schedule/#sundays \n\nA https://dans.se/heptown/shop/?event=168837&info=1 \nB https://dans.se/heptown/shop/?event=168842&info=1\nC https://dans.se/heptown/shop/?event=169109&info=1\nC+ https://dans.se/heptown/shop/?event=169113&info=1\nStudy Circle & social dance https://dans.se/heptown/shop/?event=175285&info=1\nMORE LINDY HOP CLASSES\nWe got many more courses on Mondays in Lund and Tuesdays and Wednesdays in Malmö.\n\nhttps://www.heptown.com/classes/schedule/ \nAnd beginners weekends at:https://www.heptown.com/classes/ \n#heptown #dans #danskurs  #lindyhop #swingdans\n\n\n\n\n\n\n\n                    No events or products found
URL:https://www.heptown.com/calendar/sunday-lindy-hop-courses-open-practice-in-lund-start/
LOCATION:Lund\, Staffanstorp\, SE
CATEGORIES:Big event,HepTown,Lindy Hop,Lund
END:VEVENT
END:VCALENDAR