BEGIN:VCALENDAR
VERSION:2.0
PRODID:-//HepTown - ECPv6.15.20//NONSGML v1.0//EN
CALSCALE:GREGORIAN
METHOD:PUBLISH
X-ORIGINAL-URL:https://www.heptown.com
X-WR-CALDESC:Events for HepTown
REFRESH-INTERVAL;VALUE=DURATION:PT1H
X-Robots-Tag:noindex
X-PUBLISHED-TTL:PT1H
BEGIN:VTIMEZONE
TZID:Europe/Stockholm
BEGIN:DAYLIGHT
TZOFFSETFROM:+0100
TZOFFSETTO:+0200
TZNAME:CEST
DTSTART:20180325T010000
END:DAYLIGHT
BEGIN:STANDARD
TZOFFSETFROM:+0200
TZOFFSETTO:+0100
TZNAME:CET
DTSTART:20181028T010000
END:STANDARD
BEGIN:DAYLIGHT
TZOFFSETFROM:+0100
TZOFFSETTO:+0200
TZNAME:CEST
DTSTART:20190331T010000
END:DAYLIGHT
BEGIN:STANDARD
TZOFFSETFROM:+0200
TZOFFSETTO:+0100
TZNAME:CET
DTSTART:20191027T010000
END:STANDARD
BEGIN:DAYLIGHT
TZOFFSETFROM:+0100
TZOFFSETTO:+0200
TZNAME:CEST
DTSTART:20200329T010000
END:DAYLIGHT
BEGIN:STANDARD
TZOFFSETFROM:+0200
TZOFFSETTO:+0100
TZNAME:CET
DTSTART:20201025T010000
END:STANDARD
END:VTIMEZONE
BEGIN:VEVENT
DTSTART;TZID=Europe/Stockholm:20190907T110000
DTEND;TZID=Europe/Stockholm:20190908T160000
DTSTAMP:20260423T162752
CREATED:20190603T125432Z
LAST-MODIFIED:20190907T161628Z
UID:10005038-1567854000-1567958400@www.heptown.com
SUMMARY:Lindy Hop nybörjarhelg för studenter & unga i Lund 7-8/9
DESCRIPTION:Specialkurs i samarbete med Teknologkårens Danskurser till ett mycket förmånligt pris endast för dig som är student och/eller under 26 år. Andra helger har vi även kurser öppna för alla. \nOBS! Kursen är flyttad till  Lerbäcksskolan\, Öresundsvägen 2\, Lund.\nTycker du det verkar roligt att dansa\, men har aldrig vågat själv? Eller dansar du redan\, och vill prova något nytt? Är du nyfiken på swingdansen lindy hop? Heptowns nybörjarhelg i Lund i sammarbete med Teknologkårens Danskurser kan då vara något för dig! \nDenna grundläggande kurs är till för dig som inte har några som helst kunskaper i Lindy Hop\, eller som gått någon enstaka kurs för länge sedan och behöver putsa upp grunderna igen. \nDu kommer att lära dig olika grundsteg\, de vanligaste turerna och grundläggande förar- och följarteknik. Målet med nybörjarkursen är att du ska kunna dansa socialt med oss andra på danskvällarna. \nTill våra kurser kommer deltagare ensamma\, i par eller med ett gäng vänner. Om du anmäler dig i ett par (förare + följare) är ni garanterade plats så länge kursen inte är fulltecknad. På kursen roterar vi med jämna mellanrum och byter danspartner. \nKursen anordnas som ett samarbete mellan Teknologkårens Danskurser och HepTown. \n\nNär: Lördag & söndag kl 11-16 samt   \nVar: Var: Lerbäcksskolan\, Öresundsvägen 2\, Lund.\nKrav: INGA (men ta med inomhusskor och lunch)\nKostnad: 500kr (inkluderar HepCat medlemskap på 50kr) \nEn rabatt på 100kr ges till dem som anmäler sig  och betalar senast 3 veckor innan kursstart.\nLTH-studenter får ytterligare 100 kr i rabatt om de använder bokningskoden TLTH\n\nMer info på: https://www.heptown.com/sv/lth/\nDirekt till anmälan:https://dans.se/shop/?org=heptown&event=89826 \nFler kurser: https://www.heptown.com/sv/kurser/ \nOBS! Kursen löper över både lördag och söndag. En anmälan gäller m.a.o. båda dagarna. \n\nLindy Hop beginners’ weekend for students \nOur introductory course is for those who have no knowledge of Lindy Hop\, or took a couple of courses a long time ago and need to brush up the basics again. \nNOTE! moved to Lerbäcksskolan\, Öresundsvägen 2\, Lund.\nYou will learn different basic steps\, the most common figures and basic leading/following techniques. The aim of the introductory course is to enable you to dance with the rest of us during social dance nights. \nThe workshop is a two-day introduction to this cool thing called Swing. We promise a workout worth a fitness centre combined with more fun than you’ve had for weeks. But be warned – it’s addictive… \nThe course is arranged as a collaboration between Teknologkåren’s Dance Courses and HepTown. \nWhen: Saturday & Sunday 11-16\nWhere:Var: Lerbäcksskolan\, Öresundsvägen 2\, Lund.\nRequirements: NONE (bring flat indoor shoes and some lunch – that’s all)\nPrice: SEK 500 (including HepCat memberchip of SEK 50)\nA discount of SEK 100 is offered those who register and pay at least 3 weeks in advance .\nAn additional discount of SEK 100 is offered  LTH-students.. Use the booking code TLTH\nMore info at: https://www.heptown.com/lth/\nDirect to registration: https://dans.se/shop/?org=heptown&event=89826 \nMore swing classes: https://www.heptown.com/classes/
URL:https://www.heptown.com/calendar/lindy-hop-nyborjarhelg-for-studenter-unga-7-8-9/
LOCATION:Lerbäcksskolan Lund\, Lund\, 222 37\, SE
CATEGORIES:Beginners' Weekend,Big event,HepTown,Lindy Hop,Lund,Öresund
ATTACH;FMTTYPE=image/jpeg:https://www.heptown.com/wp-content/uploads/2019/06/12031_image_67520891_2574231839261766_7461829902350680064_o.jpg
GEO:55.707825;13.1843002
END:VEVENT
END:VCALENDAR