BEGIN:VCALENDAR
VERSION:2.0
PRODID:-//HepTown - ECPv6.15.20//NONSGML v1.0//EN
CALSCALE:GREGORIAN
METHOD:PUBLISH
X-ORIGINAL-URL:https://www.heptown.com
X-WR-CALDESC:Events for HepTown
REFRESH-INTERVAL;VALUE=DURATION:PT1H
X-Robots-Tag:noindex
X-PUBLISHED-TTL:PT1H
BEGIN:VTIMEZONE
TZID:Europe/Stockholm
BEGIN:DAYLIGHT
TZOFFSETFROM:+0100
TZOFFSETTO:+0200
TZNAME:CEST
DTSTART:20200329T010000
END:DAYLIGHT
BEGIN:STANDARD
TZOFFSETFROM:+0200
TZOFFSETTO:+0100
TZNAME:CET
DTSTART:20201025T010000
END:STANDARD
BEGIN:DAYLIGHT
TZOFFSETFROM:+0100
TZOFFSETTO:+0200
TZNAME:CEST
DTSTART:20210328T010000
END:DAYLIGHT
BEGIN:STANDARD
TZOFFSETFROM:+0200
TZOFFSETTO:+0100
TZNAME:CET
DTSTART:20211031T010000
END:STANDARD
BEGIN:DAYLIGHT
TZOFFSETFROM:+0100
TZOFFSETTO:+0200
TZNAME:CEST
DTSTART:20220327T010000
END:DAYLIGHT
BEGIN:STANDARD
TZOFFSETFROM:+0200
TZOFFSETTO:+0100
TZNAME:CET
DTSTART:20221030T010000
END:STANDARD
END:VTIMEZONE
BEGIN:VEVENT
DTSTART;TZID=Europe/Stockholm:20210828T153000
DTEND;TZID=Europe/Stockholm:20210828T220000
DTSTAMP:20260420T213940
CREATED:20210828T155033Z
LAST-MODIFIED:20210828T155033Z
UID:10005573-1630164600-1630188000@www.heptown.com
SUMMARY:Swingdans på havnen
DESCRIPTION:Tag danseskoene med til havnekanten\, når foreningerne SwingShoes og Ministry of Balboa byder op til dans i stilarterne Lindy Hop\, Charleston\, Balboa og Slow Ball. Efter en kort introduktion til de forskellige typer dans vil der være frit dansegulv for alle deltagere.\nSom deltager behøver du ikke være øvet – alle er velkomne\, og det kræver ikke mange svære dansetrin at komme i gang. \nDen frie dans krydres med en DJ\, som tager musik på vinylplader med. Se frem til et mix af musik\, der virkelig sætter gang i dansen. \nOverordnet program: \nKl. 16.00 – 16.30: Taster med Balboa med 2 instruktører\nKl. 16.30 – 17.00: Fri dans m/Balboa og DJ\nKl. 17.00 – 17.30: Taster Lindy Hop med 2 instruktører\nKl. 17.30 – 18.00: Fri dans m/ Lindy Hop og DJ\nKl. 18.00 – 18.30: Taster med Slow ball med 2 instruktører\nKl. 18.30 – 19.00: Fri dans m/ Slow ball og DJ\nKl. 19.00 – 19.30: Taster med Lindy hop/Charleston med 2 instruktører\nKl. 19.30 – 20.00: Fri dans m/ Lindy/Charleston og DJ\nKl. 20.00 – 22.00: Live band med fri dans \nAnbefalet fodtøj er flade sko\, ingen tynde hæle.\nOm Kulturhavn Festival \nDen 27.-29. august går vi på opdagelse i Københavns blå byrum og fejrer byens mangfoldige kultur- og foreningsliv. Som festivalgæst ved Kulturhavn har man muligheden for at opleve hovedstadens fantastiske og meget forskellige havnekvarterer gennem aktiviteter arrangeret af lokale foreninger\, kulturskabere og kreative ildsjæle. Alle aktiviteter på festivalen er gratis. \nSe det fulde program på www.kulturhavnprogram.dk fra d. 9. august \nKulturhavn Festival er en del af Københavns Kommune og støttet af By & Havn og Kgs. Enghave Lokaludvalg. \nCovid-19 \nKulturhavn Festival overholder naturligvis myndighedernes gældende retningslinjer. Vi opfordrer til\, at alle har deres smittestop-app tændt ved deltagelse i festivalen og følger med på www.coronasmitte.dk.
URL:https://www.heptown.com/calendar/swingdans-pa-havnen/
LOCATION:Kyssetrappen Ophelia Plads\, Ofelia Plads\, Copenhagen\, DK
CATEGORIES:Öresund
ATTACH;FMTTYPE=image/jpeg:https://www.heptown.com/wp-content/uploads/2021/08/23266_image_232162855_10159464389589555_8485534673113437868_n.jpg
GEO:55.6806986;12.5950433
X-APPLE-STRUCTURED-LOCATION;VALUE=URI;X-ADDRESS=Kyssetrappen Ophelia Plads Ofelia Plads Copenhagen DK;X-APPLE-RADIUS=500;X-TITLE=Ofelia Plads:geo:12.5950433,55.6806986
END:VEVENT
END:VCALENDAR