BEGIN:VCALENDAR
VERSION:2.0
PRODID:-//HepTown - ECPv6.15.20//NONSGML v1.0//EN
CALSCALE:GREGORIAN
METHOD:PUBLISH
X-ORIGINAL-URL:https://www.heptown.com
X-WR-CALDESC:Events for HepTown
REFRESH-INTERVAL;VALUE=DURATION:PT1H
X-Robots-Tag:noindex
X-PUBLISHED-TTL:PT1H
BEGIN:VTIMEZONE
TZID:Europe/Stockholm
BEGIN:DAYLIGHT
TZOFFSETFROM:+0100
TZOFFSETTO:+0200
TZNAME:CEST
DTSTART:20190331T010000
END:DAYLIGHT
BEGIN:STANDARD
TZOFFSETFROM:+0200
TZOFFSETTO:+0100
TZNAME:CET
DTSTART:20191027T010000
END:STANDARD
BEGIN:DAYLIGHT
TZOFFSETFROM:+0100
TZOFFSETTO:+0200
TZNAME:CEST
DTSTART:20200329T010000
END:DAYLIGHT
BEGIN:STANDARD
TZOFFSETFROM:+0200
TZOFFSETTO:+0100
TZNAME:CET
DTSTART:20201025T010000
END:STANDARD
BEGIN:DAYLIGHT
TZOFFSETFROM:+0100
TZOFFSETTO:+0200
TZNAME:CEST
DTSTART:20210328T010000
END:DAYLIGHT
BEGIN:STANDARD
TZOFFSETFROM:+0200
TZOFFSETTO:+0100
TZNAME:CET
DTSTART:20211031T010000
END:STANDARD
END:VTIMEZONE
BEGIN:VEVENT
DTSTART;TZID=Europe/Stockholm:20200402T200000
DTEND;TZID=Europe/Stockholm:20200402T220000
DTSTAMP:20260421T103257
CREATED:20200401T110220Z
LAST-MODIFIED:20200406T155340Z
UID:10005469-1585857600-1585864800@www.heptown.com
SUMMARY:Streamad Speakeasy club - hot swing på 2Lång
DESCRIPTION:Gentlemen & Gangsters bjuder in till STREAMAD Speakeasy-klubb i 20-talsanda på 2Lång i Göteborg.\nVi kan tyvärr inte ta in publik\, men vi hoppas att ni är med oss virtuellt istället. Restaurangen är alltså INTE öppen\, och pga av det låter vi intäkterna gå till 2Lång så att de överlever krisen. Annars finns det ingen Speakeasy club kvar när detta är över…\n🙁\nDet kommer också att sändas på The Global Online Social https://www.facebook.com/events/565021747695662/ där ni kan via tjänsten Zoom vara med i video och dansa hemma tillsammans med folk från hela världen.  \nEn biljett brukar kosta 150:- (just saying…) \n2Långs swishnummer är 1233132537.\nBandet kan man stötta genom att köpa musik på https://gentlemenandgangsters.bandcamp.com\nhttps://music.apple.com/se/artist/gentlemen-gangsters/1295178465  \n2Lång skriver själva så här:  \n“Älskade publik! Vi behöver din hjälp och ditt stöd.\nHösten 2013 startade vi med hjälp av era fantastiska donationer Kvartersscenen 2Lång som sedan dess varit en stabil\, välmående och unik kulturverksamhet i Göteborg\, utan kommunalt eller statligt stöd. Det vill säga\, vi är helt självfinansierade. \nVi har genom åren sökt diverse stöd och senast i raden verksamhetsstöd då vi ville växa och utveckla den sceniska verksamheten på 2Lång. Varje gång har vi fått avslag\, senast bland annat med motiveringen – avsaknad av konstnärlig vision.\nMen detta har inte hindrat oss\, vi ju klarat oss i 6 år på egen hand. Så kom Corona och plingade på dörren. Nu står vi plötsligt här med föreställningar som ställs in\, publik som bokar av\, höga lokalkostnader och personal som inte har jobb. \nVi jobbar nu på alla plan för att komma på smarta kreativa lösningar för vår överlevnad och vänder oss nu till er – våra älskade gäster på 2Lång – igen.\nHjälp oss att vara kvar\, hjälp oss kunna fortsätta driva vår scen och fortsätta vår ”avsaknad av konstnärlig vision”. Vi vill ju kunna fortsätta med vår kreativa lekfullhet och sprida glädje till vår publik. Till er alltså! \nVårt swishnummer är 1233132537 och vi tar tacksamt emot ditt stöd\, din hjälp. Som tack kommer du bli coronad på vår minnesvägg på 2lång. Ditt namn kommer att vara förevigat på minnesväggen ”Vi som räddade 2Lång 2020” och ditt namn kommer också för evigt att vara inristat i våra hjärtan.\nOBS! Swisha gärna lite mer än 2\,50 kr för det är vad banken tar i avgift per insättning.\nAll vår kärlek Tobias\, Frida\, Magnus\, Jens och Maja” \nEndast 150:- för en resa bakåt i tiden! Biljetter kan köpas i dörren eller via länken nedan. Studentpris 100:- \nKalendarium/biljetter \n \nGentlemen & Gangsters består av:\nHenrik Johnsson\, trombone\nThomas Rylander\, clarinet\, saxophones\nPål Walfridsson\, trumpet & vocals\nMartin Olsson\, guitar\nAugust Eriksson\, double bass\nAdam Ross\, drums \n“The Gentlemen & Gangsters play traditional New Orleans hot jazz with a touch of swing. Focusing on authenticity in content and delivery\, as well as a solid\, driving rhythm\, the group strive to play music that moves you and that stays true to the style of jazz giants such as Louis Armstrong\, Bix Beiderbecke\, Muggsy Spanier\, Sidney Bechet\, Duke Ellington\, etc.” \nGentlemen & Gangsters
URL:https://www.heptown.com/calendar/streamad-speakeasy-club-hot-swing-pa-2lang/
LOCATION:Kvartersscenen 2Lång\, Andra Långgatan 30\, Gothenburg\, 413 27\, SE
CATEGORIES:Streamed swing dance events
ATTACH;FMTTYPE=image/jpeg:https://www.heptown.com/wp-content/uploads/2020/04/19000_image_91220165_10159625735864972_8930513906456068096_o.jpg
GEO:57.6987469;11.9453867
X-APPLE-STRUCTURED-LOCATION;VALUE=URI;X-ADDRESS=Kvartersscenen 2Lång Andra Långgatan 30 Gothenburg 413 27 SE;X-APPLE-RADIUS=500;X-TITLE=Andra Långgatan 30:geo:11.9453867,57.6987469
END:VEVENT
END:VCALENDAR