BEGIN:VCALENDAR
VERSION:2.0
PRODID:-//HepTown - ECPv6.15.20//NONSGML v1.0//EN
CALSCALE:GREGORIAN
METHOD:PUBLISH
X-ORIGINAL-URL:https://www.heptown.com
X-WR-CALDESC:Events for HepTown
REFRESH-INTERVAL;VALUE=DURATION:PT1H
X-Robots-Tag:noindex
X-PUBLISHED-TTL:PT1H
BEGIN:VTIMEZONE
TZID:Europe/Helsinki
BEGIN:DAYLIGHT
TZOFFSETFROM:+0200
TZOFFSETTO:+0300
TZNAME:EEST
DTSTART:20170326T010000
END:DAYLIGHT
BEGIN:STANDARD
TZOFFSETFROM:+0300
TZOFFSETTO:+0200
TZNAME:EET
DTSTART:20171029T010000
END:STANDARD
BEGIN:DAYLIGHT
TZOFFSETFROM:+0200
TZOFFSETTO:+0300
TZNAME:EEST
DTSTART:20180325T010000
END:DAYLIGHT
BEGIN:STANDARD
TZOFFSETFROM:+0300
TZOFFSETTO:+0200
TZNAME:EET
DTSTART:20181028T010000
END:STANDARD
BEGIN:DAYLIGHT
TZOFFSETFROM:+0200
TZOFFSETTO:+0300
TZNAME:EEST
DTSTART:20190331T010000
END:DAYLIGHT
BEGIN:STANDARD
TZOFFSETFROM:+0300
TZOFFSETTO:+0200
TZNAME:EET
DTSTART:20191027T010000
END:STANDARD
END:VTIMEZONE
BEGIN:VEVENT
DTSTART;TZID=Europe/Helsinki:20180406T190000
DTEND;TZID=Europe/Helsinki:20180406T220000
DTSTAMP:20260423T175924
CREATED:20180309T234759Z
LAST-MODIFIED:20180406T234802Z
UID:10004666-1523041200-1523052000@www.heptown.com
SUMMARY:All That Jazz
DESCRIPTION:Velkommen til en forrygende aften med herlig jazzmusik\, swingdans og lækker tapas. \nAnna Pauline Andersson synger sange fra den amerikanske jazzskat og udvalgte numre fra Monica Zetterlunds repertoire.\nHun akkompagneres af Marco Spallanzani guitar\, Jacob Smedegaard på trommer og Jacob Broholm på orgel. \nPROGRAM:\n\n19.00:    Tapas\, rødvin\, swing-jazz og godt humør \n19.30:    Introduktion til SwingDans v. HepCats (www.hepcats.dk)\n20.00:    Live musik og swing-dans\n\nPRIS:\n\nJazz og dans:  50 kr. (19.30-22 – betaling i døren)\n\nOBS. Middag udsolgt\, men man er velkommen til at købe drikkevarer i baren 🙂 \nSÅDAN KOMMER DU TIL KULTURZONEN\n\nBus 33 kører lige til døren fra Rådhuspladsen (30 min) / Islands Brygge Metro Station (20 min) – og tilbage igen når musikken takker af. \nAdressen er Kulturzonen\, Nøragersmindevej 90\, 2791 Dragør.\n\nSPØRGSMÅL?\n\nStil dem herunder eller send os en mail til info@kulturzonen.net\n\nVi ses til tapas og dans på fredag! \n“… Thank you for Anna Pauline! She is a very good singer\, very relaxed and resting in her way of phrasing as well as rhythmically assured and con dent… does not force herself on anything… ‘No diva- shit’ as one of my friends would say” – Thorbjørn Sjøgren\, Politiken.
URL:https://www.heptown.com/calendar/all-that-jazz/
LOCATION:Kulturzonen\, Nøragersmindevej 90\, Dragør\, 2791\, Denmark
CATEGORIES:Copenhagen
ATTACH;FMTTYPE=image/jpeg:https://www.heptown.com/wp-content/uploads/2018/03/11bb610df22990b0b716dbfddaaa4cdc.jpg
GEO:55.591574;12.583367
X-APPLE-STRUCTURED-LOCATION;VALUE=URI;X-ADDRESS=Kulturzonen Nøragersmindevej 90 Dragør 2791 Denmark;X-APPLE-RADIUS=500;X-TITLE=Nøragersmindevej 90:geo:12.583367,55.591574
END:VEVENT
END:VCALENDAR