BEGIN:VCALENDAR
VERSION:2.0
PRODID:-//HepTown - ECPv6.15.20//NONSGML v1.0//EN
CALSCALE:GREGORIAN
METHOD:PUBLISH
X-WR-CALNAME:HepTown
X-ORIGINAL-URL:https://www.heptown.com
X-WR-CALDESC:Events for HepTown
REFRESH-INTERVAL;VALUE=DURATION:PT1H
X-Robots-Tag:noindex
X-PUBLISHED-TTL:PT1H
BEGIN:VTIMEZONE
TZID:Europe/Helsinki
BEGIN:DAYLIGHT
TZOFFSETFROM:+0200
TZOFFSETTO:+0300
TZNAME:EEST
DTSTART:20160327T010000
END:DAYLIGHT
BEGIN:STANDARD
TZOFFSETFROM:+0300
TZOFFSETTO:+0200
TZNAME:EET
DTSTART:20161030T010000
END:STANDARD
BEGIN:DAYLIGHT
TZOFFSETFROM:+0200
TZOFFSETTO:+0300
TZNAME:EEST
DTSTART:20170326T010000
END:DAYLIGHT
BEGIN:STANDARD
TZOFFSETFROM:+0300
TZOFFSETTO:+0200
TZNAME:EET
DTSTART:20171029T010000
END:STANDARD
BEGIN:DAYLIGHT
TZOFFSETFROM:+0200
TZOFFSETTO:+0300
TZNAME:EEST
DTSTART:20180325T010000
END:DAYLIGHT
BEGIN:STANDARD
TZOFFSETFROM:+0300
TZOFFSETTO:+0200
TZNAME:EET
DTSTART:20181028T010000
END:STANDARD
END:VTIMEZONE
BEGIN:VEVENT
DTSTART;TZID=Europe/Helsinki:20170812T100000
DTEND;TZID=Europe/Helsinki:20170813T160000
DTSTAMP:20260421T124033
CREATED:20170706T121558Z
LAST-MODIFIED:20170707T144523Z
UID:10004494-1502532000-1502640000@www.heptown.com
SUMMARY:Lindy + Solo Work Shop with Fedor and Alina
DESCRIPTION:Saturday the 12th and Sunday the 13th of August SwingShoes will arrange a workshop with two of the finest lindy hoppers from the East\, Alina and Fedor. \nSaturday\nwill focus on solo dance and end with a two-hour lesson\, how to implement solo moves in your lindy hop. There will be 6 hours of solo classes: 2 hours of solo jazz with focus on African roots\, 2 hours of jazz work for trained dancers and 2 hours of bebop. The classes can be taken separate\, or you can try if you have the stamina for a hole day of intensive dancing. \nSunday\n5 hours lindy work shop for intermediate level dancers.\nSunday the Work Shop will be held at Vesterbro Kulturanstalten.
URL:https://www.heptown.com/calendar/lindy-solo-work-shop-with-fedor-and-alina/
LOCATION:Kulturhuset Islands Brygge\, Islands Brygge 18\, København\, 2300\, Denmark
CATEGORIES:Copenhagen,International Swing Dance Event,Lindy Hop,Öresund
ATTACH;FMTTYPE=image/jpeg:https://www.heptown.com/wp-content/uploads/2017/07/660ff8e469edf1e2dcad00222bf5d209.jpg
GEO:55.666846;12.5762349
X-APPLE-STRUCTURED-LOCATION;VALUE=URI;X-ADDRESS=Kulturhuset Islands Brygge Islands Brygge 18 København 2300 Denmark;X-APPLE-RADIUS=500;X-TITLE=Islands Brygge 18:geo:12.5762349,55.666846
END:VEVENT
BEGIN:VEVENT
DTSTART;TZID=Europe/Helsinki:20170707T223000
DTEND;TZID=Europe/Helsinki:20170707T223000
DTSTAMP:20260421T124033
CREATED:20170706T121529Z
LAST-MODIFIED:20170706T134302Z
UID:10004100-1499466600-1499466600@www.heptown.com
SUMMARY:OverJive LIVE på CPH Jazz festival
DESCRIPTION:OverJive spiller op til dans og musikalsk fest på Kulturhuset Islands Brygge! Hvis du har lyst til en halv sen festival dessert\, eller bare vil være sikker på en festlig afslutning på En fed festivaldag\, så serverer vi dampende varm og svedig swing og jive fra kl. 22.30. Dette er eneste chance for at opleve OverJive på dette års Jazzfestival\, så kridt danseskoene\, tag det store smil på og smør hænderne i klapsalve og så ses vi på Kulturhuset Islands Brygge!\nBilletter købes i døren.
URL:https://www.heptown.com/calendar/overjive-live-pa-cph-jazz-festival/
LOCATION:Kulturhuset Islands Brygge\, Islands Brygge 18\, København\, 2300\, Denmark
ATTACH;FMTTYPE=image/jpeg:https://www.heptown.com/wp-content/uploads/2017/07/95e758a7764890c97a911647134df050.jpg
GEO:55.666846;12.5762349
X-APPLE-STRUCTURED-LOCATION;VALUE=URI;X-ADDRESS=Kulturhuset Islands Brygge Islands Brygge 18 København 2300 Denmark;X-APPLE-RADIUS=500;X-TITLE=Islands Brygge 18:geo:12.5762349,55.666846
END:VEVENT
END:VCALENDAR