BEGIN:VCALENDAR
VERSION:2.0
PRODID:-//HepTown - ECPv6.15.20//NONSGML v1.0//EN
CALSCALE:GREGORIAN
METHOD:PUBLISH
X-ORIGINAL-URL:https://www.heptown.com
X-WR-CALDESC:Events for HepTown
REFRESH-INTERVAL;VALUE=DURATION:PT1H
X-Robots-Tag:noindex
X-PUBLISHED-TTL:PT1H
BEGIN:VTIMEZONE
TZID:Europe/Stockholm
BEGIN:DAYLIGHT
TZOFFSETFROM:+0100
TZOFFSETTO:+0200
TZNAME:CEST
DTSTART:20240331T010000
END:DAYLIGHT
BEGIN:STANDARD
TZOFFSETFROM:+0200
TZOFFSETTO:+0100
TZNAME:CET
DTSTART:20241027T010000
END:STANDARD
BEGIN:DAYLIGHT
TZOFFSETFROM:+0100
TZOFFSETTO:+0200
TZNAME:CEST
DTSTART:20250330T010000
END:DAYLIGHT
BEGIN:STANDARD
TZOFFSETFROM:+0200
TZOFFSETTO:+0100
TZNAME:CET
DTSTART:20251026T010000
END:STANDARD
BEGIN:DAYLIGHT
TZOFFSETFROM:+0100
TZOFFSETTO:+0200
TZNAME:CEST
DTSTART:20260329T010000
END:DAYLIGHT
BEGIN:STANDARD
TZOFFSETFROM:+0200
TZOFFSETTO:+0100
TZNAME:CET
DTSTART:20261025T010000
END:STANDARD
END:VTIMEZONE
BEGIN:VEVENT
DTSTART;TZID=Europe/Stockholm:20250118T180000
DTEND;TZID=Europe/Stockholm:20250119T020000
DTSTAMP:20260421T015206
CREATED:20250116T154438Z
LAST-MODIFIED:20250118T105146Z
UID:10006253-1737223200-1737252000@www.heptown.com
SUMMARY:New Years Blues!
DESCRIPTION:Hello Blues Dancers. \nUPDATES:\n🕺 Taster 19:30 – 20:15 Our own Katti Widerdal will be leading a taster to warm our spirits and feet prior to the DJ. \n🍷New Year toast (BYODrinks and snacks). \n☕ There will be a members run caffe\, and we will have drinks and snack for DONATION \nEveryone must be a member. 🙂\n🎉 K15 and Back Alley Blues Presents: Inaugural – New Year’s Blues Dance\n✨ When: January 18th\n✨ Doors Open: 18:00 for snacks\, drinks\, and mingling\n✨ Doors Close: 02:00\, January 19th\n💲50 SEK Event Donation Voluntary\n💲150 SEK Membership(at the door)\n✨ Where: https://g.co/kgs/kSU4yem\nKopparbergsgatan 15\, 214 44 Malmö \nKick off the new year with an unforgettable evening of blues dancing\, great vibes\, and community spirit! Whether you’re a seasoned dancer or just looking to sway to some soulful tunes\, this is the perfect event to shake off those winter blues. \n🎶 The Evening Lineup:\n🎤 18:00 -19:00 Open Blues Jam & Open Mic: Start the night by showcasing your talent or enjoying live performances from the community. Bring your instrument\, your voice\, or just your ears to soak in the magic! \n🕺 Taster 19:30 – 20:15 Our own Katti will be leading a taster to warm our spirits and feet prior to the DJ. \n🎧 20:00 – (Last person dancing) Blues Dance with a DJ: After the jam\, hit the dance floor as our DJ spins a mix of blues tracks perfect for dancers of all levels.\nUpdate: A 45 min taster will be added TBA 🙂 \n🌱 Food & Drink:\nWe’ve got you covered with delicious vegan and gluten-free options\, ensuring everyone can enjoy without worry. \n💃🕺 Dance Floor:\nLet loose to a mix of live and curated blues music\, perfect for both beginners and experienced dancers. Don’t have a partner? No problem – this is a friendly\, welcoming space for everyone! \nHepcat and Black Cat members are welcome with a great deal (TBA) \n\nThis is just the beginning of something incredible—a community-driven initiative powered by passionate organizers like YOU. \nWe are in the process of creating a nonprofit organization (K15) that brings people together through music\, dance\, culture\, food\, events\, and a shared love for creativity. \n🎶 What to Expect For this first event\, we’ll transport you to another time and place\, right here in Malmö. Imagine an unforgettable scene filled with live blues music\, great vibes\, and a community that feels like home. \n💙 Support Your Community: To keep this event free\, we’re asking for a voluntary donation of 50 SEK. Additionally\, you can sign up for a 150 SEK yearly membership\, giving you access to future events and exclusive perks throughout the year. The year is just beginning—don’t miss your chance to be part of something special! \n✨ Get Involved: Want to take your love for community to the next level? Become a community organizer! Together\, we can make amazing things happen. \nLet’s make this a night to remember. We can’t wait to see you there! \nLATEST UPPDATES ABOUT THIS EVENT https://fb.me/e/2oyLWQ5v2
URL:https://www.heptown.com/calendar/new-years-blues/
LOCATION:Kopparbergsgatan 15\, 214 44 Malmö
CATEGORIES:Beginner,Blues Dance,Malmö,Öresund,Social Dance
ATTACH;FMTTYPE=image/jpeg:https://www.heptown.com/wp-content/uploads/2025/01/34401_image_471616088_1143907307437549_9015569655461517527_n.jpg
END:VEVENT
END:VCALENDAR