BEGIN:VCALENDAR
VERSION:2.0
PRODID:-//HepTown - ECPv6.15.20//NONSGML v1.0//EN
CALSCALE:GREGORIAN
METHOD:PUBLISH
X-ORIGINAL-URL:https://www.heptown.com
X-WR-CALDESC:Events for HepTown
REFRESH-INTERVAL;VALUE=DURATION:PT1H
X-Robots-Tag:noindex
X-PUBLISHED-TTL:PT1H
BEGIN:VTIMEZONE
TZID:Europe/Stockholm
BEGIN:DAYLIGHT
TZOFFSETFROM:+0100
TZOFFSETTO:+0200
TZNAME:CEST
DTSTART:20170326T010000
END:DAYLIGHT
BEGIN:STANDARD
TZOFFSETFROM:+0200
TZOFFSETTO:+0100
TZNAME:CET
DTSTART:20171029T010000
END:STANDARD
BEGIN:DAYLIGHT
TZOFFSETFROM:+0100
TZOFFSETTO:+0200
TZNAME:CEST
DTSTART:20180325T010000
END:DAYLIGHT
BEGIN:STANDARD
TZOFFSETFROM:+0200
TZOFFSETTO:+0100
TZNAME:CET
DTSTART:20181028T010000
END:STANDARD
BEGIN:DAYLIGHT
TZOFFSETFROM:+0100
TZOFFSETTO:+0200
TZNAME:CEST
DTSTART:20190331T010000
END:DAYLIGHT
BEGIN:STANDARD
TZOFFSETFROM:+0200
TZOFFSETTO:+0100
TZNAME:CET
DTSTART:20191027T010000
END:STANDARD
BEGIN:DAYLIGHT
TZOFFSETFROM:+0100
TZOFFSETTO:+0200
TZNAME:CEST
DTSTART:20200329T010000
END:DAYLIGHT
BEGIN:STANDARD
TZOFFSETFROM:+0200
TZOFFSETTO:+0100
TZNAME:CET
DTSTART:20201025T010000
END:STANDARD
END:VTIMEZONE
BEGIN:VEVENT
DTSTART;TZID=Europe/Stockholm:20190304T200000
DTEND;TZID=Europe/Stockholm:20190304T220000
DTSTAMP:20260423T175917
CREATED:20190211T124240Z
LAST-MODIFIED:20190808T163817Z
UID:10004789-1551729600-1551736800@www.heptown.com
SUMMARY:Monday Night Swing 4/3
DESCRIPTION:Come swing-out out at our weekly social dance at Kårhuset in Lund. Music from the good old days will be hovering over the smooth dance-floor. Where would you like to be? \nThere is no beginners introduction tonight but if you ask nicely someone will probably show you a few steps.  \n### Social swing dance + Beginners Lindy Hop Class\n+ Social dance: 20-22\n+ Kårhuset\, Gasque salen\, John Ericssons väg 3 (enter through the amphitheater)\n+ Entrance: 40kr for HepCat member & 50kr for non-HepCat-members*\n+ DJ: Jonathan & Jerry \n### NOTE! March 25th and April 29th we move to Mejeriet for the Red Hot Club\nRed Hot Club 25/3: Nanna Carling Swing Band\nRed Hot Club 29/4: Nanna Carling Swing Band \nwww.heptown.com
URL:https://www.heptown.com/calendar/monday-night-swing-4-3/
LOCATION:Kårhuset\, John Ericssons väg 3\, Lund\, 22100\, SE
CATEGORIES:Dance,HepTown,Lindy Hop,Lund,Öresund,Social Dance
ATTACH;FMTTYPE=image/jpeg:https://www.heptown.com/wp-content/uploads/2019/02/10359_image_51459394_2296464040371882_4771722487060758528_o.jpg
GEO:55.7122732;13.2092732
X-APPLE-STRUCTURED-LOCATION;VALUE=URI;X-ADDRESS=Kårhuset John Ericssons väg 3 Lund 22100 SE;X-APPLE-RADIUS=500;X-TITLE=John Ericssons väg 3:geo:13.2092732,55.7122732
END:VEVENT
BEGIN:VEVENT
DTSTART;TZID=Europe/Stockholm:20190218T200000
DTEND;TZID=Europe/Stockholm:20190218T220000
DTSTAMP:20260423T175917
CREATED:20190204T110125Z
LAST-MODIFIED:20190412T100826Z
UID:10004771-1550520000-1550527200@www.heptown.com
SUMMARY:Monday Night Swing 18/2
DESCRIPTION:YES! It’s Monday and we all swing-out at the annual social dance at Kårhuset in Lund. Music from the good old days will be hovering over the smooth dance-floor. Where would you like to be? \nThere is no beginners introduction tonight but if you ask nicely someone will probably show you a few steps.  \n### Social swing dance\n+ Social dance: 20-22\n+ Kårhuset\, Gasque salen\, John Ericssons väg 3 (enter through the amphitheater)\n+ Entrance: 40kr for HepCat member & 50kr for non-HepCat-members*\n+ DJ: \nwww.heptown.com
URL:https://www.heptown.com/calendar/monday-night-swing-18-2/
LOCATION:Kårhuset\, John Ericssons väg 3\, Lund\, 22100\, SE
CATEGORIES:HepTown,Lindy Hop,Lund,Öresund,Social Dance
ATTACH;FMTTYPE=image/jpeg:https://www.heptown.com/wp-content/uploads/2019/02/10265_image_50839928_2270025696349050_674275621697748992_o.jpg
GEO:55.7122732;13.2092732
X-APPLE-STRUCTURED-LOCATION;VALUE=URI;X-ADDRESS=Kårhuset John Ericssons väg 3 Lund 22100 SE;X-APPLE-RADIUS=500;X-TITLE=John Ericssons väg 3:geo:13.2092732,55.7122732
END:VEVENT
BEGIN:VEVENT
DTSTART;TZID=Europe/Stockholm:20190211T200000
DTEND;TZID=Europe/Stockholm:20190211T220000
DTSTAMP:20260423T175917
CREATED:20190207T134205Z
LAST-MODIFIED:20190412T100825Z
UID:10004394-1549915200-1549922400@www.heptown.com
SUMMARY:Monday Night Swing 11/2 Unholy Swing + Shag taster
DESCRIPTION:Purist be warned!  Tonight DJ Tony will play “Unholy Swing” with lots of alternative music that is really fun to dance to! \nWe do belie that swing dances like Lindy Hop is some thing that is mainly best done to swing music\, BUT we also think it’s good to mix it up a bit and sometimes like tonight really go crazy with it.   \nExpect the unexpected to really make you want to dance! \n### Social swing dance\n+ Social Swing Dance: 20-22\n+ collegiate shag taster: 20.00 – 23-30 Sonja & Tony (foyer outside Gasquen)\n+ Kårhuset\, Gasque salen\, John Ericssons väg 3 (enter through the amphitheater)\n+ Entrance: 40kr for HepCat member & 50kr for non-HepCat-members  (including tonight’s taster)\n+ Swing DJ: Tony KI Nilsson a.k.a Dj Unholy \nwww.heptown.com
URL:https://www.heptown.com/calendar/monday-night-swing-11-2-unholy-swing-shag-taster/
LOCATION:Kårhuset\, John Ericssons väg 3\, Lund\, 22100\, SE
CATEGORIES:Beginner,Collegiate Shag,Dance,HepTown,Lindy Hop,Lund,Öresund,Social Dance
ATTACH;FMTTYPE=image/jpeg:https://www.heptown.com/wp-content/uploads/2019/02/10296_image_50467843_2251438488207771_8231476767504728064_o.jpg
GEO:55.7122732;13.2092732
X-APPLE-STRUCTURED-LOCATION;VALUE=URI;X-ADDRESS=Kårhuset John Ericssons väg 3 Lund 22100 SE;X-APPLE-RADIUS=500;X-TITLE=John Ericssons väg 3:geo:13.2092732,55.7122732
END:VEVENT
BEGIN:VEVENT
DTSTART;TZID=Europe/Stockholm:20190128T190000
DTEND;TZID=Europe/Stockholm:20190128T220000
DTSTAMP:20260423T175917
CREATED:20181214T142451Z
LAST-MODIFIED:20190417T131551Z
UID:10004762-1548702000-1548712800@www.heptown.com
SUMMARY:Monday Night Swing + Lindy Hop class for beginners 28/1
DESCRIPTION:The night kicks off at 7-8 pm with a  Lindy Hop class for beginners. No previous experience is needed.  \nAfter the class more happy people will join in to swing-out out at our annual social dance at Kårhuset in Lund. Music from the good old days will be hovering over the smooth dance-floor. Where would you like to be? \n### Social swing dance + Beginners Lindy Hop Class\n+ Beginners’ Lindy Hop Class: 19-20 [^1]\n+ Social dance: 20-22\n+ Kårhuset\, Gasque salen\, John Ericssons väg 3 (enter through the amphitheater)\n+ Entrance: 40kr for HepCat member & 50kr for non-HepCat-members*\n+ DJ:  \n[^1]: The fee for this Lindy Hop class is included in the mandatory entrance fee.  There is no preregistration\, for this class you can just drop-in and join. \n*** This class + the social dance is FREE if you study at LTH!\n*** And only SEK 20 if you study elsewhere or is below 26 years old \n### More Swing Classes\nhttps://www.heptown.com/classes/schedule/ \nwww.heptown.com
URL:https://www.heptown.com/calendar/monday-night-swing-lindy-hop-class-for-beginners-28-1/
LOCATION:Kårhuset\, John Ericssons väg 3\, Lund\, 22100\, SE
CATEGORIES:Beginners' Lindy Hop Class,Big event,Dance,HepTown,Lindy Hop,LTH,Lund,Öresund,Social Dance
ATTACH;FMTTYPE=image/jpeg:https://www.heptown.com/wp-content/uploads/2018/12/10126_image_49242364_2239876622697291_7701038617002508288_o.jpg
GEO:55.7122732;13.2092732
X-APPLE-STRUCTURED-LOCATION;VALUE=URI;X-ADDRESS=Kårhuset John Ericssons väg 3 Lund 22100 SE;X-APPLE-RADIUS=500;X-TITLE=John Ericssons väg 3:geo:13.2092732,55.7122732
END:VEVENT
BEGIN:VEVENT
DTSTART;TZID=Europe/Stockholm:20190121T190000
DTEND;TZID=Europe/Stockholm:20190121T220000
DTSTAMP:20260423T175917
CREATED:20181214T142451Z
LAST-MODIFIED:20190417T131551Z
UID:10004761-1548097200-1548108000@www.heptown.com
SUMMARY:Monday Night Swing + Lindy Hop class for beginners 21/1
DESCRIPTION:The night kicks off at 7-8 pm with a  Lindy Hop class for beginners. No previous experience is needed.  \nAfter the class more happy people will join in to swing-out out at our annual social dance at Kårhuset in Lund. Music from the good old days will be hovering over the smooth dance-floor. Where would you like to be? \n### Social swing dance + Beginners Lindy Hop Class\n+ Beginners’ Lindy Hop Class: 19-20 [^1]\n+ Social dance: 20-22\n+ Kårhuset\, Gasque salen\, John Ericssons väg 3 (enter through the amphitheater)\n+ Entrance: 40kr for HepCat member & 50kr for non-HepCat-members*\n+ DJ:  \n[^1]: The fee for this Lindy Hop class is included in the mandatory entrance fee.  There is no preregistration\, for this class you can just drop-in and join. \n*** This class + the social dance is FREE if you study at LTH!\n*** And only SEK 20 if you study elsewhere or is below 26 years old \n### More Swing Classes\nhttps://www.heptown.com/classes/schedule/ \nMonday Night Swing + Lindy Hop class for beginners 7/1\nMonday Night Swing + Lindy Hop class for beginners 14/1\nMonday Night Swing + Lindy Hop class for beginners 21/1\nMonday Night Swing + Lindy Hop class for beginners 28/1 \nwww.heptown.com
URL:https://www.heptown.com/calendar/monday-night-swing-lindy-hop-class-for-beginners-21-1/
LOCATION:Kårhuset\, John Ericssons väg 3\, Lund\, 22100\, SE
CATEGORIES:Beginners' Lindy Hop Class,Big event,Dance,HepTown,Lindy Hop,LTH,Lund,Öresund,Social Dance
ATTACH;FMTTYPE=image/jpeg:https://www.heptown.com/wp-content/uploads/2018/12/10123_image_49446176_2239880252696928_5465522909827039232_o.jpg
GEO:55.7122732;13.2092732
X-APPLE-STRUCTURED-LOCATION;VALUE=URI;X-ADDRESS=Kårhuset John Ericssons väg 3 Lund 22100 SE;X-APPLE-RADIUS=500;X-TITLE=John Ericssons väg 3:geo:13.2092732,55.7122732
END:VEVENT
BEGIN:VEVENT
DTSTART;TZID=Europe/Stockholm:20190114T190000
DTEND;TZID=Europe/Stockholm:20190114T220000
DTSTAMP:20260423T175917
CREATED:20181214T142450Z
LAST-MODIFIED:20190417T131551Z
UID:10004759-1547492400-1547503200@www.heptown.com
SUMMARY:Monday Night Swing + Lindy Hop class for beginners 14/1
DESCRIPTION:The night kicks off at 7-8 pm with a  Lindy Hop class for beginners. No previous experience is needed.  \nAfter the class more happy people will join in to swing-out out at our annual social dance at Kårhuset in Lund. Music from the good old days will be hovering over the smooth dance-floor. Where would you like to be? \n### Social swing dance + Beginners Lindy Hop Class\n+ Beginners’ Lindy Hop Class: 19-20 [^1]\n+ Social dance: 20-22\n+ Kårhuset\, Gasque salen\, John Ericssons väg 3 (enter through the amphitheater)\n+ Entrance: 40kr for HepCat member & 50kr for non-HepCat-members*\n+ DJ:  \n[^1]: The fee for this Lindy Hop class is included in the mandatory entrance fee.  There is no preregistration\, for this class you can just drop-in and join. \n*** This class + the social dance is FREE if you study at LTH!\n*** And only SEK 20 if you study elsewhere or is below 26 years old \n### More Swing Classes\nhttps://www.heptown.com/classes/schedule/ \nMonday Night Swing + Lindy Hop class for beginners 7/1\nMonday Night Swing + Lindy Hop class for beginners 14/1\nMonday Night Swing + Lindy Hop class for beginners 21/1\nMonday Night Swing + Lindy Hop class for beginners 28/1 \nwww.heptown.com
URL:https://www.heptown.com/calendar/monday-night-swing-lindy-hop-class-for-beginners-14-1/
LOCATION:Kårhuset\, John Ericssons väg 3\, Lund\, 22100\, SE
CATEGORIES:Beginners' Lindy Hop Class,Big event,Dance,HepTown,Lindy Hop,LTH,Lund,Öresund,Social Dance
ATTACH;FMTTYPE=image/jpeg:https://www.heptown.com/wp-content/uploads/2018/12/10120_image_49196408_2239869122698041_6680328953229475840_o.jpg
GEO:55.7122732;13.2092732
X-APPLE-STRUCTURED-LOCATION;VALUE=URI;X-ADDRESS=Kårhuset John Ericssons väg 3 Lund 22100 SE;X-APPLE-RADIUS=500;X-TITLE=John Ericssons väg 3:geo:13.2092732,55.7122732
END:VEVENT
BEGIN:VEVENT
DTSTART;TZID=Europe/Stockholm:20190107T190000
DTEND;TZID=Europe/Stockholm:20190107T220000
DTSTAMP:20260423T175917
CREATED:20181214T142449Z
LAST-MODIFIED:20190417T131552Z
UID:10004757-1546887600-1546898400@www.heptown.com
SUMMARY:Monday Night Swing + Lindy Hop class for beginners 7/1
DESCRIPTION:The night kicks off at 7-8 pm with a  Lindy Hop class for beginners. No previous experience is needed.  \nAfter the class more happy people will join in to swing-out out at our annual social dance at Kårhuset in Lund. Music from the good old days will be hovering over the smooth dance-floor. Where would you like to be? \n### Social swing dance + Beginners Lindy Hop Class\n+ Beginners’ Lindy Hop Class: 19-20 [^1]\n+ Social dance: 20-22\n+ Kårhuset\, Gasque salen\, John Ericssons väg 3 (enter through the amphitheater)\n+ Entrance: 40kr for HepCat member & 50kr for non-HepCat-members\n+ DJ:  \n[^1]: The fee for this Lindy Hop class is included in the mandatory entrance fee.  There is no preregistration\, for this class you can just drop-in and join. \n*** This swing class + the social dance is FREE if you study at LTH!\n*** And only SEK 20 if you study elsewhere or is below 26 years old  \n### More Swing Classes\nhttps://www.heptown.com/classes/schedule/ \nMonday Night Swing + Lindy Hop class for beginners 7/1\nMonday Night Swing + Lindy Hop class for beginners 14/1\nMonday Night Swing + Lindy Hop class for beginners 21/1\nMonday Night Swing + Lindy Hop class for beginners 28/1 \nwww.heptown.com
URL:https://www.heptown.com/calendar/monday-night-swing-lindy-hop-class-for-beginners-7-1/
LOCATION:Kårhuset\, John Ericssons väg 3\, Lund\, 22100\, SE
CATEGORIES:Beginners' Lindy Hop Class,Big event,Dance,HepTown,Lindy Hop,LTH,Lund,Öresund,Social Dance
ATTACH;FMTTYPE=image/jpeg:https://www.heptown.com/wp-content/uploads/2018/12/10117_image_49680356_2239867736031513_1456891346760499200_o.jpg
GEO:55.7122732;13.2092732
X-APPLE-STRUCTURED-LOCATION;VALUE=URI;X-ADDRESS=Kårhuset John Ericssons väg 3 Lund 22100 SE;X-APPLE-RADIUS=500;X-TITLE=John Ericssons väg 3:geo:13.2092732,55.7122732
END:VEVENT
BEGIN:VEVENT
DTSTART;TZID=Europe/Stockholm:20181217T200000
DTEND;TZID=Europe/Stockholm:20181217T220000
DTSTAMP:20260423T175917
CREATED:20181030T183454Z
LAST-MODIFIED:20181030T184336Z
UID:10004746-1545076800-1545084000@www.heptown.com
SUMMARY:Monday Night Swing 17/12 Seasonfinale!
DESCRIPTION:Come and do the Lindy Hop at our weekly social swing dance at Kårhuset in Lund. Music from the good old days will be hovering over the smooth dance-floor. Where would you like to be? \n### Social swing dance\n+ Social Swing Dance: 20-22\n+ Kårhuset\, Gasque salen\, John Ericssons väg 3 (enter through the amphitheater)\n+ Entrance: 40kr for HepCat member & 50kr for non-HepCat-members\n+ Swing DJ: \nwww.heptown.com \n*If you arrive before 19:45 you are welcome to hang-out in the foyer\, but please stay out of Gasquesalen until 19:45 as there are classes taking place* https://www.heptown.com/classes/schedule/
URL:https://www.heptown.com/calendar/monday-night-swing-17-12-seasonfinale/
LOCATION:Kårhuset\, John Ericssons väg 3\, Lund\, 22100\, SE
CATEGORIES:Big event,HepTown,Lindy Hop,Lund,Öresund,Social Dance
ATTACH;FMTTYPE=image/jpeg:https://www.heptown.com/wp-content/uploads/2018/10/9889_image_45019865_2145861015432186_2842812963159539712_n.jpg
GEO:55.7122732;13.2092732
X-APPLE-STRUCTURED-LOCATION;VALUE=URI;X-ADDRESS=Kårhuset John Ericssons väg 3 Lund 22100 SE;X-APPLE-RADIUS=500;X-TITLE=John Ericssons väg 3:geo:13.2092732,55.7122732
END:VEVENT
BEGIN:VEVENT
DTSTART;TZID=Europe/Stockholm:20181203T200000
DTEND;TZID=Europe/Stockholm:20181203T220000
DTSTAMP:20260423T175917
CREATED:20181030T183452Z
LAST-MODIFIED:20181030T183452Z
UID:10004741-1543867200-1543874400@www.heptown.com
SUMMARY:Monday Night Swing 3/12
DESCRIPTION:Come and do the Lindy Hop at our weekly social swing dance at Kårhuset in Lund. Music from the good old days will be hovering over the smooth dance-floor. Where would you like to be? \n### Social swing dance\n+ Social Swing Dance: 20-22\n+ Kårhuset\, Gasque salen\, John Ericssons väg 3 (enter through the amphitheater)\n+ Entrance: 40kr for HepCat member & 50kr for non-HepCat-members\n+ Swing DJ:  \nwww.heptown.com \n*If you arrive before 19:45 you are welcome to hang-out in the foyer\, but please stay out of Gasquesalen until 19:45 as there are classes taking place* https://www.heptown.com/classes/schedule/ \n### Red Hot Club\nSome Mondays we move to Mejeriet for some live music\nRed Hot Club 26/11 Maria Schilling and her Rhythm Dynamites
URL:https://www.heptown.com/calendar/monday-night-swing-3-12/
LOCATION:Kårhuset\, John Ericssons väg 3\, Lund\, 22100\, SE
CATEGORIES:HepTown,Lindy Hop,Lund,Öresund,Social Dance
ATTACH;FMTTYPE=image/jpeg:https://www.heptown.com/wp-content/uploads/2018/10/9883_image_44992550_2145858738765747_77399317878407168_n.jpg
GEO:55.7122732;13.2092732
X-APPLE-STRUCTURED-LOCATION;VALUE=URI;X-ADDRESS=Kårhuset John Ericssons väg 3 Lund 22100 SE;X-APPLE-RADIUS=500;X-TITLE=John Ericssons väg 3:geo:13.2092732,55.7122732
END:VEVENT
BEGIN:VEVENT
DTSTART;TZID=Europe/Stockholm:20181119T200000
DTEND;TZID=Europe/Stockholm:20181119T220000
DTSTAMP:20260423T175917
CREATED:20181030T183452Z
LAST-MODIFIED:20181030T183452Z
UID:10004740-1542657600-1542664800@www.heptown.com
SUMMARY:Monday Night Swing 19/11
DESCRIPTION:Come and do the Lindy Hop at our weekly social swing dance at Kårhuset in Lund. Music from the good old days will be hovering over the smooth dance-floor. Where would you like to be? \n### Social swing dance\n+ Social Swing Dance: 20-22\n+ Kårhuset\, Gasque salen\, John Ericssons väg 3 (enter through the amphitheater)\n+ Entrance: 40kr for HepCat member & 50kr for non-HepCat-members\n+ Swing DJ:  \nwww.heptown.com \n*If you arrive before 19:45 you are welcome to hang-out in the foyer\, but please stay out of Gasquesalen until 19:45 as there are classes taking place* https://www.heptown.com/classes/schedule/ \n### Red Hot Club\nSome Mondays we move to Mejeriet for some live music\nRed Hot Club 26/11 Maria Schilling and her Rhythm Dynamites
URL:https://www.heptown.com/calendar/monday-night-swing-19-11/
LOCATION:Kårhuset\, John Ericssons väg 3\, Lund\, 22100\, SE
CATEGORIES:HepTown,Lindy Hop,Lund,Öresund,Social Dance
ATTACH;FMTTYPE=image/jpeg:https://www.heptown.com/wp-content/uploads/2018/10/9880_image_44987614_2145820812102873_2955774855061962752_n.jpg
GEO:55.7122732;13.2092732
X-APPLE-STRUCTURED-LOCATION;VALUE=URI;X-ADDRESS=Kårhuset John Ericssons väg 3 Lund 22100 SE;X-APPLE-RADIUS=500;X-TITLE=John Ericssons väg 3:geo:13.2092732,55.7122732
END:VEVENT
END:VCALENDAR