BEGIN:VCALENDAR
VERSION:2.0
PRODID:-//HepTown - ECPv6.15.20//NONSGML v1.0//EN
CALSCALE:GREGORIAN
METHOD:PUBLISH
X-ORIGINAL-URL:https://www.heptown.com
X-WR-CALDESC:Events for HepTown
REFRESH-INTERVAL;VALUE=DURATION:PT1H
X-Robots-Tag:noindex
X-PUBLISHED-TTL:PT1H
BEGIN:VTIMEZONE
TZID:Europe/Paris
BEGIN:DAYLIGHT
TZOFFSETFROM:+0100
TZOFFSETTO:+0200
TZNAME:CEST
DTSTART:20170326T010000
END:DAYLIGHT
BEGIN:STANDARD
TZOFFSETFROM:+0200
TZOFFSETTO:+0100
TZNAME:CET
DTSTART:20171029T010000
END:STANDARD
BEGIN:DAYLIGHT
TZOFFSETFROM:+0100
TZOFFSETTO:+0200
TZNAME:CEST
DTSTART:20180325T010000
END:DAYLIGHT
BEGIN:STANDARD
TZOFFSETFROM:+0200
TZOFFSETTO:+0100
TZNAME:CET
DTSTART:20181028T010000
END:STANDARD
BEGIN:DAYLIGHT
TZOFFSETFROM:+0100
TZOFFSETTO:+0200
TZNAME:CEST
DTSTART:20190331T010000
END:DAYLIGHT
BEGIN:STANDARD
TZOFFSETFROM:+0200
TZOFFSETTO:+0100
TZNAME:CET
DTSTART:20191027T010000
END:STANDARD
END:VTIMEZONE
BEGIN:VTIMEZONE
TZID:Europe/Helsinki
BEGIN:DAYLIGHT
TZOFFSETFROM:+0200
TZOFFSETTO:+0300
TZNAME:EEST
DTSTART:20160327T010000
END:DAYLIGHT
BEGIN:STANDARD
TZOFFSETFROM:+0300
TZOFFSETTO:+0200
TZNAME:EET
DTSTART:20161030T010000
END:STANDARD
BEGIN:DAYLIGHT
TZOFFSETFROM:+0200
TZOFFSETTO:+0300
TZNAME:EEST
DTSTART:20170326T010000
END:DAYLIGHT
BEGIN:STANDARD
TZOFFSETFROM:+0300
TZOFFSETTO:+0200
TZNAME:EET
DTSTART:20171029T010000
END:STANDARD
BEGIN:DAYLIGHT
TZOFFSETFROM:+0200
TZOFFSETTO:+0300
TZNAME:EEST
DTSTART:20180325T010000
END:DAYLIGHT
BEGIN:STANDARD
TZOFFSETFROM:+0300
TZOFFSETTO:+0200
TZNAME:EET
DTSTART:20181028T010000
END:STANDARD
BEGIN:DAYLIGHT
TZOFFSETFROM:+0200
TZOFFSETTO:+0300
TZNAME:EEST
DTSTART:20190331T010000
END:DAYLIGHT
BEGIN:STANDARD
TZOFFSETFROM:+0300
TZOFFSETTO:+0200
TZNAME:EET
DTSTART:20191027T010000
END:STANDARD
END:VTIMEZONE
BEGIN:VEVENT
DTSTART;TZID=Europe/Paris:20181128T150000
DTEND;TZID=Europe/Paris:20181205T180000
DTSTAMP:20260420T061659
CREATED:20180315T140322Z
LAST-MODIFIED:20180628T172104Z
UID:10004669-1543417200-1544032800@www.heptown.com
SUMMARY:Hepcat goes to Japan!
DESCRIPTION:Hepcat Travels!\nGör dig redo för en resa till solens rike!\nHepcat crew kommer att åka till Yokohama Hotrod Custom Show igen i 2018 och vill gärna att du följer med!\nVi kommer erbjuda två alternativ då antingen man bokar resan och boende själv men vill ha hjälp med det övriga(Alternativ A). Eller följer med oss och vi fixar resa och boende i 7 dagar(Alternativ B)!\n(Vi kommer se till att vi kommer på samma plan men man betalar sin resa själv med sitt kreditkort för att kunna utnyttja försäkringar etc vid strul)\nMan får dock tänka på att man förlorar en dag på vägen dit…\nBoende ordnar vi på ett centralt beläget hotell i Shibuya med nära till allt!\nBeroende vad ni väljer så ingår det följande om ni väljer att vi ska ordna allt.\nFlyg ToR Köpenhamn-Tokyo\nTåg från Tokyo flygplats till Shibuya ToR\nHotell i Shibuya \nDetta kommer ingå för båda grupperna.\nInträde Yokohama Hotrod Custom Show 2018\nTåg mellan Tokyo och Yokohama ToR\nInternet under resan via WiFidongel\nHäfte med adresser till intressanta butiker i Tokyo\nSpecialdesignad T-shirt. \nPriset på båda paketen kommer snart. \nTänk på att platserna kommer vara begränsade och max 25 pers om ni vill ha alternativ B \nDetta är bara en intressekoll men är ni helt säkra på att ni vill med så mejla till info@hepcat.se
URL:https://www.heptown.com/calendar/hepcat-goes-to-japan/
LOCATION:HepCat Store\, Sankt Larsv 21\, Lund\, 22270\, Sweden
ATTACH;FMTTYPE=image/jpeg:https://www.heptown.com/wp-content/uploads/2018/04/da9b92789b97bc0c44f47502047a28c5.jpg
ORGANIZER;CN="HepCat Store":MAILTO:noreply@facebookmail.com
GEO:55.6849678;13.1810689
X-APPLE-STRUCTURED-LOCATION;VALUE=URI;X-ADDRESS=HepCat Store Sankt Larsv 21 Lund 22270 Sweden;X-APPLE-RADIUS=500;X-TITLE=Sankt Larsv 21:geo:13.1810689,55.6849678
END:VEVENT
BEGIN:VEVENT
DTSTART;TZID=Europe/Helsinki:20180526T110000
DTEND;TZID=Europe/Helsinki:20180526T160000
DTSTAMP:20260420T061659
CREATED:20171213T092304Z
LAST-MODIFIED:20180412T150854Z
UID:10004548-1527332400-1527350400@www.heptown.com
SUMMARY:HepCat Day 2018
DESCRIPTION:Put a big X in your calendar for the BIG yearly event at HepCat Store with special guests\, live music\, amazing food\, limited editions and offers from your favorite brands.\nhttp://www.hepcat.se \nLIVE BANDS:\nThe Picturebooks\nEl Ray – Kick Ass Surf!!\nJ.Tex & The Volunteers\nTopplock\nStay Tuned more will come! \nARTISTS:\nNicholas Coleman (US) \nDetails are under planning but you can check out last years event to get an idea what it’s all about.\nhttp://www.facebook.com/events/834540173316909/ \nOTHER EVENTS\nEvents at or with HepCat Store\n21/4 Record Store Day 2018 @ HepCat Store \nFOOTAGE FROM OLD EVENTS\n\nhttp://www.youtube.com/watch?v=a0kfxAop-xw\nhttp://www.youtube.com/watch?v=L22Lx-90aH0\nhttp://www.youtube.com/watch?v=xo-bwBF4re0\nhttp://www.youtube.com/watch?v=_QOfOaa8Uf4\n\nBBQ\nNo need to bring your own. Farmshack BBQ will bring their truck and serve amazing food! \nHOTEL\n\nClosest\, 2km = Park Inn by Radisson\nhttps://www.parkinn.se/hotel-lund\nCheapest etc = http://goo.gl/mQTBTM\nCamping = http://www.campingkartan.se/Lund/\nHostel = https://www.checkinn.se\n\nBUS MAP\nhttps://goo.gl/jHTxeA \n\nHEPCAT STORE\nSankt Lars väg 21\n222 70 Lund\, Sweden.
URL:https://www.heptown.com/calendar/hepcat-day-2018/
LOCATION:HepCat Store\, Sankt Larsv 21\, Lund\, 22270\, Sweden
CATEGORIES:HepTown
ATTACH;FMTTYPE=image/jpeg:https://www.heptown.com/wp-content/uploads/2018/04/d23e2b38537617336a9c13e95053ae05.jpg
ORGANIZER;CN="HepCat Store":MAILTO:noreply@facebookmail.com
GEO:55.6849678;13.1810689
X-APPLE-STRUCTURED-LOCATION;VALUE=URI;X-ADDRESS=HepCat Store Sankt Larsv 21 Lund 22270 Sweden;X-APPLE-RADIUS=500;X-TITLE=Sankt Larsv 21:geo:13.1810689,55.6849678
END:VEVENT
BEGIN:VEVENT
DTSTART;TZID=Europe/Helsinki:20180421T100000
DTEND;TZID=Europe/Helsinki:20180421T150000
DTSTAMP:20260420T061659
CREATED:20170707T080545Z
LAST-MODIFIED:20180412T150855Z
UID:10004117-1524304800-1524322800@www.heptown.com
SUMMARY:Record Store Day 2018
DESCRIPTION:As usual good music\, exclusive vinyl releases and food! Sound good\, so let’s have another fun Record Store Day – Sverige! \n\nWe will have a huge private The Hellacopters Collection for sale.\n\nExclusive release on new prints from Olympen – artisterna\, publiken\, betongen only at HepCat Store this day. \n\n\nExclusive Existenz PRE BOOK on re release of the “Let’s Get Drunk 12” (Includes 1 Signed Red Vinyl\, 1 T-shirt\, 1 Patch) \n\n\nLimited HepTown Records T-shirt\, exclusive designed by Pontus Kastberg (Punktus and Björn Strid\, Truten etc) \n\n\nLIVE IN STORE RSD 2018\nHjelle (from Bäddat För Trubbel)\nFrank Rothstein (Ex Wild Wax Combo)\nSvante Sjöblom Vrak\nDiplomatic \n#recordstoreday #recordstorday2018
URL:https://www.heptown.com/calendar/record-store-day-2018/
LOCATION:HepCat Store\, Sankt Larsv 21\, Lund\, 22270\, Sweden
CATEGORIES:Lund,Other Events
ATTACH;FMTTYPE=image/jpeg:https://www.heptown.com/wp-content/uploads/2018/04/673b523a8140db9eb439a8ca18557553.jpg
ORGANIZER;CN="HepCat Store":MAILTO:noreply@facebookmail.com
GEO:55.6849678;13.1810689
X-APPLE-STRUCTURED-LOCATION;VALUE=URI;X-ADDRESS=HepCat Store Sankt Larsv 21 Lund 22270 Sweden;X-APPLE-RADIUS=500;X-TITLE=Sankt Larsv 21:geo:13.1810689,55.6849678
END:VEVENT
BEGIN:VEVENT
DTSTART;TZID=Europe/Paris:20180203T160000
DTEND;TZID=Europe/Paris:20180203T200000
DTSTAMP:20260420T061659
CREATED:20180111T111754Z
LAST-MODIFIED:20180203T153303Z
UID:10004228-1517673600-1517688000@www.heptown.com
SUMMARY:Eat Dust V.I.P Preview
DESCRIPTION:**** MANDATORY PRE BOOKING  **** \nEat Dust and Girls of Dust will show their upcoming line of clothes at HepCat Store. \nThis will take place on the 3rd of February between 16-20 approx. There will be some food from Farmshack BBQ and drinks from Höganäs Bryggeri \nThis is a LIMITED PREBOOKED ONLY event\nYou MUST REGISTER on the google form: https://goo.gl/forms/ijjrcKhPm4vwDZEw1 \nEAT DUST CLOTHING\nhttps://www.hepcat.se/brands/eat-dust \nGIRLS OF DUST\nhttps://www.hepcat.se/brands/eat-dust/girls-of-dust \nFARMSHACK BBQ\nFarmshack BBQ will bring one of their food trucks and serve up  a killer veggie sandwich. Brioche bun\, roasted root veggies\, and sauteed mushrooms\, with nachos and salsa on the side.\nhttps://www.facebook.com/FarmShackBBQ/ \nSee ya! \n/ HepCat Store\nhttp://www.hepcat.se \nContacts\, map and bus routes: https://www.hepcat.se/contact-us
URL:https://www.heptown.com/calendar/eat-dust-v-i-p-preview/
LOCATION:HepCat Store\, Sankt Larsv 21\, Lund\, 22270\, Sweden
ATTACH;FMTTYPE=image/jpeg:https://www.heptown.com/wp-content/uploads/2018/01/677b84377bf86b0a35b1156a5f56ed48-1.jpg
ORGANIZER;CN="HepCat Store":MAILTO:noreply@facebookmail.com
GEO:55.6849678;13.1810689
X-APPLE-STRUCTURED-LOCATION;VALUE=URI;X-ADDRESS=HepCat Store Sankt Larsv 21 Lund 22270 Sweden;X-APPLE-RADIUS=500;X-TITLE=Sankt Larsv 21:geo:13.1810689,55.6849678
END:VEVENT
BEGIN:VEVENT
DTSTART;TZID=Europe/Helsinki:20171028T100000
DTEND;TZID=Europe/Helsinki:20171028T140000
DTSTAMP:20260420T061659
CREATED:20170831T164938Z
LAST-MODIFIED:20170831T164938Z
UID:10004139-1509184800-1509199200@www.heptown.com
SUMMARY:HepCat Beard Day
DESCRIPTION:Any Saturday is a good Saturday to hang out at HepCat Store. This Saturday we got Iman Khalaf from Nõberu of Sweden in the house to teach you how to get that “to die for” hair\, beard and mustache… \nIt’s a bit like HepCat Day for the Mustachios but you are of course welcome even without facial hair… \nMore details t.b.a.  \nContacts\, map and bus routes:  https://www.hepcat.se/contact-us \nWe also got Patric “Kustom Kutting” Fjellman in the house for those that have booked well in advance…  \nCome meet\, greet\, hang out with us! \nhttp://www.hepcat.se \nP.S. If you’re a bit crazy like us join the new HepCat Store Asylum group for the inside scoop D.S.
URL:https://www.heptown.com/calendar/hepcat-beard-day/
LOCATION:HepCat Store\, Sankt Larsv 21\, Lund\, 22270\, Sweden
CATEGORIES:Social Dance
ATTACH;FMTTYPE=image/jpeg:https://www.heptown.com/wp-content/uploads/2017/08/d7838b110108059217414b4f6eb02203.jpg
GEO:55.6849678;13.1810689
X-APPLE-STRUCTURED-LOCATION;VALUE=URI;X-ADDRESS=HepCat Store Sankt Larsv 21 Lund 22270 Sweden;X-APPLE-RADIUS=500;X-TITLE=Sankt Larsv 21:geo:13.1810689,55.6849678
END:VEVENT
BEGIN:VEVENT
DTSTART;TZID=Europe/Helsinki:20170812T160000
DTEND;TZID=Europe/Helsinki:20170812T200000
DTSTAMP:20260420T061659
CREATED:20170728T151525Z
LAST-MODIFIED:20170728T153847Z
UID:10004510-1502553600-1502568000@www.heptown.com
SUMMARY:Eat Dust S/S18 V.I.P Preview
DESCRIPTION:**** MANDATORY PRE BOOKING **** \nEat Dust will show their upcoming line of clothes for Spring/Summer 2018 at HepCat Store \nThis will take place on the 12th of August between 16-20 approx. There will be drinks and food! \nThis is a LIMITED PREBOOKED ONLY event\nYou MUST REGISTER on the google form: https://goo.gl/forms/ijjrcKhPm4vwDZEw1 \nSee you guys! \n/ HepCat Store\nhttp://www.hepcat.\nContacts\, map and bus routes: https://www.hepcat.se/contact-usse \nP.S. If you’re a bit crazy like us join the new HepCat Store Asylum group for the inside scoop D.S.
URL:https://www.heptown.com/calendar/eat-dust-ss18-v-i-p-preview/
LOCATION:HepCat Store\, Sankt Larsv 21\, Lund\, 22270\, Sweden
CATEGORIES:Other Events
ATTACH;FMTTYPE=image/jpeg:https://www.heptown.com/wp-content/uploads/2017/07/01783c55f823d13988f6d5a71f27c0bf.jpg
ORGANIZER;CN="HepCat Store":MAILTO:noreply@facebookmail.com
GEO:55.6849678;13.1810689
X-APPLE-STRUCTURED-LOCATION;VALUE=URI;X-ADDRESS=HepCat Store Sankt Larsv 21 Lund 22270 Sweden;X-APPLE-RADIUS=500;X-TITLE=Sankt Larsv 21:geo:13.1810689,55.6849678
END:VEVENT
BEGIN:VEVENT
DTSTART;TZID=Europe/Helsinki:20170812T100000
DTEND;TZID=Europe/Helsinki:20170812T140000
DTSTAMP:20260420T061659
CREATED:20170728T151523Z
LAST-MODIFIED:20170728T153829Z
UID:10004508-1502532000-1502546400@www.heptown.com
SUMMARY:HepCat Hangout: The Big Deal!
DESCRIPTION:Any Saturday is a good Saturday to hang out at HepCat Store. You can always get a good deal but this Saturday is a BIG DEAL with great offers. \nCan’t wait? Get some good offers right now!\nhttps://www.hepcat.se/sale\nhttps://www.hepcat.se/sale/sale-news \nContacts\, map and bus routes: https://www.hepcat.se/contact-us \nWe also got Patric “Kustom Kutting” Fjellman in the house for those that have booked well in advance… \nCome meet\, greet\, hang out and make a bargain \nhttp://www.hepcat.se \nP.S. If you’re a bit crazy like us join the new HepCat Store Asylum group for the inside scoop D.S.
URL:https://www.heptown.com/calendar/hepcat-hangout-the-big-deal/
LOCATION:HepCat Store\, Sankt Larsv 21\, Lund\, 22270\, Sweden
CATEGORIES:Other Events
ATTACH;FMTTYPE=image/jpeg:https://www.heptown.com/wp-content/uploads/2017/07/424f782801f7b8863f925b180de0ef27.jpg
ORGANIZER;CN="HepCat Store":MAILTO:noreply@facebookmail.com
GEO:55.6849678;13.1810689
X-APPLE-STRUCTURED-LOCATION;VALUE=URI;X-ADDRESS=HepCat Store Sankt Larsv 21 Lund 22270 Sweden;X-APPLE-RADIUS=500;X-TITLE=Sankt Larsv 21:geo:13.1810689,55.6849678
END:VEVENT
BEGIN:VEVENT
DTSTART;TZID=Europe/Helsinki:20170708T100000
DTEND;TZID=Europe/Helsinki:20170708T150000
DTSTAMP:20260420T061659
CREATED:20170707T080542Z
LAST-MODIFIED:20170707T152719Z
UID:10004115-1499508000-1499526000@www.heptown.com
SUMMARY:HepCat Hangout: Mods vs Rockers
DESCRIPTION:Any Saturday is a god Saturday to hang out at HepCat Store. This Saturday the hardcore Mods and Rockers will meet up in Malmö for the annual Mods vs Rockers Malmö ride out to HepCat Store. \nThe rest of us will hang out here for the Hot Dog BBQ and count em in. \nNo need to bring your own. We’ll provide the meat\, the heat and the chef to “burn” and serve em from lunchtime until about 3 pm. \nHepCat Store will be open from 10. The Mods and Rockers are expected to invade around 1 – 2 p.m. \nCome meet\, greet\, hang out and have a good day with us! \nWelcome! \nThe HepCat Store Crew\nhttp://www.hepcat.se \nHEPCAT STORE EVENTS\n1/7 HepCat Hang out: Start of holiday edition\n8/7 HepCat Hangout: Mods vs Rockers\n12/8 HepCat Hangout: A big surprise!\n16/9 HepCat Hangout: Lund kulture night\n28/10 HepCat Hangout:\n9/12 HepCat Hangout: \n21/4 Record Store Day 2018\n?/5 HepCat Day 2018
URL:https://www.heptown.com/calendar/hepcat-hangout-mods-vs-rockers/
LOCATION:HepCat Store\, Sankt Larsv 21\, Lund\, 22270\, Sweden
ATTACH;FMTTYPE=image/jpeg:https://www.heptown.com/wp-content/uploads/2017/07/bbc3d84c01e676b65ccd56f41804bbfe.jpg
ORGANIZER;CN="HepCat Store":MAILTO:noreply@facebookmail.com
GEO:55.6849678;13.1810689
X-APPLE-STRUCTURED-LOCATION;VALUE=URI;X-ADDRESS=HepCat Store Sankt Larsv 21 Lund 22270 Sweden;X-APPLE-RADIUS=500;X-TITLE=Sankt Larsv 21:geo:13.1810689,55.6849678
END:VEVENT
END:VCALENDAR