BEGIN:VCALENDAR
VERSION:2.0
PRODID:-//HepTown - ECPv6.15.20//NONSGML v1.0//EN
CALSCALE:GREGORIAN
METHOD:PUBLISH
X-ORIGINAL-URL:https://www.heptown.com
X-WR-CALDESC:Events for HepTown
REFRESH-INTERVAL;VALUE=DURATION:PT1H
X-Robots-Tag:noindex
X-PUBLISHED-TTL:PT1H
BEGIN:VTIMEZONE
TZID:Europe/Stockholm
BEGIN:DAYLIGHT
TZOFFSETFROM:+0100
TZOFFSETTO:+0200
TZNAME:CEST
DTSTART:20220327T010000
END:DAYLIGHT
BEGIN:STANDARD
TZOFFSETFROM:+0200
TZOFFSETTO:+0100
TZNAME:CET
DTSTART:20221030T010000
END:STANDARD
BEGIN:DAYLIGHT
TZOFFSETFROM:+0100
TZOFFSETTO:+0200
TZNAME:CEST
DTSTART:20230326T010000
END:DAYLIGHT
BEGIN:STANDARD
TZOFFSETFROM:+0200
TZOFFSETTO:+0100
TZNAME:CET
DTSTART:20231029T010000
END:STANDARD
BEGIN:DAYLIGHT
TZOFFSETFROM:+0100
TZOFFSETTO:+0200
TZNAME:CEST
DTSTART:20240331T010000
END:DAYLIGHT
BEGIN:STANDARD
TZOFFSETFROM:+0200
TZOFFSETTO:+0100
TZNAME:CET
DTSTART:20241027T010000
END:STANDARD
END:VTIMEZONE
BEGIN:VEVENT
DTSTART;TZID=Europe/Stockholm:20230908T110000
DTEND;TZID=Europe/Stockholm:20230909T230000
DTSTAMP:20260422T141307
CREATED:20230820T173844Z
LAST-MODIFIED:20230820T174422Z
UID:10005974-1694170800-1694300400@www.heptown.com
SUMMARY:Musik\, Mat & Farmersmarket utanför Salthallarna i Höganäs
DESCRIPTION:På Salthallarnas innergård\, utanför HepCat Höganäs\, Garage Bar\, Höganäs Bryggeri\, Barbara Resturang mf blir det en stor livemusik-\, mat- och framersmarket-festival 8-9 september \nMer info om festivalen:\nhttps://www.hoganas.se/naringsliv/foretagande–naringsliv/destinationsutveckling/konceptutveckling/kullahalvon-blomstrar-.html \nVilken dag som helst är en bra dag för att hänga på HepCat  Höganäs i salthallarna. Just denna fredag och lördag har vi dessutom förlängt våra öppettider i samband med denna fantastiska festival. Exakt hur sent vi kommer att ha öppet meddelas senare… \nKom och häng med oss\, kolla in våra unika produkter och besök även våra fantastiska grannar här på Salthallarna. \nHEPCAT NORMALT ÖPPET I HÖGANÄS\nMåndag – fredag: 11-18\nLördag – söndag: 11-14 \nFrån september\nmåndag – tisdag: stängt\nonsdag – fredag: 11-18\nlördag – söndag: 11-14 \nADRESS\nBruksgatan 36K\, 263 39 Höganäs\nhttps://goo.gl/maps/RkXBHvMFbhPKnPMv7\nVår största butik hittar du dock på Sankt Larsv 21 i Lund och online på https://www.hepcat.se \nHEPCAT STORE\nMed fokus på tidlösa kvalitetskläder & livsstils produkter startades HepCat Store 1999 i Lund Med samma fokus öppnades en andra butik i Salthallarna i Höganäs 14 april 2022.\nI Höganäs har vi ett begränsat och noga utvalt sortiment av tidlösa och stilsäkra kläder\, jeans\, skor\, hattar\, kepsar och accessoarer från varumärken som tex Freenote Cloth\, Indigofera\, Red Wing\, Stetson\, Vissla\, American Optics och Brixton\, samt livsstils- outdoor living- och heminredningsprodukter från varumärken som Pendleton\, Yeti och Barebones Living.\nhttps://www.hepcat.se/ \nSALTHALLARNA\nBland de gamla brännugnarna\, i vad som en gång var gamla Höganäs Saltglaserats hemvist\, huserar numera Salthallarna en unik och kreativ samling restauranger\, butiker\, shoppingbageri\, konditori\, krukmakeri\, bryggeri och såklart en HepCat Store Butik a.k.a. HepCat Höganäs.\nSalthallarna har samma öppettider som HepCat Store förutom lördag och söndag då de öppnar för frukost redan kl 8.
URL:https://www.heptown.com/calendar/musik-mat-farmersmarket-utanfor-hepcat-hoganas/
LOCATION:HepCat Höganäs\, Bruksgatan 36\, Höganäs\, 263 39\, SE
ATTACH;FMTTYPE=image/jpeg:https://www.heptown.com/wp-content/uploads/2023/08/31942_image_369746353_698819378956953_7024038367800991097_n.jpg
END:VEVENT
END:VCALENDAR