BEGIN:VCALENDAR
VERSION:2.0
PRODID:-//HepTown - ECPv6.15.20//NONSGML v1.0//EN
CALSCALE:GREGORIAN
METHOD:PUBLISH
X-WR-CALNAME:HepTown
X-ORIGINAL-URL:https://www.heptown.com
X-WR-CALDESC:Events for HepTown
REFRESH-INTERVAL;VALUE=DURATION:PT1H
X-Robots-Tag:noindex
X-PUBLISHED-TTL:PT1H
BEGIN:VTIMEZONE
TZID:Europe/Stockholm
BEGIN:DAYLIGHT
TZOFFSETFROM:+0100
TZOFFSETTO:+0200
TZNAME:CEST
DTSTART:20210328T010000
END:DAYLIGHT
BEGIN:STANDARD
TZOFFSETFROM:+0200
TZOFFSETTO:+0100
TZNAME:CET
DTSTART:20211031T010000
END:STANDARD
BEGIN:DAYLIGHT
TZOFFSETFROM:+0100
TZOFFSETTO:+0200
TZNAME:CEST
DTSTART:20220327T010000
END:DAYLIGHT
BEGIN:STANDARD
TZOFFSETFROM:+0200
TZOFFSETTO:+0100
TZNAME:CET
DTSTART:20221030T010000
END:STANDARD
BEGIN:DAYLIGHT
TZOFFSETFROM:+0100
TZOFFSETTO:+0200
TZNAME:CEST
DTSTART:20230326T010000
END:DAYLIGHT
BEGIN:STANDARD
TZOFFSETFROM:+0200
TZOFFSETTO:+0100
TZNAME:CET
DTSTART:20231029T010000
END:STANDARD
END:VTIMEZONE
BEGIN:VEVENT
DTSTART;TZID=Europe/Stockholm:20221028T193000
DTEND;TZID=Europe/Stockholm:20221028T193000
DTSTAMP:20260421T012701
CREATED:20221011T163633Z
LAST-MODIFIED:20221011T163633Z
UID:10005099-1666985400-1666985400@www.heptown.com
SUMMARY:Copenhagen Balboa Weekend fall 2022
DESCRIPTION:The Copenhagen Ministry of Balboa is proud to once again announce a Copenhagen Balboa Weekend with the fabulous teachers Solen le Bihan & Laurent Wallet. Since last fall edition we have expanded our concept with our own Friday party and a “new dancers” class during Saturday\, taught by no less than Anni Skoglund & Gašper Hrovat so don’t miss this great opportunity!
URL:https://www.heptown.com/calendar/copenhagen-balboa-weekend-fall-2022/
LOCATION:Haveselskabetsvej 3B\, 1823 Frederiksberg C\, Danmark
CATEGORIES:Öresund
ATTACH;FMTTYPE=image/jpeg:https://www.heptown.com/wp-content/uploads/2022/10/28437_image_290689008_1487289931706584_2710820462416229079_n.jpg
END:VEVENT
END:VCALENDAR