BEGIN:VCALENDAR
VERSION:2.0
PRODID:-//HepTown - ECPv6.15.20//NONSGML v1.0//EN
CALSCALE:GREGORIAN
METHOD:PUBLISH
X-ORIGINAL-URL:https://www.heptown.com
X-WR-CALDESC:Events for HepTown
REFRESH-INTERVAL;VALUE=DURATION:PT1H
X-Robots-Tag:noindex
X-PUBLISHED-TTL:PT1H
BEGIN:VTIMEZONE
TZID:Europe/Stockholm
BEGIN:DAYLIGHT
TZOFFSETFROM:+0100
TZOFFSETTO:+0200
TZNAME:CEST
DTSTART:20220327T010000
END:DAYLIGHT
BEGIN:STANDARD
TZOFFSETFROM:+0200
TZOFFSETTO:+0100
TZNAME:CET
DTSTART:20221030T010000
END:STANDARD
BEGIN:DAYLIGHT
TZOFFSETFROM:+0100
TZOFFSETTO:+0200
TZNAME:CEST
DTSTART:20230326T010000
END:DAYLIGHT
BEGIN:STANDARD
TZOFFSETFROM:+0200
TZOFFSETTO:+0100
TZNAME:CET
DTSTART:20231029T010000
END:STANDARD
BEGIN:DAYLIGHT
TZOFFSETFROM:+0100
TZOFFSETTO:+0200
TZNAME:CEST
DTSTART:20240331T010000
END:DAYLIGHT
BEGIN:STANDARD
TZOFFSETFROM:+0200
TZOFFSETTO:+0100
TZNAME:CET
DTSTART:20241027T010000
END:STANDARD
BEGIN:DAYLIGHT
TZOFFSETFROM:+0100
TZOFFSETTO:+0200
TZNAME:CEST
DTSTART:20250330T010000
END:DAYLIGHT
BEGIN:STANDARD
TZOFFSETFROM:+0200
TZOFFSETTO:+0100
TZNAME:CET
DTSTART:20251026T010000
END:STANDARD
END:VTIMEZONE
BEGIN:VEVENT
DTSTART;TZID=Europe/Stockholm:20240210T110000
DTEND;TZID=Europe/Stockholm:20240211T160000
DTSTAMP:20260420T181256
CREATED:20231114T171241Z
LAST-MODIFIED:20231114T171241Z
UID:10006031-1707562800-1707667200@www.heptown.com
SUMMARY:Lindy Hop Beginners' Weekend in Lund 10-11/2
DESCRIPTION:Nybörjarhelg i swingdansen Lindy Hop\, a.k.a Jitterbugg\, en Afroamerikansk pardans från 30-talets Harlem\, vilken stilmässigt har mer gemensamt med dagens street-dance än annan pardans. \nKursen riktar sig till vuxna men tonåringar som vågar är mycket välkomna att delta och extra välkomna på just denna då den hålls i Spykens teatersal… \nMER INFORMATION & OBLIGATORISK FÖRANMÄLAN\nhttps://www.heptown.com/sv/kurser/\nhttps://dans.se/heptown/shop/?event=198344 \n### MER LINDY HOP-KURSER\nhttps://www.heptown.com/sv/kurser/schema/ \nMER INFORMATION\nhttps://www.heptown.com/sv\n<www.facebook.com/SwinginHepTown/> \n** ENGLISH *** ENGLISH *** ENGLISH *** ENGLISH *** ENGLISH ** \nBeginners weekend in Lindy Hop aka jitterbug \, an African American couple swing dance from the ’30s Harlem\, NY. \nThis class is targeted at adults BUT teens that are OK taking classes with adults are also welcome to join and extra welcome at this particular one as it is held in Spyken’s theater room… \nDETAILS & MANDATORY REGISTRATION\nhttps://www.heptown.com/classes/\nhttps://dans.se/heptown/shop/?event=198344 \nMORE LINDY HOP CLASSES\nhttps://www.heptown.com/classes/schedule/ \nLinks\nhttps://www.heptown.com\n<www.facebook.com/SwinginHepTown/> \nWelcome to this thing called swing! \n#heptown #dans #danskurs  #lindyhop #swingdans
URL:https://www.heptown.com/calendar/lindy-hop-beginners-weekend-in-lund-10-11-2/
LOCATION:Gymnasieskolan Spyken\, Dalbyvägen 2\, Lund\, 220 02\, SE
CATEGORIES:Beginners' Weekend,Big event,HepTown,Lund
ATTACH;FMTTYPE=image/jpeg:https://www.heptown.com/wp-content/uploads/2023/11/32333_image_400188950_840514474750717_6961042658740741322_n.jpg
END:VEVENT
BEGIN:VEVENT
DTSTART;TZID=Europe/Stockholm:20230923T110000
DTEND;TZID=Europe/Stockholm:20230924T160000
DTSTAMP:20260420T181256
CREATED:20230830T221649Z
LAST-MODIFIED:20230915T080943Z
UID:10005975-1695466800-1695571200@www.heptown.com
SUMMARY:Lindy Hop Beginners' Weekend in Lund 23-24/9
DESCRIPTION:Beginners weekend in Lindy Hop aka jitterbug \, an African American couple swing dance from the ’30s Harlem\, NY. \nThis class is targeted at adults BUT teens that are OK taking classes with adults are also welcome to join and extra welcome at this particular one as it is held in Spyken’s theater room… \nDETAILS & MANDATORY REGISTRATION\nhttps://www.heptown.com/classes/ \nMORE LINDY HOP CLASSES\nhttps://www.heptown.com/classes/schedule/
URL:https://www.heptown.com/calendar/lindy-hop-beginners-weekend-in-lund-23-24-9/
LOCATION:Gymnasieskolan Spyken\, Dalbyvägen 2\, Lund\, 220 02\, SE
CATEGORIES:Beginners' Weekend,Big event,HepTown,Lindy Hop,Lund,Öresund
ATTACH;FMTTYPE=image/jpeg:https://www.heptown.com/wp-content/uploads/2023/08/31969_image_375209509_10159911479572075_9191547953746945575_n.jpg
END:VEVENT
END:VCALENDAR