BEGIN:VCALENDAR
VERSION:2.0
PRODID:-//HepTown - ECPv6.15.20//NONSGML v1.0//EN
CALSCALE:GREGORIAN
METHOD:PUBLISH
X-ORIGINAL-URL:https://www.heptown.com
X-WR-CALDESC:Events for HepTown
REFRESH-INTERVAL;VALUE=DURATION:PT1H
X-Robots-Tag:noindex
X-PUBLISHED-TTL:PT1H
BEGIN:VTIMEZONE
TZID:Europe/Stockholm
BEGIN:DAYLIGHT
TZOFFSETFROM:+0100
TZOFFSETTO:+0200
TZNAME:CEST
DTSTART:20190331T010000
END:DAYLIGHT
BEGIN:STANDARD
TZOFFSETFROM:+0200
TZOFFSETTO:+0100
TZNAME:CET
DTSTART:20191027T010000
END:STANDARD
BEGIN:DAYLIGHT
TZOFFSETFROM:+0100
TZOFFSETTO:+0200
TZNAME:CEST
DTSTART:20200329T010000
END:DAYLIGHT
BEGIN:STANDARD
TZOFFSETFROM:+0200
TZOFFSETTO:+0100
TZNAME:CET
DTSTART:20201025T010000
END:STANDARD
BEGIN:DAYLIGHT
TZOFFSETFROM:+0100
TZOFFSETTO:+0200
TZNAME:CEST
DTSTART:20210328T010000
END:DAYLIGHT
BEGIN:STANDARD
TZOFFSETFROM:+0200
TZOFFSETTO:+0100
TZNAME:CET
DTSTART:20211031T010000
END:STANDARD
END:VTIMEZONE
BEGIN:VEVENT
DTSTART;TZID=Europe/Stockholm:20201120T200000
DTEND;TZID=Europe/Stockholm:20201120T210000
DTSTAMP:20260421T011717
CREATED:20201119T215635Z
LAST-MODIFIED:20201120T155041Z
UID:10004923-1605902400-1605906000@www.heptown.com
SUMMARY:Livestream concert with the Sky is Crying!
DESCRIPTION:We miss playing music and we miss playing music for YOU! So join us for this cosy November concert\, live from Gustav’s living room\, where we’ll play all our favourites in the light of the crackling fire. (We’re not even joking. There’s an actual fireplace.) \nIf you’d like to support us through these crazy times with a donation\, there’ll be Swish and Paypal. \nThe Sky is Crying is:\nKristin Ladström – vocals\nGustav Davidsson – trombone\, piano and vocals\nMarcus Fenn – bass\, guitar\, banjo and vocals
URL:https://www.heptown.com/calendar/livestream-concert-with-the-sky-is-crying/
LOCATION:Göteborg
CATEGORIES:Öresund
ATTACH;FMTTYPE=image/jpeg:https://www.heptown.com/wp-content/uploads/2020/11/21372_image_120960763_4613027248737551_471745670555064101_o.jpg
END:VEVENT
END:VCALENDAR