BEGIN:VCALENDAR
VERSION:2.0
PRODID:-//HepTown - ECPv6.15.20//NONSGML v1.0//EN
CALSCALE:GREGORIAN
METHOD:PUBLISH
X-WR-CALNAME:HepTown
X-ORIGINAL-URL:https://www.heptown.com
X-WR-CALDESC:Events for HepTown
REFRESH-INTERVAL;VALUE=DURATION:PT1H
X-Robots-Tag:noindex
X-PUBLISHED-TTL:PT1H
BEGIN:VTIMEZONE
TZID:Europe/Stockholm
BEGIN:DAYLIGHT
TZOFFSETFROM:+0100
TZOFFSETTO:+0200
TZNAME:CEST
DTSTART:20180325T010000
END:DAYLIGHT
BEGIN:STANDARD
TZOFFSETFROM:+0200
TZOFFSETTO:+0100
TZNAME:CET
DTSTART:20181028T010000
END:STANDARD
BEGIN:DAYLIGHT
TZOFFSETFROM:+0100
TZOFFSETTO:+0200
TZNAME:CEST
DTSTART:20190331T010000
END:DAYLIGHT
BEGIN:STANDARD
TZOFFSETFROM:+0200
TZOFFSETTO:+0100
TZNAME:CET
DTSTART:20191027T010000
END:STANDARD
BEGIN:DAYLIGHT
TZOFFSETFROM:+0100
TZOFFSETTO:+0200
TZNAME:CEST
DTSTART:20200329T010000
END:DAYLIGHT
BEGIN:STANDARD
TZOFFSETFROM:+0200
TZOFFSETTO:+0100
TZNAME:CET
DTSTART:20201025T010000
END:STANDARD
BEGIN:DAYLIGHT
TZOFFSETFROM:+0100
TZOFFSETTO:+0200
TZNAME:CEST
DTSTART:20210328T010000
END:DAYLIGHT
BEGIN:STANDARD
TZOFFSETFROM:+0200
TZOFFSETTO:+0100
TZNAME:CET
DTSTART:20211031T010000
END:STANDARD
END:VTIMEZONE
BEGIN:VEVENT
DTSTART;TZID=Europe/Stockholm:20200819T173000
DTEND;TZID=Europe/Stockholm:20200819T210000
DTSTAMP:20260422T142645
CREATED:20200728T112756Z
LAST-MODIFIED:20200819T163740Z
UID:10005504-1597858200-1597870800@www.heptown.com
SUMMARY:Swing - get together - og lidt dans!
DESCRIPTION:(English below) Det var så skønt sidst. Vi gør det igen. Kom og mød dine swing-venner\, nyd musikken og en lille svingom. Vi danser med få partnere eller medbragt partner. \nkl.17.30. starter vi med at spise sammen (køkkenet laver mad frem til kl.20). Til swingere laver vi et tilbud på 175kr for hovedret og en fadØl. 150kr hvis man ønsker sodavand i stedet. Forudbestil gerne en spiseplads her: Gonzocph@gmail.com \nKl.18.15 Skruer vi lidt op for musikken til pardans med afstand – max 6 par på gulvet\, og fortsætter hyggen ved bordene. \nKl.21.00 Vi skruer ned for musikken igen\, og man kan bestille  endnu en omgang. \nEnglish:\nWe miss our swing friends\, the music and the dance. Let’s meet for a bite to eat\, and a glass. We put on som great music and we clear the floor for dancing with a partner for the night. \n17h30: We start eating together. (It’s also possible to eat later). For swingers we have a special offer of 175kr for a main course and a draught beer. 150kr if you wish for a soda instead. Pre-order here: Gonzocph@gmail.com \nAt 18.15 we turn up the music for – max 6 couples on the floor – and we continue the fun around the tables. \n21.00 We turn down the music\, and it is time for yet another drink in the bar.
URL:https://www.heptown.com/calendar/swing-get-together-og-lidt-dans/
LOCATION:GONZO\, Jægersborggade 32\, Copenhagen\, 2200\, DK
CATEGORIES:Öresund
ATTACH;FMTTYPE=image/jpeg:https://www.heptown.com/wp-content/uploads/2020/07/20135_image_110231431_940107853081983_4030449567253665244_n.jpg
GEO:55.6929082;12.5439074
X-APPLE-STRUCTURED-LOCATION;VALUE=URI;X-ADDRESS=GONZO Jægersborggade 32 Copenhagen 2200 DK;X-APPLE-RADIUS=500;X-TITLE=Jægersborggade 32:geo:12.5439074,55.6929082
END:VEVENT
BEGIN:VEVENT
DTSTART;TZID=Europe/Stockholm:20190814T173000
DTEND;TZID=Europe/Stockholm:20190814T213000
DTSTAMP:20260422T142645
CREATED:20190813T085423Z
LAST-MODIFIED:20190813T085423Z
UID:10005256-1565803800-1565818200@www.heptown.com
SUMMARY:Swingdans - for ALLE
DESCRIPTION:(English below) Den store efterspørgsel på social dans og vores kæmpe Swing-glæde gør\, at dedikerede lokale dansere og GONZO går sammen i et makkerskab. Vi åbner dørene for social dans hen over efteråret i cafeens dagligstue. \nVi sætter fut i fejemøjet onsdag d. 14.august. \nkl.17.30 Kom og nyd en hyggelig aftensmad med dine danse-fæller\nKl.19.00 skruer vi op for musikken\, og de lokale legendariske professionelle dansere Maja Sommerfeldt og Teis Volstrup\, fører an og sørger for at alle kan være med.\nKl.19.45 er der social dans.\nKl.21.30 Vi skruer ned for musikken igen\, og man kan bestille en sidste omgang. \nSkriv gerne til gonzocph@gmail.com og bestil bord. \nEnglish:\nThe great demand for social dance and our huge SWING-enthusiasm has made us partner up with dedicated local dancers. Throughout the fall we will open the doors for social dance in the living room of our café. \nWednesday 14th of August will be the first time.\n17.30 come and have dinner with your dance fellows\n19.00 we turn up the music and the legendary professional dancers Maja Sommerfeldt and Teis Volstrup show us the basic steps\, so everyone can join.\n19.45 is social dance\n21.30 We turn down the music\, and it is time for the last round. \nIt may be a good idea to write gonzocph@gmail.com for reservation of a table in case you would like to eat.
URL:https://www.heptown.com/calendar/swingdans-for-alle/
LOCATION:GONZO\, Jægersborggade 32\, Copenhagen\, 2200\, DK
ATTACH;FMTTYPE=image/jpeg:https://www.heptown.com/wp-content/uploads/2019/08/13799_image_68614507_689614484797989_3870428302984347648_n.jpg
GEO:55.6929082;12.5439074
X-APPLE-STRUCTURED-LOCATION;VALUE=URI;X-ADDRESS=GONZO Jægersborggade 32 Copenhagen 2200 DK;X-APPLE-RADIUS=500;X-TITLE=Jægersborggade 32:geo:12.5439074,55.6929082
END:VEVENT
END:VCALENDAR