BEGIN:VCALENDAR
VERSION:2.0
PRODID:-//HepTown - ECPv6.15.20//NONSGML v1.0//EN
CALSCALE:GREGORIAN
METHOD:PUBLISH
X-ORIGINAL-URL:https://www.heptown.com
X-WR-CALDESC:Events for HepTown
REFRESH-INTERVAL;VALUE=DURATION:PT1H
X-Robots-Tag:noindex
X-PUBLISHED-TTL:PT1H
BEGIN:VTIMEZONE
TZID:Europe/Stockholm
BEGIN:DAYLIGHT
TZOFFSETFROM:+0100
TZOFFSETTO:+0200
TZNAME:CEST
DTSTART:20250330T010000
END:DAYLIGHT
BEGIN:STANDARD
TZOFFSETFROM:+0200
TZOFFSETTO:+0100
TZNAME:CET
DTSTART:20251026T010000
END:STANDARD
BEGIN:DAYLIGHT
TZOFFSETFROM:+0100
TZOFFSETTO:+0200
TZNAME:CEST
DTSTART:20260329T010000
END:DAYLIGHT
BEGIN:STANDARD
TZOFFSETFROM:+0200
TZOFFSETTO:+0100
TZNAME:CET
DTSTART:20261025T010000
END:STANDARD
BEGIN:DAYLIGHT
TZOFFSETFROM:+0100
TZOFFSETTO:+0200
TZNAME:CEST
DTSTART:20270328T010000
END:DAYLIGHT
BEGIN:STANDARD
TZOFFSETFROM:+0200
TZOFFSETTO:+0100
TZNAME:CET
DTSTART:20271031T010000
END:STANDARD
END:VTIMEZONE
BEGIN:VEVENT
DTSTART;TZID=Europe/Stockholm:20260427T200000
DTEND;TZID=Europe/Stockholm:20260427T220000
DTSTAMP:20260420T222010
CREATED:20260409T092037Z
LAST-MODIFIED:20260409T092037Z
UID:10006539-1777320000-1777327200@www.heptown.com
SUMMARY:Monday Night Swing | Lindy Hop | Social dance 27/4
DESCRIPTION:English below \nGör måndagen till veckans höjdpunkt! Vi fortsätter vårt nya kursblock med full fart och bjuder in till socialdans i Gasquesalen. Oavsett om du precis har kört ett pass på B eller E-kursen\, eller bara vill komma för musiken och dansen\, så är golvet ditt. Vi ses för två timmar av ren dansglädje! \n⏰ Tid: Måndag 27 april\, kl. 20:00 – 22:00\n📍 Plats: Gasquesalen\, Kårhuset vid LTH (John Ericssons väg 3\, Lund). Ingång via amfiteatern på framsidan.\n🗺️ Karta till rätt dörr: https://maps.app.goo.gl/PGv7ra14X2dmzEWK6\n🚌 Ta dig hit: Spårvagn och bussar stannar vid hållplats “Lund LTH”. Sök din resa i Skånetrafikens app.\n🎟️ Pris: 80 kr drop-in (Swish). För rabatt (medlem/student/ungdom/arbetslös)\, föranmäl och betala via länken nedan. \n👉 Säkra din plats och få rabatt genom att betala och föranmäla dig här:\nhttps://dans.se/heptown/shop/?event=271428&lang=sv \n📖 Mer info om våra måndagskvällar:\nhttps://www.heptown.com/sv/mandagsswing/ \n\nMake Monday the highlight of your week! We’re mid-course block and the energy is high. Join us for social dancing in Gasquesalen – whether you’ve just finished your B or E class\, or you’re just here for the music and the vibes. See you for two hours of swing! \n⏰ Time: Monday\, April 27th\, 20:00 – 22:00\n📍 Location: Gasquesalen\, Kårhuset at LTH (John Ericssons väg 3\, Lund). Entrance via the amphitheater.\n🗺️ Map to the right door: https://maps.app.goo.gl/PGv7ra14X2dmzEWK6\n🚌 Getting here: Tram and buses stop right outside at “Lund LTH”.\n🎟️ Price: 80 SEK drop-in (Swish). For discounts (member/student/youth/unemployed)\, pre-register and pay via the link below. \n👉 Secure your spot and get a discount by paying and pre-registering here:\nhttps://dans.se/heptown/shop/?event=271428&lang=en \n#lund #studentilund #lindyhop #socialdance #swingdance #heptown
URL:https://www.heptown.com/calendar/monday-night-swing-lindy-hop-social-dance-27-4/
LOCATION:Gasquesalen
CATEGORIES:HepTown,Lindy Hop,Lund,Monday Night Swing,Öresund,Social Dance,Student Discount / Studentrabatt
ATTACH;FMTTYPE=image/jpeg:https://www.heptown.com/wp-content/uploads/2026/04/36962_image_668077705_1598561758945981_59684976113228466_n.jpg
END:VEVENT
BEGIN:VEVENT
DTSTART;TZID=Europe/Stockholm:20260511T200000
DTEND;TZID=Europe/Stockholm:20260511T220000
DTSTAMP:20260420T222010
CREATED:20260409T130552Z
LAST-MODIFIED:20260409T130552Z
UID:10006542-1778529600-1778536800@www.heptown.com
SUMMARY:Monday Night Swing | Lindy Hop | Social dance 11/5
DESCRIPTION:English below \nSwingaloss med oss varje måndag! Gör måndagen till veckans bästa dag med Monday Night Swing i Lund. Vi bjuder in till en avslappnad socialdans fylld av dansglädje\, gemenskap och riktigt bra swingmusik. Vi dansar främst Lindy Hop\, men även Balboa och Collegiate Shag dyker ofta upp på golvet. Du är varmt välkommen precis som du är! \nDet börjar dra ihop sig mot terminsavslutning på Kårhuset (den 25/5)\, så passa på att njuta av varje måndag som är kvar på säsongen! \nIkväll har vi ingen prova-på-kurs för nybörjare\, men om du frågar snällt på plats brukar det alltid finnas någon som kan visa några grundsteg så att du kommer igång. \n⏰ Tid: Måndag 11 maj\, kl. 20:00 – 22:00\n📍 Plats: Gasquesalen\, Kårhuset vid LTH (John Ericssons väg 3\, Lund). Ingång via amfiteatern på framsidan.\n🗺️ Karta till rätt dörr: https://maps.app.goo.gl/PGv7ra14X2dmzEWK6\n🚌 Ta dig hit: Spårvagn\, stadsbussar och regionbussar stannar precis utanför! Sök din resa till hållplats “Lund LTH” i Skånetrafikens app.\n🎟️ Pris: 80 kr drop-in (Swish). För rabatt (medlem/student/ungdom/arbetslös)\, föranmäl och betala via länken nedan. \n👉 Säkra din plats och få rabatt genom att betala och föranmäla dig här (kort/Swish/Bankgiro):\nhttps://dans.se/heptown/shop/?event=271842&lang=sv \n📖 Mer info om våra måndagskvällar:\nhttps://www.heptown.com/sv/mandagsswing/ \n\nMondays in Lund mean Monday Night Swing! Join us for a relaxed social dance where our DJs keep the floor moving with great swing music all night. While Lindy Hop is our main focus\, you’ll often find Balboa and Collegiate Shag in the mix. Everyone is welcome—regardless of age\, membership\, or dance experience! \nThe season finale at Kårhuset (May 25th) is approaching fast\, so make sure to make the most of every Monday left this term! \nTonight there is no formal beginner taster\, but if you ask nicely\, there’s usually someone happy to show you a few basic steps to get you started on the dance floor. \n⏰ Time: Monday\, May 11th\, 20:00 – 22:00\n📍 Location: Gasquesalen\, Kårhuset at LTH (John Ericssons väg 3\, Lund). Entrance via the amphitheater.\n🗺️ Map to the right door: https://maps.app.goo.gl/PGv7ra14X2dmzEWK6\n🚌 Getting here: Tram and buses stop right outside! Search for “Lund LTH” in the Skånetrafiken app.\n🎟️ Price: 80 SEK drop-in (Swish). For discounts (member/student/youth/unemployed)\, pre-register and pay via the link below. \n👉 Secure your spot and get a discount by paying and pre-registering here (card/Swish/Bankgiro):\nhttps://dans.se/heptown/shop/?event=271842&lang=en \n📖 Read more about our Monday nights:\nhttps://www.heptown.com/monday-night-swing/ \n#lund #studentilund #lindyhop #socialdance #dans #studentrabatt #swingdance #heptown
URL:https://www.heptown.com/calendar/monday-night-swing-lindy-hop-social-dance-11-5/
LOCATION:Gasquesalen
CATEGORIES:HepTown,Lindy Hop,Lund,Monday Night Swing,Öresund,Social Dance,Student Discount / Studentrabatt
ATTACH;FMTTYPE=image/jpeg:https://www.heptown.com/wp-content/uploads/2026/04/36971_image_667027428_1598709745597849_6796496425129211890_n.jpg
END:VEVENT
BEGIN:VEVENT
DTSTART;TZID=Europe/Stockholm:20260518T200000
DTEND;TZID=Europe/Stockholm:20260518T220000
DTSTAMP:20260420T222010
CREATED:20260409T130558Z
LAST-MODIFIED:20260409T130558Z
UID:10006543-1779134400-1779141600@www.heptown.com
SUMMARY:Monday Night Swing | Lindy Hop | Social dance 18/5
DESCRIPTION:English below \nNäst sista måndagen med socialdans på Kårhuset för säsongen! Ikväll firar vi kursavslutning för nivåerna B\, C+ och E. Kom och fira era framsteg på dansgolvet med en riktigt härlig socialdanskväll \n🔥 NÄSTA VECKA (25/5): Missa inte den stora säsongsfinalen på Kårhuset! Vi har öppet extra länge (18:00 – 22:00) och inleder kvällen med en “Bring Your Own BBQ” (BYO BBQ). Mer info kommer! \n⏰ Tid: Måndag 18 maj\, kl. 20:00 – 22:00\n📍 Plats: Gasquesalen\, Kårhuset vid LTH (John Ericssons väg 3\, Lund). Ingång via amfiteatern på framsidan.\n🗺️ Karta till rätt dörr: https://maps.app.goo.gl/PGv7ra14X2dmzEWK6\n🚌 Ta dig hit: Spårvagn och bussar stannar vid hållplats “Lund LTH”.\n🎟️ Pris: 80 kr drop-in (Swish). För rabatt (medlem/student/ungdom/arbetslös)\, föranmäl och betala via länken nedan. \n👉 Säkra din plats och få rabatt genom att föranmäla dig här:\nhttps://dans.se/heptown/shop/?event=271844&lang=sv \n📖 Mer info om våra måndagskvällar:\nhttps://www.heptown.com/sv/mandagsswing/ \n\nThe second to last Monday social dance at Kårhuset of the season! Tonight we celebrate the course finale for levels B\, C+\, and E. Come and celebrate your progress on the dance floor – there’s no better way to end a course block than with a great social dance together with all your new course friends! \n🔥 NEXT WEEK (May 25th): Don’t miss the grand season finale at Kårhuset! We’ll be open longer (18:00 – 22:00) and start the evening with a “Bring Your Own BBQ” (BYO BBQ). Stay tuned for more info! \n⏰ Time: Monday\, May 18th\, 20:00 – 22:00\n📍 Location: Gasquesalen\, Kårhuset at LTH (John Ericssons väg 3\, Lund).\n🗺️ Map to the right door: https://maps.app.goo.gl/PGv7ra14X2dmzEWK6\n🎟️ Price: 80 SEK drop-in (Swish). For discounts\, pre-register and pay via the link below. \n👉 Secure your spot and get a discount by pre-registering here:\nhttps://dans.se/heptown/shop/?event=271844&lang=en \n#lund #studentilund #lindyhop #socialdance #seasonfinale #swingdance #heptown
URL:https://www.heptown.com/calendar/monday-night-swing-lindy-hop-social-dance-18-5/
LOCATION:Gasquesalen
CATEGORIES:HepTown,Lindy Hop,Lund,Monday Night Swing,Öresund,Social Dance,Student Discount / Studentrabatt
ATTACH;FMTTYPE=image/jpeg:https://www.heptown.com/wp-content/uploads/2026/04/36974_image_669655819_1598727285596095_5657287272707978515_n.jpg
END:VEVENT
BEGIN:VEVENT
DTSTART;TZID=Europe/Stockholm:20260525T180000
DTEND;TZID=Europe/Stockholm:20260525T220000
DTSTAMP:20260420T222010
CREATED:20260410T083516Z
LAST-MODIFIED:20260410T083516Z
UID:10006546-1779732000-1779746400@www.heptown.com
SUMMARY:GRAND SEASON FINALE: Monday Night Swing | BBQ & Dance 25/5
DESCRIPTION:English below \nDet är dags för årets stora säsongsfinal på Kårhuset! Vi firar av en fantastisk termin med extra mycket dans\, gemenskap och sommarvibbar. Denna kväll öppnar vi dörrarna redan kl. 18:00 för att njuta av kvällssolen tillsammans. \n🔥 BYO BBQ (Bring Your Own BBQ) – Från kl. 18:00\nVi startar kvällen med grillning utanför Kårhuset! Ta med dig det du vill äta och dricka\, så fixar vi glöden och den goda stämningen. Ett perfekt tillfälle att hänga med alla dansvänner innan vi intar dansgolvet. \n💃 SOCIALDANS – Kl. 19:30 – 22:00\nEfter grillningen flyttar vi in i Gasquesalen för terminens sista Monday Night Swing. \n⏰ Tid: Måndag 25 maj\, kl. 18:00 – 22:00 (Socialdans från ca 19:00)\n📍 Plats: Gasquesalen\, Kårhuset vid LTH (John Ericssons väg 3\, Lund).\n🎟️ Pris: 80 kr drop-in (Swish). För rabatt (medlem/student/ungdom/arbetslös)\, föranmäl och betala via länken nedan. \n👉 Säkra din plats till finalen här:\nhttps://dans.se/heptown/shop/?event=271855&lang=sv \n\nGRAND SEASON FINALE & BYO BBQ!\nIt’s time to wrap up a fantastic season at Kårhuset! We’re celebrating with extra dance time\, great vibes\, and our traditional season-ending BBQ. \n🔥 BYO BBQ (Bring Your Own BBQ) – From 18:00\nWe start the evening outside Kårhuset. Bring whatever you want to eat and drink\, and we’ll provide the grill and the company. A perfect way to hang out before hitting the floor! \n💃 SOCIAL DANCE – 19:30 – 22:00\nAfter the BBQ\, we move into Gasquesalen for the final Monday Night Swing of the term\, keeping the floor burning until 22:00! \n⏰ Time: Monday\, May 25th\, 18:00 – 22:00 (Dance starts around 19:00)\n📍 Location: Gasquesalen\, Kårhuset at LTH (John Ericssons väg 3\, Lund).\n🎟️ Price: 80 SEK drop-in (Swish). For discounts\, pre-register and pay via the link below. \n👉 Secure your spot for the finale here:\nhttps://dans.se/heptown/shop/?event=271855&lang=en \n#lund #lindyhop #seasonfinale #socialdance #bbq #swingdance #heptown #kårhuset
URL:https://www.heptown.com/calendar/grand-season-finale-monday-night-swing-bbq-dance-25-5/
LOCATION:Gasquesalen
CATEGORIES:Big event,HepTown,Lindy Hop,Lund,Monday Night Swing,Öresund,Social Dance,Student Discount / Studentrabatt
ATTACH;FMTTYPE=image/jpeg:https://www.heptown.com/wp-content/uploads/2026/04/36992_image_670835507_1599480285520795_3128335386965866019_n.jpg
END:VEVENT
END:VCALENDAR