BEGIN:VCALENDAR
VERSION:2.0
PRODID:-//HepTown - ECPv6.15.20//NONSGML v1.0//EN
CALSCALE:GREGORIAN
METHOD:PUBLISH
X-ORIGINAL-URL:https://www.heptown.com
X-WR-CALDESC:Events for HepTown
REFRESH-INTERVAL;VALUE=DURATION:PT1H
X-Robots-Tag:noindex
X-PUBLISHED-TTL:PT1H
BEGIN:VTIMEZONE
TZID:Europe/Stockholm
BEGIN:DAYLIGHT
TZOFFSETFROM:+0100
TZOFFSETTO:+0200
TZNAME:CEST
DTSTART:20230326T010000
END:DAYLIGHT
BEGIN:STANDARD
TZOFFSETFROM:+0200
TZOFFSETTO:+0100
TZNAME:CET
DTSTART:20231029T010000
END:STANDARD
BEGIN:DAYLIGHT
TZOFFSETFROM:+0100
TZOFFSETTO:+0200
TZNAME:CEST
DTSTART:20240331T010000
END:DAYLIGHT
BEGIN:STANDARD
TZOFFSETFROM:+0200
TZOFFSETTO:+0100
TZNAME:CET
DTSTART:20241027T010000
END:STANDARD
BEGIN:DAYLIGHT
TZOFFSETFROM:+0100
TZOFFSETTO:+0200
TZNAME:CEST
DTSTART:20250330T010000
END:DAYLIGHT
BEGIN:STANDARD
TZOFFSETFROM:+0200
TZOFFSETTO:+0100
TZNAME:CET
DTSTART:20251026T010000
END:STANDARD
END:VTIMEZONE
BEGIN:VEVENT
DTSTART;TZID=Europe/Stockholm:20240509T150000
DTEND;TZID=Europe/Stockholm:20240509T150000
DTSTAMP:20260423T125701
CREATED:20240404T130241Z
LAST-MODIFIED:20240424T153142Z
UID:10006112-1715266800-1715266800@www.heptown.com
SUMMARY:CANCELLED: Live music\, swing and blues dance classes\, swing kids and social dance
DESCRIPTION:Swing- och bluesdans dagen den 9 maj är tyvärr inställd.\nDet var ett gemensamt beslut av oss och bokare på Kultur & fritid Malmö som togs då alla aktiviteter behövde flyttas in i parken och att det där inte var möjlighet att ordna ett dansgolv. \nUnder gällande omständigheter en viss lättnad men också sorg då vi I 25 år kämpat för att höja dansens status som kultur- och nöjesutbud. Ofta förpassade till att få vara nöjda med att utan ersättning få visa upp dans på kullersten. Vi hade nu äntligen fått chansen att med rimlig budget från Malmö stad få producera en heldag med våra danser till livemusik och t.o.m. lov att bygga ett för dans lämpligt trägolv. \nVi sympatiserar både med de som av genuina skäl själva valt att bojkotta och de som väljer att uppträda. \nVi önskar mer frihet och dans åt alla!
URL:https://www.heptown.com/calendar/heptown-at-esc-live-music-swing-and-blues-dance-classes-swing-kids-and-social-dance/
LOCATION:Friisgatan 19\, Malmö\, Friisgatan 19\, Malmö
CATEGORIES:Beginner,Beginners' Lindy Hop Class,Blues Dance,HepTown,Lindy Hop,Malmö,Öresund,Social Dance
ATTACH;FMTTYPE=image/jpeg:https://www.heptown.com/wp-content/uploads/2024/04/33246_image_437595317_967839015351595_7095446093896194790_n.jpg
END:VEVENT
END:VCALENDAR