BEGIN:VCALENDAR
VERSION:2.0
PRODID:-//HepTown - ECPv6.15.20//NONSGML v1.0//EN
CALSCALE:GREGORIAN
METHOD:PUBLISH
X-ORIGINAL-URL:https://www.heptown.com
X-WR-CALDESC:Events for HepTown
REFRESH-INTERVAL;VALUE=DURATION:PT1H
X-Robots-Tag:noindex
X-PUBLISHED-TTL:PT1H
BEGIN:VTIMEZONE
TZID:Europe/Stockholm
BEGIN:DAYLIGHT
TZOFFSETFROM:+0100
TZOFFSETTO:+0200
TZNAME:CEST
DTSTART:20230326T010000
END:DAYLIGHT
BEGIN:STANDARD
TZOFFSETFROM:+0200
TZOFFSETTO:+0100
TZNAME:CET
DTSTART:20231029T010000
END:STANDARD
BEGIN:DAYLIGHT
TZOFFSETFROM:+0100
TZOFFSETTO:+0200
TZNAME:CEST
DTSTART:20240331T010000
END:DAYLIGHT
BEGIN:STANDARD
TZOFFSETFROM:+0200
TZOFFSETTO:+0100
TZNAME:CET
DTSTART:20241027T010000
END:STANDARD
BEGIN:DAYLIGHT
TZOFFSETFROM:+0100
TZOFFSETTO:+0200
TZNAME:CEST
DTSTART:20250330T010000
END:DAYLIGHT
BEGIN:STANDARD
TZOFFSETFROM:+0200
TZOFFSETTO:+0100
TZNAME:CET
DTSTART:20251026T010000
END:STANDARD
END:VTIMEZONE
BEGIN:VEVENT
DTSTART;TZID=Europe/Stockholm:20240813T170000
DTEND;TZID=Europe/Stockholm:20240813T190000
DTSTAMP:20260421T073646
CREATED:20240523T104902Z
LAST-MODIFIED:20240523T105122Z
UID:10006130-1723568400-1723575600@www.heptown.com
SUMMARY:Tuxen Lockjaw at Malmöfestivalen
DESCRIPTION:Not a HepTown event but when Malmö Festival brings in swing band Tuxen Lockjaw\, we’re there to dance! Even without a dance floor\, we’re cutting loose\, literally in the fountain (which is thankfully will be empty of water)!\nhttps://www.instagram.com/tuxenlockjaw \nMore swingdancing at: https://www.heptown.com/ \nInte HepTowns event men när malmöfestivalen har den goda smaken att boka swingbandet Tuxen Lockjaw är vi såklart där och danar. Även om där inte är något dansgolv och vi bokstavligt talat dansar i fontänen som åtminstone töms på på vatten 🙂 \nMera swingdans: https://www.heptown.com/sv
URL:https://www.heptown.com/calendar/tuxen-lockjaw-at-malmofestivalen/
LOCATION:Fontänen\, Raoul Wallenbergs Park
CATEGORIES:Beginners' Lindy Hop Class,Big event,HepTown,Lindy Hop,Malmö,Öresund,Social Dance
ATTACH;FMTTYPE=image/jpeg:https://www.heptown.com/wp-content/uploads/2024/05/33379_image_441197146_985266850275478_2989492497939632179_n.jpg
END:VEVENT
END:VCALENDAR