BEGIN:VCALENDAR
VERSION:2.0
PRODID:-//HepTown - ECPv6.15.20//NONSGML v1.0//EN
CALSCALE:GREGORIAN
METHOD:PUBLISH
X-WR-CALNAME:HepTown
X-ORIGINAL-URL:https://www.heptown.com
X-WR-CALDESC:Events for HepTown
REFRESH-INTERVAL;VALUE=DURATION:PT1H
X-Robots-Tag:noindex
X-PUBLISHED-TTL:PT1H
BEGIN:VTIMEZONE
TZID:Europe/Stockholm
BEGIN:DAYLIGHT
TZOFFSETFROM:+0100
TZOFFSETTO:+0200
TZNAME:CEST
DTSTART:20210328T010000
END:DAYLIGHT
BEGIN:STANDARD
TZOFFSETFROM:+0200
TZOFFSETTO:+0100
TZNAME:CET
DTSTART:20211031T010000
END:STANDARD
BEGIN:DAYLIGHT
TZOFFSETFROM:+0100
TZOFFSETTO:+0200
TZNAME:CEST
DTSTART:20220327T010000
END:DAYLIGHT
BEGIN:STANDARD
TZOFFSETFROM:+0200
TZOFFSETTO:+0100
TZNAME:CET
DTSTART:20221030T010000
END:STANDARD
BEGIN:DAYLIGHT
TZOFFSETFROM:+0100
TZOFFSETTO:+0200
TZNAME:CEST
DTSTART:20230326T010000
END:DAYLIGHT
BEGIN:STANDARD
TZOFFSETFROM:+0200
TZOFFSETTO:+0100
TZNAME:CET
DTSTART:20231029T010000
END:STANDARD
END:VTIMEZONE
BEGIN:VEVENT
DTSTART;TZID=Europe/Stockholm:20220129T173000
DTEND;TZID=Europe/Stockholm:20220129T233000
DTSTAMP:20260421T015829
CREATED:20211122T161723Z
LAST-MODIFIED:20220129T161712Z
UID:10005600-1643477400-1643499000@www.heptown.com
SUMMARY:INSTÄLLD! Gratis dansfest med Swing Salsa Tango och Flamenco
DESCRIPTION:Inställd! Följ och gilla dansfesten så får du snart reda på nytt datum (preliminärt 28/1 2023) \nhttps://www.facebook.com/dansfestenlund/ \nÅrets stora dansfest är nu gratis och öppen för alla åldrar. Det blir en intensiv blandning av Salsa\, Lindy Hop (swing)\, Tango och Rumba Flamenca\, med överraskningar på scenen och på dansgolvet. \nVi börjar kvällen med workshops i respektive dans. Vi erbjuder fyra omgångar med kurser (enligt schemat nedan) och ni har därför chansen att prova alla fyra danser. Efter kurserna fortsätter vi med dansgolv där vi blandar hejvilt salsa/swing/tango/Rumba Flamenca med tre olika dj’s. \nIngen föranmälan\, fri ålder och fritt inträde \n\nInsläpp 17.30\nNybörjarkurser 18-21:40\nDansgolv med mixad musik 21:45 – 23.30\n\nNybörjarkurser\n+ 18.00 Lindy Hop (Swing)\n+ 19.00 Tango\n+ 20.00 Rumba Flamenca\n+ 21.00 Salsa \nFolkparken\, Trollebergsvägen 58\, Lund\nKarta: https://goo.gl/maps/2viZRkCybEK6V3478 \nArrangeras i samarbete med vinterlund\nhttps://vinterlund.se/
URL:https://www.heptown.com/calendar/gratis-dansfest-med-swing-salsa-tango-och-flamenco/
LOCATION:Folkparken Lund\, Trollebergsvägen 58\, 227 31 Lund\, Lund\, SE
CATEGORIES:Beginner,Beginners' Lindy Hop Class,Big event,HepTown,Lindy Hop,Lund,Öresund,Social Dance
ATTACH;FMTTYPE=image/jpeg:https://www.heptown.com/wp-content/uploads/2021/11/24071_image_269801178_1321739404967959_378306056912608466_n.jpg
GEO:55.7042946;13.1672461
X-APPLE-STRUCTURED-LOCATION;VALUE=URI;X-ADDRESS=Folkparken Lund Trollebergsvägen 58 227 31 Lund Lund SE;X-APPLE-RADIUS=500;X-TITLE=Trollebergsvägen 58\, 227 31 Lund:geo:13.1672461,55.7042946
END:VEVENT
END:VCALENDAR