BEGIN:VCALENDAR
VERSION:2.0
PRODID:-//HepTown - ECPv6.15.20//NONSGML v1.0//EN
CALSCALE:GREGORIAN
METHOD:PUBLISH
X-WR-CALNAME:HepTown
X-ORIGINAL-URL:https://www.heptown.com
X-WR-CALDESC:Events for HepTown
REFRESH-INTERVAL;VALUE=DURATION:PT1H
X-Robots-Tag:noindex
X-PUBLISHED-TTL:PT1H
BEGIN:VTIMEZONE
TZID:Europe/Stockholm
BEGIN:DAYLIGHT
TZOFFSETFROM:+0100
TZOFFSETTO:+0200
TZNAME:CEST
DTSTART:20230326T010000
END:DAYLIGHT
BEGIN:STANDARD
TZOFFSETFROM:+0200
TZOFFSETTO:+0100
TZNAME:CET
DTSTART:20231029T010000
END:STANDARD
BEGIN:DAYLIGHT
TZOFFSETFROM:+0100
TZOFFSETTO:+0200
TZNAME:CEST
DTSTART:20240331T010000
END:DAYLIGHT
BEGIN:STANDARD
TZOFFSETFROM:+0200
TZOFFSETTO:+0100
TZNAME:CET
DTSTART:20241027T010000
END:STANDARD
BEGIN:DAYLIGHT
TZOFFSETFROM:+0100
TZOFFSETTO:+0200
TZNAME:CEST
DTSTART:20250330T010000
END:DAYLIGHT
BEGIN:STANDARD
TZOFFSETFROM:+0200
TZOFFSETTO:+0100
TZNAME:CET
DTSTART:20251026T010000
END:STANDARD
END:VTIMEZONE
BEGIN:VEVENT
DTSTART;TZID=Europe/Stockholm:20241206T190000
DTEND;TZID=Europe/Stockholm:20241208T000000
DTSTAMP:20260422T110634
CREATED:20241204T181738Z
LAST-MODIFIED:20241205T093738Z
UID:10006241-1733511600-1733616000@www.heptown.com
SUMMARY:Karlskrona December Swing 2024
DESCRIPTION:Varmt välkomna till Karlskrona December Swing 2024! \n(English below)\nKarlskrona December Swing hålls den 6-8 december och är en helg fylld av blues\, slowdrag och slow lindy. Kurs på lördag och söndag\, dans till liveband på fredag kväll och lördag kväll! \nFredag kväll\nSocialdans i Filmsalen\, Gullberna park\, till The Mellowtones och Swing-DJ.\nProva på Lindy hop för nybörjare med fokus på 6-counts kl 19:00-20:00. – Ta med dina vänner som inte testat Lindy hop tidigare! Lär dig grunderna i Lindy Hop och dansa vidare till liveband under kvällen.\nDans! 20:00-23:30\nRegistrering från kl. 18.00. \nWorkshops lördag och söndag\nEn nivå; blues\, slowdrag och slow lindy.\nRegistrering sker på lördag 9:30-10:00\, Gullberna Park\, entréhallen vid Filmsalen.\nKlasserna kommer att vara i Filmsalen i Gullberna Park med start kl 10:00. Sista lektionen beräknas vara slut innan kl 16:00. \nLördag kväll\nSocialdans i Filmsalen till Underground Swing och Swing-DJ.\nProva på Lindy hop för nybörjare med fokus på 8-counts kl 19:00-20:00. – Ta med dina vänner som inte testat Lindy hop tidigare! Lär dig grunderna i Lindy Hop och dansa vidare till liveband under kvällen.\nDärefter socialdans kl 20:00 till 23.30. \nLärare\nPhilippa Svensson och Vivien Nivesse (Malmö) \nPhilippa och Vivien möttes på dansgolvet 2011 och har dansat tillsammans sedan dess. De har undervisat och tävlat tillsammans över hela Europa så väl som i deras hemtrakter (Oxford UK\, Paris\, och slutligen Malmö). De anser att par-dansandet utgår från individuella kroppsrörelser och musikalitet -men att en stabil teknisk grund också behövs. Med Philippas bakgrund i gymnastik och fysioterapi\, och Viviens gränslösa entusiasm\, så vill de dela med sig av idén att du bör lämna varje dans med ett stort\, orubbligt leende på dina läppar! \nVideos:\nTvå långsammare blues rutiner:\nhttps://www.youtube.com/watch?time_continue=14&v=YFZWpopWe6w\nhttps://www.youtube.com/watch?v=3Cr0dmjSyaY&frags=pl%2Cwn \nTvå snabbare blues rutiner:\nhttps://www.youtube.com/watch?v=urwpYhMnui8\nhttps://www.youtube.com/watch?v=14Zrnevefgc&frags=pl%2Cwn \nPris\nNormalpris: 1000 SEK för workshop och socialdanskvällar\nStudentpris: 800 SEK för workshop och socialdanskvällar\nEntré per kvällsdans: 150 SEK (swish eller kontant) \nAnmälan\nSker via Tipsy Dance Club (www.tipsy.se). Anmälan är öppen!\nhttps://dans.se/tdc/shop/?cat=LINDY \nKarlskrona December Swing anordnas av Tipsy Dance Club med bidrag från Sisu-Idrottsutbildarna\, Blekinge. \n#english version \nWelcome to Karlskrona December Swing 2024! \nKarlskrona December Swing is a weekend (6-8 December) filled with blues\, slow drag\, and slow lindy. Workshops on Saturday and Sunday and parties with live bands on Friday evening and Saturday evening! \nFriday evening\nSocial dance at Filmsalen\, Gullberna park\, to The Mellowtones and Swing-DJ.\nTaster class Lindy hop for beginners with focus on 6-counts 19:00-20:00. – Bring your friends who’ve never tried Lindy hop before! Learn the basics of Lindy Hop and continue to dance to the live band during the evening.\nSocial dance 20:00-23:30.\nRegistration from 18.00. \nWorkshops Saturday and Sunday\nThere is one level of blues\, slow drag and slow lindy.\nRegistration during Saturday 9:30-10:00\, at Gullberna Park\, foyer next to Filmsalen.\nSaturday and Sunday classes will be held at Gullberna Park in Filmsalen. The first class starts at 10:00 and the last class for the day ends before 16:00. \nSaturday evening\nSocial dance at Filmsalen to Underground Swing and Swing-DJ.\nTaster class Lindy hop for beginners with focus on 8-counts 19:00-20:00. – Bring your friends who’ve never tried Lindy hop before! Learn the basics of Lindy Hop and continue to dance to the live band during the evening.\nSocial dance 20:00-23:30. \nMain event teachers\nPhilippa Svensson and Vivien Nivesse (Malmö) \nPhilippa and Vivien met on the dance floor in 2011 and hit it off immediately. Since then\, they have been teaching and competing together across Europe\, as well as in their respective scenes (Oxford UK\, Paris\, and finally Malmö\, Sweden). They believe that couple dancing finds its roots in solo body movement and musicality -but solid technique is a must. With Philippa’s background in gymnastics and physiotherapy\, and Vivien’s boundless enthusiasm\, they want to share the idea that any dance should leave you with a big\, unshakeable grin on your face! \nVideos:\nTwo slower blues routines:\nhttps://www.youtube.com/watch?time_continue=14&v=YFZWpopWe6w\nhttps://www.youtube.com/watch?v=3Cr0dmjSyaY&frags=pl%2Cwn \nTwo faster blues routines:\nhttps://www.youtube.com/watch?v=urwpYhMnui8\nhttps://www.youtube.com/watch?v=14Zrnevefgc&frags=pl%2Cwn \nPrice\nNormal price: 1000 SEK workshop and parties\nStudent price: 800 SEK workshop and parties\nEntrance for one evening: 150 SEK \nRegistration\nRegister via Tipsy Dance Club (www.tipsy.se). Registration is open!\nhttps://dans.se/tdc/shop/?cat=LINDY \nKarlskrona December Swing is arranged by Tipsy Dance Club with funding from Sisu-Idrottsutbildarna\, Blekinge.
URL:https://www.heptown.com/calendar/karlskrona-december-swing-2024/
LOCATION:Filmsalen Gullberna Park
CATEGORIES:Blues Dance,International Swing Dance Event,Lindy Hop,Social Dance
ATTACH;FMTTYPE=image/jpeg:https://www.heptown.com/wp-content/uploads/2022/12/Philippa-and-vivien2-1024-cut.jpeg
END:VEVENT
END:VCALENDAR