BEGIN:VCALENDAR
VERSION:2.0
PRODID:-//HepTown - ECPv6.15.20//NONSGML v1.0//EN
CALSCALE:GREGORIAN
METHOD:PUBLISH
X-ORIGINAL-URL:https://www.heptown.com
X-WR-CALDESC:Events for HepTown
REFRESH-INTERVAL;VALUE=DURATION:PT1H
X-Robots-Tag:noindex
X-PUBLISHED-TTL:PT1H
BEGIN:VTIMEZONE
TZID:Europe/Stockholm
BEGIN:DAYLIGHT
TZOFFSETFROM:+0100
TZOFFSETTO:+0200
TZNAME:CEST
DTSTART:20230326T010000
END:DAYLIGHT
BEGIN:STANDARD
TZOFFSETFROM:+0200
TZOFFSETTO:+0100
TZNAME:CET
DTSTART:20231029T010000
END:STANDARD
BEGIN:DAYLIGHT
TZOFFSETFROM:+0100
TZOFFSETTO:+0200
TZNAME:CEST
DTSTART:20240331T010000
END:DAYLIGHT
BEGIN:STANDARD
TZOFFSETFROM:+0200
TZOFFSETTO:+0100
TZNAME:CET
DTSTART:20241027T010000
END:STANDARD
BEGIN:DAYLIGHT
TZOFFSETFROM:+0100
TZOFFSETTO:+0200
TZNAME:CEST
DTSTART:20250330T010000
END:DAYLIGHT
BEGIN:STANDARD
TZOFFSETFROM:+0200
TZOFFSETTO:+0100
TZNAME:CET
DTSTART:20251026T010000
END:STANDARD
END:VTIMEZONE
BEGIN:VEVENT
DTSTART;TZID=Europe/Stockholm:20240810T153000
DTEND;TZID=Europe/Stockholm:20240810T153000
DTSTAMP:20260421T131646
CREATED:20240808T114808Z
LAST-MODIFIED:20240808T114808Z
UID:10006166-1723303800-1723303800@www.heptown.com
SUMMARY:Let's hang out !!
DESCRIPTION:For those who wished there was an opportunity to not only dance with others\, but also actually talk to them\, get to know each other and socialise outside the dancefloor – this event is for you :)! \nThe idea is that\, after the charleston workshop\, we will move to Far I Hatten\, and have a drink and/or a pizza. Everyone is of course welcome to join\, regardless if you attended the workshop or not:)! Please choose attending if you plan to come\, so that we can get a rough idea on how big the group would be. \nLooking forward to see many of you on saturday\, \nAna / Cats’ Corner
URL:https://www.heptown.com/calendar/lets-hang-out/
LOCATION:Far i Hatten
CATEGORIES:Cats' Corner,Malmö,Öresund
ATTACH;FMTTYPE=image/jpeg:https://www.heptown.com/wp-content/uploads/2024/08/33719_image_453970580_1092399309122212_3537126146096467904_n.jpg
END:VEVENT
END:VCALENDAR