BEGIN:VCALENDAR
VERSION:2.0
PRODID:-//HepTown - ECPv6.15.20//NONSGML v1.0//EN
CALSCALE:GREGORIAN
METHOD:PUBLISH
X-WR-CALNAME:HepTown
X-ORIGINAL-URL:https://www.heptown.com
X-WR-CALDESC:Events for HepTown
REFRESH-INTERVAL;VALUE=DURATION:PT1H
X-Robots-Tag:noindex
X-PUBLISHED-TTL:PT1H
BEGIN:VTIMEZONE
TZID:Europe/Stockholm
BEGIN:DAYLIGHT
TZOFFSETFROM:+0100
TZOFFSETTO:+0200
TZNAME:CEST
DTSTART:20210328T010000
END:DAYLIGHT
BEGIN:STANDARD
TZOFFSETFROM:+0200
TZOFFSETTO:+0100
TZNAME:CET
DTSTART:20211031T010000
END:STANDARD
BEGIN:DAYLIGHT
TZOFFSETFROM:+0100
TZOFFSETTO:+0200
TZNAME:CEST
DTSTART:20220327T010000
END:DAYLIGHT
BEGIN:STANDARD
TZOFFSETFROM:+0200
TZOFFSETTO:+0100
TZNAME:CET
DTSTART:20221030T010000
END:STANDARD
BEGIN:DAYLIGHT
TZOFFSETFROM:+0100
TZOFFSETTO:+0200
TZNAME:CEST
DTSTART:20230326T010000
END:DAYLIGHT
BEGIN:STANDARD
TZOFFSETFROM:+0200
TZOFFSETTO:+0100
TZNAME:CET
DTSTART:20231029T010000
END:STANDARD
END:VTIMEZONE
BEGIN:VEVENT
DTSTART;TZID=Europe/Stockholm:20220819T115500
DTEND;TZID=Europe/Stockholm:20220820T235500
DTSTAMP:20260421T030518
CREATED:20220818T122311Z
LAST-MODIFIED:20220818T122311Z
UID:10005060-1660910100-1661039700@www.heptown.com
SUMMARY:Ödåkra Jazz Festival 2022
DESCRIPTION:Second edition of Ödåkra Jazz Festival! \nInternational Jazz festival at the historic Spritan in Ödåkra (Helsingborg)! Second edition! \nTop musicians from all over the world is getting together in a unique meeting with each other and the audience. All in combination with exciting foods and drinks and togetherness. \nSome of the artists: Petter Wettre(NO) Patrick Bartley(US) Iris Bergcrantz(SE) Dave Blenkhorn(AU)\, Franck Amsallem (FR)\, Adrian Cox (UK) Roberto Gervasi(IT) and many more…. \nMore info will be updated on odakrajazzfestival.com and our sociala media pages
URL:https://www.heptown.com/calendar/odakra-jazz-festival-2022/
LOCATION:Fabriksgatan 2\, SE-254 74 Ödåkra\, Sverige
CATEGORIES:Öresund
ATTACH;FMTTYPE=image/jpeg:https://www.heptown.com/wp-content/uploads/2022/08/27046_image_277723435_334402335420896_7966073495954869762_n.jpg
END:VEVENT
END:VCALENDAR