BEGIN:VCALENDAR
VERSION:2.0
PRODID:-//HepTown - ECPv6.15.20//NONSGML v1.0//EN
CALSCALE:GREGORIAN
METHOD:PUBLISH
X-ORIGINAL-URL:https://www.heptown.com
X-WR-CALDESC:Events for HepTown
REFRESH-INTERVAL;VALUE=DURATION:PT1H
X-Robots-Tag:noindex
X-PUBLISHED-TTL:PT1H
BEGIN:VTIMEZONE
TZID:Europe/Stockholm
BEGIN:DAYLIGHT
TZOFFSETFROM:+0100
TZOFFSETTO:+0200
TZNAME:CEST
DTSTART:20250330T010000
END:DAYLIGHT
BEGIN:STANDARD
TZOFFSETFROM:+0200
TZOFFSETTO:+0100
TZNAME:CET
DTSTART:20251026T010000
END:STANDARD
BEGIN:DAYLIGHT
TZOFFSETFROM:+0100
TZOFFSETTO:+0200
TZNAME:CEST
DTSTART:20260329T010000
END:DAYLIGHT
BEGIN:STANDARD
TZOFFSETFROM:+0200
TZOFFSETTO:+0100
TZNAME:CET
DTSTART:20261025T010000
END:STANDARD
BEGIN:DAYLIGHT
TZOFFSETFROM:+0100
TZOFFSETTO:+0200
TZNAME:CEST
DTSTART:20270328T010000
END:DAYLIGHT
BEGIN:STANDARD
TZOFFSETFROM:+0200
TZOFFSETTO:+0100
TZNAME:CET
DTSTART:20271031T010000
END:STANDARD
END:VTIMEZONE
BEGIN:VEVENT
DTSTART;TZID=Europe/Stockholm:20260411T190000
DTEND;TZID=Europe/Stockholm:20260411T234500
DTSTAMP:20260420T213749
CREATED:20260401T150125Z
LAST-MODIFIED:20260401T150125Z
UID:10006535-1775934000-1775951100@www.heptown.com
SUMMARY:🎵 Live Music for Partner Dancers: Jake Green Concert 🩵
DESCRIPTION:A Night of Live Music — For Lovers of Close\, Connected Partner Dance 💙 \nAre you a Blues dancer craving dancing to live music? \nAre you a partner dancer who loves close embrace\, slow dancing\, musicality\, and partner dance where connection matters more than steps? \nAre you a lover of dancing to live music? \nThen this event is for you! \n💃 Come experience the magic of deeply connected dancing to live music. Jake Green is a Copenhagen-based Blues musician with a powerful voice and soulful guitar playing\, and he has years of experience playing especially for partner dancers. \n✨ There’s something truly special about dancing to a live musician — a dialogue between everyone in the room emerges as the music responds and invites you into connection in a way recorded music simply can’t. It’s one of those experiences that reminds you why you fell in love with partner dancing in the first place. \n🎧 In between live sets DJ Saratonin will play some bluesy inspired fusion sets to keep us in the gooey dancing zone. After the concert we will have an hour of fusion social dancing. \nWhat is Blues Dancing? \nBlues dancing is a partner dance rooted in African American Blues culture\, danced to Blues music. It’s grounded\, intimate\, and improvisational\, with a strong focus on connection\, musicality\, and listening—to the music and to each other. Rather than fixed steps\, blues dancing invites you to move naturally\, expressively\, and in close conversation with your partner and the live sound. \nDo I need to know how to dance Blues to attend this event? \nNo. We’ll begin the evening with a Blues taster class\, giving everyone simple tools and a shared language to feel comfortable on the social floor. While Blues dancers will feel right at home at this event\, dancers from all backgrounds are warmly welcome.  \nYou don’t need Blues technique to dance to this kind of music. Compared to other partner dances\, Blues does not have a strict structure that you need to know to be able to dance it. It is a dance that comes from people connecting late at night in bars\, and you can feel this.  \nIf you love close embrace\, slow dancing\, musicality\, and partner dance where connection matters more than steps\, this evening is for you. \nDo I Need a Partner to Attend this Event? \nNope. In the taster class we will rotate partners frequently and you’re invited to dance with everyone on the social dance floor.  \nALL THE DETAILS: \n🕐 Schedule: \n18:45: Doors Open (Drinks Available)19:15 – 20:15: Taster Class20:30 – 21:30: Live Music 21:30 – 22:00: Blusey Fusion DJ Set 22:00-23:00 Live Music23:00 – 00:00 Fusion DJ Set \nAddress: SALIG\, Masnedøgade 20\, 2nd floor\, 2100 Østerbro \n🎟️ TICKETS & PRICING \n🔗 Sign up here: https://sarahmassagecph.as.me/jakegreen \nTo keep our events as accessible as possible\, we always have a sliding scale for ticket prices.  \n“I Can Offer Support” – 395 kr – This lets us offer discounted tickets to other dancers. \n“I Can Only Afford to Dance” – 295 kr – This is the minimum per person that should hopefully cover event costsUse coupon code DANCEAPRIL11 at checkout to purchase this ticket. \n“I Need Support” – 195 kr – This is our discounted price for those of you on low/no incomes. Use coupon code SUPPORTAPRIL11 at checkout to purchase this ticket. \n💰 A small note from your organiser – I’m taking on more of a financial risk than I normally do for our regular events in inviting a live musician to play. If you would like to see more events with live music in the future\, the supporter ticket would be especially helpful this time! \nWe will have a few limited discounted volunteer tickets available. Get in touch by messaging us here on the Facebook Page for more info. (Please note that sometimes it takes a few days to get a response there.) \nIf this price is too high and you can’t afford it\, please get in touch and we will figure out a solution 😊 \n🥂 🍺 Drinks (beer\, wine and soda) will be available to purchase.  \n🫖 Tea and water will be provided free of charge.  \n💦 You’re of course free to bring your water bottle. But please purchase all other types of drinks from the bar.  \nAbout Jake Green: \nSinger and guitarist Jake Green out of Copenhagen\, Denmark\, is a hard-working bluesman. With a powerful voice and expressive guitar\, he tours constantly around Denmark. He has also graced many stages around the world\, including Texas\, New York\, London\, Sweden\, Norway\, Thailand and Spain. \nUsually he’s the band leader and frontman of Jake Green Band\, a blues rock power trio who released their third album “Seven Years After” in December 2019\, following their studio album “Plugging in” from 2015. His solo album “Rough Spring” was released in May\, 2019 and contains 12 original songs. \nAlone he plays his own original compositions and select covers with both power and soul. In 2017 he was awarded the prestigious “Danish Blues Name of the Year” award. \n“If you’re heard ‘Plugging In’ you know Jake Green sings well\, but nothing can prepare you for hearing the man live.” – Bluesnews.dk \nA note from your organiser – I’ve asked Jake to play because he is my absolute favourite musician to dance to. For me\, his voice goes straight to my heart and carries me away to another dimension. I really hope to share this magical experience with all of you.  \nSee you on the dance floor 💖 \n This is of course a very brief description. There are many different types of Blues dancing\, which look very different to each other.  \nYou can see some examples here: https://www.youtube.com/watch?v=b9roGCEhfsU \nhttps://www.youtube.com/watch?v=YKDGk1ps02U&list=RDYKDGk1ps02U&start_radio=1 \nhttps://www.youtube.com/watch?v=Mwna-ThWNzg
URL:https://www.heptown.com/calendar/%f0%9f%8e%b5-live-music-for-partner-dancers-jake-green-concert-%f0%9f%a9%b5/
LOCATION:Copenhagen\, Denmark\, Copenhagen\, Denmark
CATEGORIES:Blues Dance,Copenhagen,Öresund,Social Dance
END:VEVENT
END:VCALENDAR