BEGIN:VCALENDAR
VERSION:2.0
PRODID:-//HepTown - ECPv6.15.20//NONSGML v1.0//EN
CALSCALE:GREGORIAN
METHOD:PUBLISH
X-ORIGINAL-URL:https://www.heptown.com
X-WR-CALDESC:Events for HepTown
REFRESH-INTERVAL;VALUE=DURATION:PT1H
X-Robots-Tag:noindex
X-PUBLISHED-TTL:PT1H
BEGIN:VTIMEZONE
TZID:Europe/Stockholm
BEGIN:DAYLIGHT
TZOFFSETFROM:+0100
TZOFFSETTO:+0200
TZNAME:CEST
DTSTART:20190331T010000
END:DAYLIGHT
BEGIN:STANDARD
TZOFFSETFROM:+0200
TZOFFSETTO:+0100
TZNAME:CET
DTSTART:20191027T010000
END:STANDARD
BEGIN:DAYLIGHT
TZOFFSETFROM:+0100
TZOFFSETTO:+0200
TZNAME:CEST
DTSTART:20200329T010000
END:DAYLIGHT
BEGIN:STANDARD
TZOFFSETFROM:+0200
TZOFFSETTO:+0100
TZNAME:CET
DTSTART:20201025T010000
END:STANDARD
BEGIN:DAYLIGHT
TZOFFSETFROM:+0100
TZOFFSETTO:+0200
TZNAME:CEST
DTSTART:20210328T010000
END:DAYLIGHT
BEGIN:STANDARD
TZOFFSETFROM:+0200
TZOFFSETTO:+0100
TZNAME:CET
DTSTART:20211031T010000
END:STANDARD
END:VTIMEZONE
BEGIN:VEVENT
DTSTART;TZID=Europe/Stockholm:20200612T170000
DTEND;TZID=Europe/Stockholm:20200614T233000
DTSTAMP:20260423T091245
CREATED:20191218T121432Z
LAST-MODIFIED:20200418T121528Z
UID:10005381-1591981200-1592177400@www.heptown.com
SUMMARY:Leading Ladies Swing Festival 2020
DESCRIPTION:The festival welcomes all genders to learn from the Leading Ladies of Swing! Attend as either lead\, follow\, or switch dancer\, and realise your full potential!\nWe have made sure to hire some of the top women within the swing dance scene to teach\, play live music\, MC\, DJ and everything in between. Classes are not sorted by levels\, but by minimum experience\, as we believe some skills can be learned regardless of your partner’s skill level (Connection & Musicality)\, while others require some previous experience and knowledge within the dance (Moves & Variations).  \nTEACHERS:\nThe Decavitas (SWE)\nJoy Jing (US) & Gio Olla (SWE)\nSandy Lewis (US) & Fancy Dougherty (US)\nTrisha Sewell (UK)\nNina Rüetschi (CH) & Maayke Broeksma (NL)\nNiomi McSorley (UK) & Aï Ito (FR) \nBANDS:\nTBA in early 2020 \nDJ’s:\nTBA in March 2020 \nLEVELS & TRACKS:\nClasses are not sorted by levels\, but by minimum experience\, as we believe some skills can be learned regardless of your partner’s skill level (Connection & Musicality)\, while others require some previous experience and knowledge within the dance (Moves & Variations).  \nThe three core tracks (Lindy Hop\, Balboa & Collegiate Shag) offer a class of Moves & Variations as well as a class of Connection & Musicality.  \nTheme tracks are open level\, and only offered either Saturday or Sunday. The four theme tracks are:\n– Solo Jazz\n– Boogie Woogie\n– Aerials (Partner required)\n– St. Louis Shag \nYou can choose one track (either core or theme) per day.  \nFurther information about the specific classes at https://www.leadingladiesswingfestival.dk/Classes/class-descriptions.html \nSCHEDULE:\nClasses start at 10:00 AM Saturday and end no later than 4 PM Sunday.  \nEach day has 4 hours of classes.  \nVENUES:\nThe classes will take place in the area around Nørrebro Station in Copenhagen NV.  \nParties will take place in either Copenhagen NV or city centre.  \nHOSTING:\nWe have a lot of attendants from abroad\, please help out by signing up to host some of our lovely guests here: https://forms.gle/69kXhd25XZo7nTkP9
URL:https://www.heptown.com/calendar/leading-ladies-swing-festival-2020/
LOCATION:Copenhagen\, Denmark\, Copenhagen\, 1050–1778\, 2100\, 2150\, 2200\, 2300\, 2400\, 2450\, 2500\, DK
CATEGORIES:Copenhagen,International Swing Dance Event,Lindy Hop,Öresund,Social Dance
ATTACH;FMTTYPE=image/jpeg:https://www.heptown.com/wp-content/uploads/2019/12/16524_image_82214939_462226811385006_2427180254847041536_o.jpg
GEO:55.6760968;12.5683372
END:VEVENT
END:VCALENDAR