BEGIN:VCALENDAR
VERSION:2.0
PRODID:-//HepTown - ECPv6.15.20//NONSGML v1.0//EN
CALSCALE:GREGORIAN
METHOD:PUBLISH
X-WR-CALNAME:HepTown
X-ORIGINAL-URL:https://www.heptown.com
X-WR-CALDESC:Events for HepTown
REFRESH-INTERVAL;VALUE=DURATION:PT1H
X-Robots-Tag:noindex
X-PUBLISHED-TTL:PT1H
BEGIN:VTIMEZONE
TZID:Europe/Stockholm
BEGIN:DAYLIGHT
TZOFFSETFROM:+0100
TZOFFSETTO:+0200
TZNAME:CEST
DTSTART:20180325T010000
END:DAYLIGHT
BEGIN:STANDARD
TZOFFSETFROM:+0200
TZOFFSETTO:+0100
TZNAME:CET
DTSTART:20181028T010000
END:STANDARD
BEGIN:DAYLIGHT
TZOFFSETFROM:+0100
TZOFFSETTO:+0200
TZNAME:CEST
DTSTART:20190331T010000
END:DAYLIGHT
BEGIN:STANDARD
TZOFFSETFROM:+0200
TZOFFSETTO:+0100
TZNAME:CET
DTSTART:20191027T010000
END:STANDARD
BEGIN:DAYLIGHT
TZOFFSETFROM:+0100
TZOFFSETTO:+0200
TZNAME:CEST
DTSTART:20200329T010000
END:DAYLIGHT
BEGIN:STANDARD
TZOFFSETFROM:+0200
TZOFFSETTO:+0100
TZNAME:CET
DTSTART:20201025T010000
END:STANDARD
BEGIN:DAYLIGHT
TZOFFSETFROM:+0100
TZOFFSETTO:+0200
TZNAME:CEST
DTSTART:20210328T010000
END:DAYLIGHT
BEGIN:STANDARD
TZOFFSETFROM:+0200
TZOFFSETTO:+0100
TZNAME:CET
DTSTART:20211031T010000
END:STANDARD
BEGIN:DAYLIGHT
TZOFFSETFROM:+0100
TZOFFSETTO:+0200
TZNAME:CEST
DTSTART:20220327T010000
END:DAYLIGHT
BEGIN:STANDARD
TZOFFSETFROM:+0200
TZOFFSETTO:+0100
TZNAME:CET
DTSTART:20221030T010000
END:STANDARD
BEGIN:DAYLIGHT
TZOFFSETFROM:+0100
TZOFFSETTO:+0200
TZNAME:CEST
DTSTART:20230326T010000
END:DAYLIGHT
BEGIN:STANDARD
TZOFFSETFROM:+0200
TZOFFSETTO:+0100
TZNAME:CET
DTSTART:20231029T010000
END:STANDARD
BEGIN:DAYLIGHT
TZOFFSETFROM:+0100
TZOFFSETTO:+0200
TZNAME:CEST
DTSTART:20240331T010000
END:DAYLIGHT
BEGIN:STANDARD
TZOFFSETFROM:+0200
TZOFFSETTO:+0100
TZNAME:CET
DTSTART:20241027T010000
END:STANDARD
BEGIN:DAYLIGHT
TZOFFSETFROM:+0100
TZOFFSETTO:+0200
TZNAME:CEST
DTSTART:20250330T010000
END:DAYLIGHT
BEGIN:STANDARD
TZOFFSETFROM:+0200
TZOFFSETTO:+0100
TZNAME:CET
DTSTART:20251026T010000
END:STANDARD
BEGIN:DAYLIGHT
TZOFFSETFROM:+0100
TZOFFSETTO:+0200
TZNAME:CEST
DTSTART:20260329T010000
END:DAYLIGHT
BEGIN:STANDARD
TZOFFSETFROM:+0200
TZOFFSETTO:+0100
TZNAME:CET
DTSTART:20261025T010000
END:STANDARD
END:VTIMEZONE
BEGIN:VEVENT
DTSTART;TZID=Europe/Stockholm:20250226T200000
DTEND;TZID=Europe/Stockholm:20250226T223000
DTSTAMP:20260421T011611
CREATED:20250212T150403Z
LAST-MODIFIED:20250212T152104Z
UID:10006270-1740600000-1740609000@www.heptown.com
SUMMARY:Wednesday Night Hop |  Social dance | Rhythm & Blues Dance Class | Lindy Hop | 26/2
DESCRIPTION:Welcome to Cats’ Corners swingin’ Wednesday Night Hop in the grand ballroom at Moriska Paviljongen. \nEXTRA: drop-in Rhythm & Blues dance class 20:30-21:30 in Spegel salen included \n\nDoors open: 20:00\nSocial dance: 20:00-22.30 (Stora Salen)\ndrop-in Rhythm & Blues dance class 20:30-21:30 (spegelsalen)\nDJ: TBA\nBallroom door fee: 80kr\, 60kr for Cats’ Corner members / students\nMoriska Paviljongen\, Norra Parkgatan 2\, Malmö\nMap: https://goo.gl/maps/kBpFWfswzEjyKyvb9\nVolunteer at the front desk: http://catscorner.se/volunteering/\n\nVolunteering?\nWe often need help at the front desk.\nFor 30 min of your time\, you’ll receive free entrance for the night.\nThere’s a list at the front desk.\nAnd you can also sign-up in advance here:\nhttps://catscorner.se/volunteering/ \nRHYTHM & BLUES DANCE CLASS 20:30-21:30\nIn this course\, we’ll dive into the smooth and soulful world of Rhythm & Blues. This Rhythm & Blues dance is  is a couple dance similar to Boogie Woogie\, but with a softer and more bluesy feel.\nhttps://www.heptown.com/blues/ \nLINDY HOP\nThe main dance on Wednesdays’ is Lindy Hop\, a swing dance originating in the 30-40s in Harlem\, NY. But you are always welcome to dance whatever you like or just hang out\nhttps://www.youtube.com/results?search_query=lindy+hop\nhttps://en.wikipedia.org/wiki/Lindy_Hop \nCATS’ CORNER\nCats’ Corner is a non-profit dance organisation from Malmö. Our main focus is Lindy Hop\, but we gladly also dance Charleston\, Balboa\, Shag\, Blues\, Authentic Jazz and other Swing dances.\nhttps://www.catscorner.se/\nhttps://www.heptown.com/calendar/category/organizer/cats-corner/ \nLINDY HOP DANCE CLASSES?\nThis is also the home for some of HepTowns weekly courses. Take a look at:\nhttps://www.heptown.com/classes/ \nMORISKA PAVILJONGEN\nMoriska Paviljongen är Malmös största oberoende kultur- och nöjeshus. Moriskan erbjuder Bistro\, Bar\, Kulturprogram och Nattklubb på 4 olika scener i en anrik miljö från 1901. Mer info finns på:\nwww.moriskapaviljongen.se\nwww.facebook.com/moriskapaviljongen\nwww.instagram.com/moriska_paviljongen
URL:https://www.heptown.com/calendar/wednesday-night-hop-social-dance-rhythm-blues-class-lindy-hop-26-2/
LOCATION:Cats’ Corner\, Moriska Paviljongen\, Folkets Park\, Malmö\, SE
CATEGORIES:Beginner,Big event,Blues Dance,Boogie Woogie,Cats' Corner,Lindy Hop,Malmö,Öresund,Social Dance
ATTACH;FMTTYPE=image/jpeg:https://www.heptown.com/wp-content/uploads/2025/02/34736_image_473580973_1215868376775304_1807486710920384371_n.jpg
GEO:55.593867;13.013551
X-APPLE-STRUCTURED-LOCATION;VALUE=URI;X-ADDRESS=Cats’ Corner Moriska Paviljongen Folkets Park Malmö SE;X-APPLE-RADIUS=500;X-TITLE=Moriska Paviljongen\, Folkets Park:geo:13.013551,55.593867
END:VEVENT
BEGIN:VEVENT
DTSTART;TZID=Europe/Stockholm:20190510T180000
DTEND;TZID=Europe/Stockholm:20190512T230000
DTSTAMP:20260421T011611
CREATED:20181114T094454Z
LAST-MODIFIED:20190502T123932Z
UID:10004752-1557511200-1557702000@www.heptown.com
SUMMARY:Malmö Spring Jump 2019
DESCRIPTION:*Svenska längre ner* \nDear Lindyhoppers! \nSAVE THE DATE! It’s once again time for Cats’ Corners annual and amazing Malmö Spring Jump weekend 2019.  \nJoin us for a great weekend with live music\, beautiful teachers and lots of bonding activities!  \n# Fab teachers:\nKsenia Parkhatskaya\nRikard Ekstrand \n# Amazing band:\nReverent Juke \n# Outstanding DJ:\nSarah Spoon \nOnce again we’ll be staying at the gorgeous Moriska Paviljongen along with some other secret place! \nStay tuned for more information! \nFacebook page: https://www.facebook.com/malmospringjump/ \nCheers & swing out!\nCats’ Corner team \n——————————————————————————————- \nKära Lindyhoppare! \nSÄTT ETT KRYSS I KALENDERN! Nu är det dags igen för Cats’ Corners årliga och fantastiska Malmö Spring Jump weekend 2019. \nHäng med på en suverän helg fylld med livemusik\, grymma lärare och massor av spännande aktiviteter! \n# Fantastiska lärare:\nPavli & Peter\nKsenia Parkhatskaya\nRikard Ekstrand \n# Störtsköna band:\nReverent Juke \n# Enastående DJ:\nSarah Spoon \nÄnnu en gång kommer vi tillbringa helgen på den makalöst charmiga Moriska Paviljongen och även ett än hemligt ställe! \nHåll dig uppdaterad för mer information! \nFacebooksida: https://www.facebook.com/malmospringjump/ \nVi ses & swing out!\nCats’ Corner team
URL:https://www.heptown.com/calendar/malmo-spring-jump-2019/
LOCATION:Cats’ Corner\, Moriska Paviljongen\, Folkets Park\, Malmö\, SE
CATEGORIES:Big event,Cats' Corner,International Swing Dance Event,Lindy Hop,Malmö,Öresund,Social Dance
ATTACH;FMTTYPE=image/jpeg:https://www.heptown.com/wp-content/uploads/2018/11/9956_image_42741169_10156592802469361_6201446069730017280_o.jpg
GEO:55.593867;13.013551
X-APPLE-STRUCTURED-LOCATION;VALUE=URI;X-ADDRESS=Cats’ Corner Moriska Paviljongen Folkets Park Malmö SE;X-APPLE-RADIUS=500;X-TITLE=Moriska Paviljongen\, Folkets Park:geo:13.013551,55.593867
END:VEVENT
END:VCALENDAR