BEGIN:VCALENDAR
VERSION:2.0
PRODID:-//HepTown - ECPv6.15.20//NONSGML v1.0//EN
CALSCALE:GREGORIAN
METHOD:PUBLISH
X-ORIGINAL-URL:https://www.heptown.com
X-WR-CALDESC:Events for HepTown
REFRESH-INTERVAL;VALUE=DURATION:PT1H
X-Robots-Tag:noindex
X-PUBLISHED-TTL:PT1H
BEGIN:VTIMEZONE
TZID:Europe/Stockholm
BEGIN:DAYLIGHT
TZOFFSETFROM:+0100
TZOFFSETTO:+0200
TZNAME:CEST
DTSTART:20240331T010000
END:DAYLIGHT
BEGIN:STANDARD
TZOFFSETFROM:+0200
TZOFFSETTO:+0100
TZNAME:CET
DTSTART:20241027T010000
END:STANDARD
BEGIN:DAYLIGHT
TZOFFSETFROM:+0100
TZOFFSETTO:+0200
TZNAME:CEST
DTSTART:20250330T010000
END:DAYLIGHT
BEGIN:STANDARD
TZOFFSETFROM:+0200
TZOFFSETTO:+0100
TZNAME:CET
DTSTART:20251026T010000
END:STANDARD
BEGIN:DAYLIGHT
TZOFFSETFROM:+0100
TZOFFSETTO:+0200
TZNAME:CEST
DTSTART:20260329T010000
END:DAYLIGHT
BEGIN:STANDARD
TZOFFSETFROM:+0200
TZOFFSETTO:+0100
TZNAME:CET
DTSTART:20261025T010000
END:STANDARD
END:VTIMEZONE
BEGIN:VEVENT
DTSTART;TZID=Europe/Stockholm:20250924T200000
DTEND;TZID=Europe/Stockholm:20250924T223000
DTSTAMP:20260420T111235
CREATED:20250907T164341Z
LAST-MODIFIED:20250922T113216Z
UID:10006396-1758744000-1758753000@www.heptown.com
SUMMARY:Wednesday Night Hop @ Brändan  | Social dance | 24/09
DESCRIPTION:Welcome to Cats’ Corners swingin’ Wednesday Night Hop\, which for this time will happen at Brändan \, since Moriskan is fully booked! \nShort version (for more details\, read below):\n– Different location: Brändan is the round yellow building nearby Fastelbogatan: https://maps.app.goo.gl/4AazEUViSJfX6uPSA\n– Social dance: 20:00-22:30\n– FREE entrance since Brändan belongs to the municipality \nLINDY HOP\nThe main dance on Wednesdays’ is Lindy Hop\, a swing dance originating in the 30-40s in Harlem\, NY. If you new to lindy hop\, here is more information:\nhttps://www.youtube.com/results?search_query=lindy+hop\nhttps://en.wikipedia.org/wiki/Lindy_Hop \nCATS’ CORNER\nCats’ Corner is a non-profit dance organisation from Malmö. Our main focus is Lindy Hop\, but we gladly also dance Charleston\, Balboa\, Shag\, Blues\, Authentic Jazz and other Swing dances.\nhttps://www.catscorner.se/\nhttps://www.heptown.com/calendar/category/organizer/cats-corner/ \nLINDY HOP DANCE CLASSES?\nThis is also the home for some of HepTowns weekly courses. Take a look at these and lots of other swing dance classes at:\nhttps://www.heptown.com/classes/
URL:https://www.heptown.com/calendar/wednesday-night-hop-brandan-social-dance-24-09/
LOCATION:Brändan\, Folkets Park
CATEGORIES:Big event,Cats' Corner,Lindy Hop,Malmö,Öresund,Social Dance
ATTACH;FMTTYPE=image/jpeg:https://www.heptown.com/wp-content/uploads/2025/09/35822_image_541738408_1410863813942425_6296590930823056417_n.jpg
END:VEVENT
END:VCALENDAR