BEGIN:VCALENDAR
VERSION:2.0
PRODID:-//HepTown - ECPv6.15.20//NONSGML v1.0//EN
CALSCALE:GREGORIAN
METHOD:PUBLISH
X-WR-CALNAME:HepTown
X-ORIGINAL-URL:https://www.heptown.com
X-WR-CALDESC:Events for HepTown
REFRESH-INTERVAL;VALUE=DURATION:PT1H
X-Robots-Tag:noindex
X-PUBLISHED-TTL:PT1H
BEGIN:VTIMEZONE
TZID:Europe/Stockholm
BEGIN:DAYLIGHT
TZOFFSETFROM:+0100
TZOFFSETTO:+0200
TZNAME:CEST
DTSTART:20220327T010000
END:DAYLIGHT
BEGIN:STANDARD
TZOFFSETFROM:+0200
TZOFFSETTO:+0100
TZNAME:CET
DTSTART:20221030T010000
END:STANDARD
BEGIN:DAYLIGHT
TZOFFSETFROM:+0100
TZOFFSETTO:+0200
TZNAME:CEST
DTSTART:20230326T010000
END:DAYLIGHT
BEGIN:STANDARD
TZOFFSETFROM:+0200
TZOFFSETTO:+0100
TZNAME:CET
DTSTART:20231029T010000
END:STANDARD
BEGIN:DAYLIGHT
TZOFFSETFROM:+0100
TZOFFSETTO:+0200
TZNAME:CEST
DTSTART:20240331T010000
END:DAYLIGHT
BEGIN:STANDARD
TZOFFSETFROM:+0200
TZOFFSETTO:+0100
TZNAME:CET
DTSTART:20241027T010000
END:STANDARD
END:VTIMEZONE
BEGIN:VEVENT
DTSTART;TZID=Europe/Stockholm:20231023T200000
DTEND;TZID=Europe/Stockholm:20231023T220000
DTSTAMP:20260421T151623
CREATED:20231013T084012Z
LAST-MODIFIED:20231130T134722Z
UID:10006009-1698091200-1698098400@www.heptown.com
SUMMARY:Monday Night Swing 23/10 Cancelled. Hang out instead!
DESCRIPTION:Monday Night Swing and B-course on October 23rd is canceled as no suitable venue is available. \nLet’s start the afterparty early and hang out from 8:00 PM. Press “going” on the Facebook event to let us know how many seats to book! \nOr sign-up here https://dans.se/heptown/shop/new?event=198109 if you prefer not to use Facebook. \nVenue\nAt our regular after party venue open 11-02\nResturang Botulfs\nVårfrugatan 8\, Lund (Botulfsplatsen)\nhttps://maps.app.goo.gl/TWiVSCxSLgVgP8C5A \nThe regular after party\nhttps://www.facebook.com/events/2147499505454689 \nMonday Night Swing\nhttps://www.heptown.com/monday-night-swing/
URL:https://www.heptown.com/calendar/monday-night-swing-23-10-cancelled-hang-out-instead/
LOCATION:Botulfs\, Vårfrugatan 8\, Lund\, 223 50\, SE
CATEGORIES:Big event,HepTown,Lund,Monday Night Swing,Öresund
ATTACH;FMTTYPE=image/jpeg:https://www.heptown.com/wp-content/uploads/2023/10/32185_image_387847690_819999816802183_8237511698185180639_n.jpg
END:VEVENT
END:VCALENDAR