BEGIN:VCALENDAR
VERSION:2.0
PRODID:-//HepTown - ECPv6.15.20//NONSGML v1.0//EN
CALSCALE:GREGORIAN
METHOD:PUBLISH
X-ORIGINAL-URL:https://www.heptown.com
X-WR-CALDESC:Events for HepTown
REFRESH-INTERVAL;VALUE=DURATION:PT1H
X-Robots-Tag:noindex
X-PUBLISHED-TTL:PT1H
BEGIN:VTIMEZONE
TZID:Europe/Helsinki
BEGIN:DAYLIGHT
TZOFFSETFROM:+0200
TZOFFSETTO:+0300
TZNAME:EEST
DTSTART:20220327T010000
END:DAYLIGHT
BEGIN:STANDARD
TZOFFSETFROM:+0300
TZOFFSETTO:+0200
TZNAME:EET
DTSTART:20221030T010000
END:STANDARD
BEGIN:DAYLIGHT
TZOFFSETFROM:+0200
TZOFFSETTO:+0300
TZNAME:EEST
DTSTART:20230326T010000
END:DAYLIGHT
BEGIN:STANDARD
TZOFFSETFROM:+0300
TZOFFSETTO:+0200
TZNAME:EET
DTSTART:20231029T010000
END:STANDARD
BEGIN:DAYLIGHT
TZOFFSETFROM:+0200
TZOFFSETTO:+0300
TZNAME:EEST
DTSTART:20240331T010000
END:DAYLIGHT
BEGIN:STANDARD
TZOFFSETFROM:+0300
TZOFFSETTO:+0200
TZNAME:EET
DTSTART:20241027T010000
END:STANDARD
END:VTIMEZONE
BEGIN:VEVENT
DTSTART;TZID=Europe/Helsinki:20230719T180000
DTEND;TZID=Europe/Helsinki:20230719T193000
DTSTAMP:20260421T123111
CREATED:20230627T125534Z
LAST-MODIFIED:20230627T125534Z
UID:10005929-1689789600-1689795000@www.heptown.com
SUMMARY:Sommarlund: I afton dans
DESCRIPTION:I över 50 år har Atle Big Band roat lundapubliken\, nu bjuder de upp till dans i sommarkvällen på Boklundens fantastiska dansgolv! Dansa\, handla god mat och dryck och njut av klassiska storbandspärlor i vidunderligt vacker miljö. \nEvenemanget har fri entré! Portarna öppnas kl 17\, storbandet börjar spela kl 18. \nBoklundens restaurang är öppen både före\, under och efter konserten och serverar välsmakande mat & dryck enligt menyn som publiceras på www.boklunden.se & https://www.facebook.com/Boklunden \nMeddela gärna köket hur många i sällskapet som vill äta till info@boklunden.se.
URL:https://www.heptown.com/calendar/sommarlund-i-afton-dans/
LOCATION:Boklunden Konferens & Restaurang\, Hällestad 351\, Lund\, 247 95\, SE
CATEGORIES:Lindy Hop,Öresund,Social Dance
ATTACH;FMTTYPE=image/jpeg:https://www.heptown.com/wp-content/uploads/2023/06/31624_image_351102545_277176071342908_5465362408908833962_n.jpg
END:VEVENT
BEGIN:VEVENT
DTSTART;TZID=Europe/Helsinki:20230423T150000
DTEND;TZID=Europe/Helsinki:20230423T150000
DTSTAMP:20260421T123111
CREATED:20230421T151936Z
LAST-MODIFIED:20230421T152445Z
UID:10005878-1682262000-1682262000@www.heptown.com
SUMMARY:Sunday Swing på Boklunden: Swing Street Orchestra
DESCRIPTION:Välkommen till vår första Sunday Swing\, där du får chansen att ta dig en svängom i Boklundens anrika rotunda till tonerna från fantastiska Swing Street Orchestra som tolkar evergreens och schlagers från 20\, 30- och 40-talen! Eller sippa på ditt afternoon tea och njut av tonerna från en förgången tid. Sångarna LinaMaria Bengtsson och Jerry Segerberg backas upp av bandet som består av Jens Lindström (bas)\, Nick Christie (gitarr)\, Joakim Adamsson (klarinett) och Erik Ask-Upmark (piano). Dörrarna öppnar kl 14:00\, restaurangen är öppen och erbjuder afternoon tea/fika. Biljettpris: 120:- (under 18 år 60:-). Biljetter säljs i dörren.
URL:https://www.heptown.com/calendar/sunday-swing-pa-boklunden-swing-street-orchestra/
LOCATION:Boklunden Konferens & Restaurang\, Hällestad 351\, Lund\, 247 95\, SE
CATEGORIES:Big event,Lindy Hop,Öresund
ATTACH;FMTTYPE=image/jpeg:https://www.heptown.com/wp-content/uploads/2023/04/31195_image_336297722_239673951869066_2388820137760285579_n.jpg
END:VEVENT
END:VCALENDAR